BEGIN:VCALENDAR
VERSION:2.0
PRODID:-//Athens Theatre | Deland, Florida - ECPv6.15.17.1//NONSGML v1.0//EN
CALSCALE:GREGORIAN
METHOD:PUBLISH
X-ORIGINAL-URL:https://athensdeland.com
X-WR-CALDESC:Events for Athens Theatre | Deland, Florida
REFRESH-INTERVAL;VALUE=DURATION:PT1H
X-Robots-Tag:noindex
X-PUBLISHED-TTL:PT1H
BEGIN:VTIMEZONE
TZID:America/New_York
BEGIN:DAYLIGHT
TZOFFSETFROM:-0500
TZOFFSETTO:-0400
TZNAME:EDT
DTSTART:20230312T070000
END:DAYLIGHT
BEGIN:STANDARD
TZOFFSETFROM:-0400
TZOFFSETTO:-0500
TZNAME:EST
DTSTART:20231105T060000
END:STANDARD
BEGIN:DAYLIGHT
TZOFFSETFROM:-0500
TZOFFSETTO:-0400
TZNAME:EDT
DTSTART:20240310T070000
END:DAYLIGHT
BEGIN:STANDARD
TZOFFSETFROM:-0400
TZOFFSETTO:-0500
TZNAME:EST
DTSTART:20241103T060000
END:STANDARD
BEGIN:DAYLIGHT
TZOFFSETFROM:-0500
TZOFFSETTO:-0400
TZNAME:EDT
DTSTART:20250309T070000
END:DAYLIGHT
BEGIN:STANDARD
TZOFFSETFROM:-0400
TZOFFSETTO:-0500
TZNAME:EST
DTSTART:20251102T060000
END:STANDARD
END:VTIMEZONE
BEGIN:VEVENT
DTSTART;TZID=America/New_York:20240803T143000
DTEND;TZID=America/New_York:20240803T170000
DTSTAMP:20260425T215948
CREATED:20240308T180148Z
LAST-MODIFIED:20250411T164125Z
UID:10002682-1722695400-1722704400@athensdeland.com
SUMMARY:Disney's Beauty & the Beast
DESCRIPTION:Music by Alan Menken\, Lyrics by Howard Ashman and Tim Rice\, Book by Linda Woolverton\n  \n“A Belle-Ringing Spectacle Where Love Blooms”\nStep into the enchanting world of Disney’s Beauty and the Beast\, where the brilliance of the Academy Award-winning animated feature comes to life in a theatrical tour de force. Immerse yourself in the magical melodies of Alan Menken and Tim Rice as you follow the captivating journey of spirited\, young Belle through the mysterious and enchanted castle ruled by the Beast. Against the backdrop of spellbinding musical numbers and breathtaking set designs\, experience a heartwarming tale of love\, acceptance\, and transformation that goes beyond the surface\, all set in a world where imagination knows no bounds. With a record-breaking Broadway run and nine Tony Award nominations\, this is not just a show—it’s a thrilling adventure into the heart of a timeless classic infused with a modern twist of global glam. Get ready to be swept away in the captivating magic of Beauty and the Beast! \nPresented through special arrangement with Music Theatre International (MTI) \nBeauty and the Beast is rated G and is suitable for a general audience. As it is a full-length musical\, it is recommended for ages six and up. Parental Guidance is suggested due to action sequences\, fighting\, frightening images\, loud noises\, and special effects. \nBUY TICKETS NOW \nBUY NOW AS PART OF A SEASON PACKAGE \nSPECIAL ASL/ENGLISH INTERPRETED PERFORMANCE ON FRIDAY 7/26]\nSPECIAL AUDIO DESCRIBED PERFORMANCE ON SUNDAY 7/28\nTO PURCHASE TICKETS IN THE SECTION WITH THE BEST SIGHT LINES TO THE INTERPRETERS\, PLEASE CONTACT THE BOX OFFICE EITHER AT 386-736-1500 OR EMAIL US AT BOXOFFICE@ATHENSDELAND.COM \n\nReserve Seating\nPreferred $35 (Row A-F\, Orchestra & CC-DD Center Balcony) \nAdult $30 – Senior $28\nStudent/Child $12 – Groups of 8 or more $25\nA $4.00 per ticket Processing charge is added to all purchases. \nAs the historic Athens Theatre does not have an elevator\, the balcony is not accessible to anyone with a wheelchair or walker. \nAll Patrons with special needs can contact the Box Office at 386-736-1500 for our wheelchair/walker accessible seating. \n\nSpecial Box Seat Package\nCatered exclusively by Joe Hearn Events\, The Elusive Grape\, Pat & Toni’s Sweet Things\, and 3 Smart Cookies. \n$475 – Price includes: \n\nUp to 11 seats in the Box Seat and Balcony area\nChoice of Red/White Wine\nCheese Platter\nChocolate Covered Strawberries\nCookies\n\nPlease contact the Box Office at 386-736-1500\, for this Package.\n(a $5 per seat processing fee is added to the cost of these packages)
URL:https://athensdeland.com/event/disneys-beauty-the-beast/2024-08-03/1/
LOCATION:FL
ATTACH;FMTTYPE=image/png:https://athensdeland.com/wp-content/uploads/2024/03/BB_Web3_SoldOut.png
END:VEVENT
BEGIN:VEVENT
DTSTART;TZID=America/New_York:20240803T193000
DTEND;TZID=America/New_York:20240803T220000
DTSTAMP:20260425T215948
CREATED:20240308T180148Z
LAST-MODIFIED:20250411T164125Z
UID:10002578-1722713400-1722722400@athensdeland.com
SUMMARY:Disney's Beauty & the Beast
DESCRIPTION:Music by Alan Menken\, Lyrics by Howard Ashman and Tim Rice\, Book by Linda Woolverton\n  \n“A Belle-Ringing Spectacle Where Love Blooms”\nStep into the enchanting world of Disney’s Beauty and the Beast\, where the brilliance of the Academy Award-winning animated feature comes to life in a theatrical tour de force. Immerse yourself in the magical melodies of Alan Menken and Tim Rice as you follow the captivating journey of spirited\, young Belle through the mysterious and enchanted castle ruled by the Beast. Against the backdrop of spellbinding musical numbers and breathtaking set designs\, experience a heartwarming tale of love\, acceptance\, and transformation that goes beyond the surface\, all set in a world where imagination knows no bounds. With a record-breaking Broadway run and nine Tony Award nominations\, this is not just a show—it’s a thrilling adventure into the heart of a timeless classic infused with a modern twist of global glam. Get ready to be swept away in the captivating magic of Beauty and the Beast! \nPresented through special arrangement with Music Theatre International (MTI) \nBeauty and the Beast is rated G and is suitable for a general audience. As it is a full-length musical\, it is recommended for ages six and up. Parental Guidance is suggested due to action sequences\, fighting\, frightening images\, loud noises\, and special effects. \nBUY TICKETS NOW \nBUY NOW AS PART OF A SEASON PACKAGE \nSPECIAL ASL/ENGLISH INTERPRETED PERFORMANCE ON FRIDAY 7/26]\nSPECIAL AUDIO DESCRIBED PERFORMANCE ON SUNDAY 7/28\nTO PURCHASE TICKETS IN THE SECTION WITH THE BEST SIGHT LINES TO THE INTERPRETERS\, PLEASE CONTACT THE BOX OFFICE EITHER AT 386-736-1500 OR EMAIL US AT BOXOFFICE@ATHENSDELAND.COM \n\nReserve Seating\nPreferred $35 (Row A-F\, Orchestra & CC-DD Center Balcony) \nAdult $30 – Senior $28\nStudent/Child $12 – Groups of 8 or more $25\nA $4.00 per ticket Processing charge is added to all purchases. \nAs the historic Athens Theatre does not have an elevator\, the balcony is not accessible to anyone with a wheelchair or walker. \nAll Patrons with special needs can contact the Box Office at 386-736-1500 for our wheelchair/walker accessible seating. \n\nSpecial Box Seat Package\nCatered exclusively by Joe Hearn Events\, The Elusive Grape\, Pat & Toni’s Sweet Things\, and 3 Smart Cookies. \n$475 – Price includes: \n\nUp to 11 seats in the Box Seat and Balcony area\nChoice of Red/White Wine\nCheese Platter\nChocolate Covered Strawberries\nCookies\n\nPlease contact the Box Office at 386-736-1500\, for this Package.\n(a $5 per seat processing fee is added to the cost of these packages)
URL:https://athensdeland.com/event/disneys-beauty-the-beast/2024-08-03/2/
LOCATION:FL
ATTACH;FMTTYPE=image/png:https://athensdeland.com/wp-content/uploads/2024/03/BB_Web3_SoldOut.png
END:VEVENT
END:VCALENDAR