BEGIN:VCALENDAR
VERSION:2.0
PRODID:-//Athens Theatre | Deland, Florida - ECPv6.15.17.1//NONSGML v1.0//EN
CALSCALE:GREGORIAN
METHOD:PUBLISH
X-ORIGINAL-URL:https://athensdeland.com
X-WR-CALDESC:Events for Athens Theatre | Deland, Florida
REFRESH-INTERVAL;VALUE=DURATION:PT1H
X-Robots-Tag:noindex
X-PUBLISHED-TTL:PT1H
BEGIN:VTIMEZONE
TZID:America/New_York
BEGIN:DAYLIGHT
TZOFFSETFROM:-0500
TZOFFSETTO:-0400
TZNAME:EDT
DTSTART:20230312T070000
END:DAYLIGHT
BEGIN:STANDARD
TZOFFSETFROM:-0400
TZOFFSETTO:-0500
TZNAME:EST
DTSTART:20231105T060000
END:STANDARD
BEGIN:DAYLIGHT
TZOFFSETFROM:-0500
TZOFFSETTO:-0400
TZNAME:EDT
DTSTART:20240310T070000
END:DAYLIGHT
BEGIN:STANDARD
TZOFFSETFROM:-0400
TZOFFSETTO:-0500
TZNAME:EST
DTSTART:20241103T060000
END:STANDARD
BEGIN:DAYLIGHT
TZOFFSETFROM:-0500
TZOFFSETTO:-0400
TZNAME:EDT
DTSTART:20250309T070000
END:DAYLIGHT
BEGIN:STANDARD
TZOFFSETFROM:-0400
TZOFFSETTO:-0500
TZNAME:EST
DTSTART:20251102T060000
END:STANDARD
END:VTIMEZONE
BEGIN:VEVENT
DTSTART;TZID=America/New_York:20240809T193000
DTEND;TZID=America/New_York:20240809T213000
DTSTAMP:20260425T214808
CREATED:20231017T205239Z
LAST-MODIFIED:20240528T182947Z
UID:10000806-1723231800-1723239000@athensdeland.com
SUMMARY:A Tribute to Tony Bennett Starring Steve Leeds
DESCRIPTION:Steve has been in huge demand\, and this is a night to remember for fans of Tony Bennett and the American Songbook. \n\n\n\n\n\n\n\nSteve’s 90-minute show includes Tony‘s greatest hits like\, Because of You\, Rags to Riches\, Old Devil Moon\, Love for Sale and Tony‘s signature song\, I Left My Heart in San Francisco.  \n\n\n\n\n\n\n\n\n\n\n\n\n\n\n\n\n\n\n\n\n\n\n\n\n\n\n\n\n\n\n\n\n“Keep singing kid. We need younger guys like you in the business. We need singers that can really sing the great standards.”-Tony Bennett \n\n\n\n\nNew York Daily News-“Barbra Streisand Approves!” \n\n\n“Barbra Streisand was beaming when Steve Leeds broke into “People” climaxing his show. All she could say was\, “Nice work\, I loved your show!” \n\n\n\n\nAtlanta Journal Constitution- \n\n\n“Steve has the voice\, the range and Tony‘s phrasing down to a T. Its Bennett‘s voice in his prime!” \n\n  \n\nRESERVE SEATING\nPreferred Reserved Seating $381st. 6 rows Orchestra & 2 Rows Center Balcony \nGeneral Reserved Seating $33 \nA $4.00 per ticket Processing charge is added to all purchases and we collect a 6.5% State and County Sales Tax \nDue to the fact that the Historic Athens Theatre does not have an elevator to the balcony. The balcony is not accessible to anyone with a wheelchair or walker. \nAll Patrons with special needs can contact the Box Office at 386-736-1500 for our wheelchair/walker accessible seating. \n\n\n\n\n\nSPECIAL BOX SEAT PACKAGE \nBOX SEATS AVAILABLE6 SEATS PER BOX SEAT AREA $270PLEASE CONTACT THE BOX OFFICE AT 386-736-1500
URL:https://athensdeland.com/event/a-tribute-to-tony-bennett-starring-steve-leads-tickets-available-04-2024/
LOCATION:FL
CATEGORIES:Concert/Performances/Events
ATTACH;FMTTYPE=image/png:https://athensdeland.com/wp-content/uploads/2023/10/Tony-Bennett_2024_Web.png
END:VEVENT
END:VCALENDAR