BEGIN:VCALENDAR
VERSION:2.0
PRODID:-//Athens Theatre | Deland, Florida - ECPv6.15.17.1//NONSGML v1.0//EN
CALSCALE:GREGORIAN
METHOD:PUBLISH
X-ORIGINAL-URL:https://athensdeland.com
X-WR-CALDESC:Events for Athens Theatre | Deland, Florida
REFRESH-INTERVAL;VALUE=DURATION:PT1H
X-Robots-Tag:noindex
X-PUBLISHED-TTL:PT1H
BEGIN:VTIMEZONE
TZID:America/New_York
BEGIN:DAYLIGHT
TZOFFSETFROM:-0500
TZOFFSETTO:-0400
TZNAME:EDT
DTSTART:20230312T070000
END:DAYLIGHT
BEGIN:STANDARD
TZOFFSETFROM:-0400
TZOFFSETTO:-0500
TZNAME:EST
DTSTART:20231105T060000
END:STANDARD
BEGIN:DAYLIGHT
TZOFFSETFROM:-0500
TZOFFSETTO:-0400
TZNAME:EDT
DTSTART:20240310T070000
END:DAYLIGHT
BEGIN:STANDARD
TZOFFSETFROM:-0400
TZOFFSETTO:-0500
TZNAME:EST
DTSTART:20241103T060000
END:STANDARD
BEGIN:DAYLIGHT
TZOFFSETFROM:-0500
TZOFFSETTO:-0400
TZNAME:EDT
DTSTART:20250309T070000
END:DAYLIGHT
BEGIN:STANDARD
TZOFFSETFROM:-0400
TZOFFSETTO:-0500
TZNAME:EST
DTSTART:20251102T060000
END:STANDARD
END:VTIMEZONE
BEGIN:VEVENT
DTSTART;TZID=America/New_York:20241005T140000
DTEND;TZID=America/New_York:20241005T150000
DTSTAMP:20260425T133919
CREATED:20240812T165348Z
LAST-MODIFIED:20240814T153826Z
UID:10002698-1728136800-1728140400@athensdeland.com
SUMMARY:The Cartoons of Max Fleischer
DESCRIPTION:Join us for a block of the most surreal and spookiest cartoons produced by Fleischer Studios featuring Betty Boop\, Bimbo the Dog & Koko the Clown!\nFleischer Studios created the iconic Betty Boop and was the first to animate both Popeye and Superman\, along with many other cartoons characters such as KoKo the Clown and Bimbo the dog.\n\nOver the last few years\, the Fleischer family has been acquiring and restoring the animated films of Max Fleischer and Fleischer Studios. They’ve been working with Paramount Pictures and archives around the world to create new 4K digital restorations from original source materials.\n\nTo date they have restored nearly 90 Fleischer cartoons\, dating from the earliest\, silent films in the 1920s up through the Superman cartoons of the early 1940s.\n\nThis show consists of an hour block of newly restored films and includes a Q&A with the Fleischer family for an inside look at the history and legacy of the studio
URL:https://athensdeland.com/event/the-cartoons-of-max-fleischer/
LOCATION:FL
ATTACH;FMTTYPE=image/png:https://athensdeland.com/wp-content/uploads/2024/08/Fleischer-Betty-Boop-Historic_Web.png
END:VEVENT
BEGIN:VEVENT
DTSTART;TZID=America/New_York:20241005T193000
DTEND;TZID=America/New_York:20241005T211500
DTSTAMP:20260425T133919
CREATED:20240308T204422Z
LAST-MODIFIED:20250411T164232Z
UID:10001616-1728156600-1728162900@athensdeland.com
SUMMARY:Dracula
DESCRIPTION:A play by Steven Dietz from the novel by Bram Stoker\n  \n “Don’t be afraid\, we don’t bite–well\, . . ..”\nPrepare to sink your teeth into a heart-pounding\, nail-biting thrill ride as you step into the chilling world of Dracula\, brought to life by Steven Dietz in a riveting adaptation of Bram Stoker’s timeless novel! This electrifying journey promises more than just suspense and seduction; it’s a wickedly theatrical experience that will keep you spellbound. As the narrative unfolds\, fear and fascination intertwine in a mesmerizing dance\, pulling you deeper into the dark\, mysterious depths of one of literature’s most iconic characters. Brace yourself for a blood-pumping adventure that transcends the ordinary\, leaving you caught in the haunting grip of anticipation. Join us for a spine-tingling exploration of the shadows\, where the line between reality and the supernatural blurs\, and Dracula’s sinister allure takes center stage\, beckoning you into the unknown with an insatiable thirst for more. \nPresented through special arrangement with Dramatists Play Service. \nSPECIAL AUDIO DESCRIBED PERFORMANCE ON SUNDAY 10/6\nSPECIAL ASL/ENGLISH INTERPRETED PERFORMANCE ON FRIDAY 10/4\nTO PURCHASE TICKETS IN THE SECTION WITH THE BEST SIGHT LINES TO THE INTERPRETERS\, PLEASE CONTACT THE BOX OFFICE EITHER AT 386-736-1500 OR EMAIL US AT BOXOFFICE@ATHENSDELAND.COM \nRated PG-13 for blood\, mature content\, and sexually suggestive moments.\n\n  \nBUY TICKETS NOW \nBUY NOW AS PART OF A SEASON PACKAGE \n\nReserve Seating\nPreferred $35 (Row A-F\, Orchestra & CC-DD Center Balcony) \nAdult $30 – Senior $28\nStudent/Child $12 – Groups of 8 or more $25\nA $5.00 per ticket Processing charge is added to all purchases. \nAs the historic Athens Theatre does not have an elevator\, the balcony is not accessible to anyone with a wheelchair or walker. \nAll Patrons with special needs can contact the Box Office at 386-736-1500 for our wheelchair/walker accessible seating. \n\nSpecial Box Seat Package\nCatered exclusively by Joe Hearn Events\, The Elusive Grape\, Pat & Toni’s Sweet Things\, and 3 Smart Cookies. \n$475 – Price includes: \n\nUp to 11 seats in the Box Seat and Balcony area\nChoice of Red/White Wine\nCheese Platter\nChocolate Covered Strawberries\nCookies\n\nPlease contact the Box Office at 386-736-1500\, for this Package.\n(a $5 per seat processing fee has already been included in the cost of these packages)
URL:https://athensdeland.com/event/dracula-2/2024-10-05/
LOCATION:FL
ATTACH;FMTTYPE=image/png:https://athensdeland.com/wp-content/uploads/2024/03/Dracula_Web2-1.png
END:VEVENT
END:VCALENDAR