BEGIN:VCALENDAR
VERSION:2.0
PRODID:-//Athens Theatre | Deland, Florida - ECPv6.15.17.1//NONSGML v1.0//EN
CALSCALE:GREGORIAN
METHOD:PUBLISH
X-ORIGINAL-URL:https://athensdeland.com
X-WR-CALDESC:Events for Athens Theatre | Deland, Florida
REFRESH-INTERVAL;VALUE=DURATION:PT1H
X-Robots-Tag:noindex
X-PUBLISHED-TTL:PT1H
BEGIN:VTIMEZONE
TZID:America/New_York
BEGIN:DAYLIGHT
TZOFFSETFROM:-0500
TZOFFSETTO:-0400
TZNAME:EDT
DTSTART:20230312T070000
END:DAYLIGHT
BEGIN:STANDARD
TZOFFSETFROM:-0400
TZOFFSETTO:-0500
TZNAME:EST
DTSTART:20231105T060000
END:STANDARD
BEGIN:DAYLIGHT
TZOFFSETFROM:-0500
TZOFFSETTO:-0400
TZNAME:EDT
DTSTART:20240310T070000
END:DAYLIGHT
BEGIN:STANDARD
TZOFFSETFROM:-0400
TZOFFSETTO:-0500
TZNAME:EST
DTSTART:20241103T060000
END:STANDARD
BEGIN:DAYLIGHT
TZOFFSETFROM:-0500
TZOFFSETTO:-0400
TZNAME:EDT
DTSTART:20250309T070000
END:DAYLIGHT
BEGIN:STANDARD
TZOFFSETFROM:-0400
TZOFFSETTO:-0500
TZNAME:EST
DTSTART:20251102T060000
END:STANDARD
END:VTIMEZONE
BEGIN:VEVENT
DTSTART;TZID=America/New_York:20241107T193000
DTEND;TZID=America/New_York:20241107T213000
DTSTAMP:20260425T114841
CREATED:20240709T174205Z
LAST-MODIFIED:20240916T170442Z
UID:10002679-1731007800-1731015000@athensdeland.com
SUMMARY:Sunny War
DESCRIPTION:This is not a tribute show.  This show is part of our original singer/songwriter series. \nSunny War\, the Nashville-based singer-songwriter and guitar virtuoso\, reveals her inner conflicts and musical innovations on her fourth album\, Anarchist Gospel. Balancing self-destructive tendencies with a drive for stability\, Sunny’s new work documents a period of intense emotional struggle. \nBlending ecstatic gospel\, dusty country blues\, thoughtful folk\, and rip-roaring rock and roll\, Sunny’s songs convey a powerful statement of survival. Her unique style\, honed since childhood influences like AC/DC and Bad Brains\, showcases her ability to merge acoustic punk with country blues. \nAnarchist Gospel emerged from a time of personal upheaval\, including a breakup\, isolation\, and health challenges. Yet\, Sunny channels these experiences into songs that oscillate between heartbreak and hard-won hope\, collaborating with notable artists like Allison Russell and Jim James to create a choir-like resonance. \nSunny’s music\, deeply rooted in her tumultuous past and raw emotions\, promises resilience and perseverance. This album is a testament to her journey through darkness and light\, embodying the essence of balancing the good and bad within us all. \nRESERVED SEATING\nPreferred Reserved Seating $30\n1st. 6 rows Orchestra & 2 Rows Center Balcony \nGeneral Reserved Seating $25 \nA $5.00 per ticket Processing charge is added to all purchases and we collect a 6.5% State and County Sales Tax \nDue to the fact that the Historic Athens Theatre does not have an elevator to the balcony. The balcony is not accessible to anyone with a wheelchair or walker. \nAll Patrons with special needs can contact the Box Office at 386-736-1500 for our wheelchair/walker accessible seating. \n\n\n\n\n\nSPECIAL BOX SEAT PACKAGE \nBOX SEATS AVAILABLE\n6 SEATS PER BOX SEAT AREA $270\nPLEASE CONTACT THE BOX OFFICE AT 386-736-1500
URL:https://athensdeland.com/event/sunny-war/
LOCATION:FL
ATTACH;FMTTYPE=image/png:https://athensdeland.com/wp-content/uploads/2024/07/Sunny-War_Web-2.png
END:VEVENT
END:VCALENDAR