BEGIN:VCALENDAR
VERSION:2.0
PRODID:-//Athens Theatre | Deland, Florida - ECPv6.15.17.1//NONSGML v1.0//EN
CALSCALE:GREGORIAN
METHOD:PUBLISH
X-WR-CALNAME:Athens Theatre | Deland, Florida
X-ORIGINAL-URL:https://athensdeland.com
X-WR-CALDESC:Events for Athens Theatre | Deland, Florida
REFRESH-INTERVAL;VALUE=DURATION:PT1H
X-Robots-Tag:noindex
X-PUBLISHED-TTL:PT1H
BEGIN:VTIMEZONE
TZID:America/New_York
BEGIN:DAYLIGHT
TZOFFSETFROM:-0500
TZOFFSETTO:-0400
TZNAME:EDT
DTSTART:20240310T070000
END:DAYLIGHT
BEGIN:STANDARD
TZOFFSETFROM:-0400
TZOFFSETTO:-0500
TZNAME:EST
DTSTART:20241103T060000
END:STANDARD
BEGIN:DAYLIGHT
TZOFFSETFROM:-0500
TZOFFSETTO:-0400
TZNAME:EDT
DTSTART:20250309T070000
END:DAYLIGHT
BEGIN:STANDARD
TZOFFSETFROM:-0400
TZOFFSETTO:-0500
TZNAME:EST
DTSTART:20251102T060000
END:STANDARD
BEGIN:DAYLIGHT
TZOFFSETFROM:-0500
TZOFFSETTO:-0400
TZNAME:EDT
DTSTART:20260308T070000
END:DAYLIGHT
BEGIN:STANDARD
TZOFFSETFROM:-0400
TZOFFSETTO:-0500
TZNAME:EST
DTSTART:20261101T060000
END:STANDARD
END:VTIMEZONE
BEGIN:VEVENT
DTSTART;TZID=America/New_York:20250124T193000
DTEND;TZID=America/New_York:20250124T210000
DTSTAMP:20260425T080758
CREATED:20240308T212947Z
LAST-MODIFIED:20250411T163811Z
UID:10002078-1737747000-1737752400@athensdeland.com
SUMMARY:Rodgers & Hammerstein’s Cinderella: Youth Edition
DESCRIPTION:Music by Richard Rodgers Book and Lyrics by Oscar Hammerstein II\n  \n“Losing a shoe can change your entire life ….”\nExplore the enchanting world of Rodgers & Hammerstein’s Cinderella: Youth Edition\, where the magic isn’t just in the ball gown! This reimagined fairy tale is a magical musical filled with charm\, laughter\, and timeless life lessons. Follow the journey of a passionate Cinderella as she navigates the challenges of self-discovery\, love\, and unexpected adventures. With beloved characters\, unforgettable tunes\, and a plot that sparkles with warmth and hilarity\, it’s a must-see for anyone seeking an escape into a world where dreams unfold\, lessons are embraced\, and enchantment reigns supreme. Brace yourself for a whirlwind of youthful exuberance and pure fun–Cinderella awaits with open arms\, ready to cast its spell on hearts of all ages. \nRodgers & Hammerstein’s Cinderella: Youth Edition is presented by arrangement with Concord Theatricals on behalf of The Rodgers & Hammerstein Organization. www.concordtheatricals.com \nSPECIAL AUDIO DESCRIBED PERFORMANCE ON SUNDAY 2/9\nSPECIAL ASL/ENGLISH INTERPRETED PERFORMANCE ON FRIDAY 2/7\nTO PURCHASE TICKETS IN THE SECTION WITH THE BEST SIGHT LINES TO THE INTERPRETERS\, PLEASE CONTACT THE BOX OFFICE EITHER AT 386-736-1500 OR EMAIL US AT BOXOFFICE@ATHENSDELAND.COM \n\nBUY TICKETS NOW\nBUY NOW AS PART OF A SEASON PACKAGE \n\nReserved Seating\nPreferred $35 (Row A-F\, Orchestra & CC-DD Center Balcony) \nAdult $30 – Senior $28\nStudent/Child $12 – Groups of 8 or more $25\nA $5.00 per ticket Processing charge is added to all purchases. \nAs the historic Athens Theatre does not have an elevator\, the balcony is not accessible to anyone with a wheelchair or walker. \nAll Patrons with special needs can contact the Box Office at 386-736-1500 for our wheelchair/walker accessible seating. \n\nSpecial Box Seat Package\nCatered exclusively by Joe Hearn Events\, The Elusive Grape\, Pat & Toni’s Sweet Things\, and 3 Smart Cookies. \n$475 – Price includes: \n\nUp to 11 seats in the Box Seat and Balcony area\nChoice of Red/White Wine\nCheese Platter\nChocolate Covered Strawberries\nCookies\n\nPlease contact the Box Office at 386-736-1500\, for this Package.\n(a $5 per seat processing fee is added to the cost of these packages)
URL:https://athensdeland.com/event/rodgers-hammersteins-cinderella-youth-edition/2025-01-24/
LOCATION:FL
ATTACH;FMTTYPE=image/png:https://athensdeland.com/wp-content/uploads/2024/03/Cinderella_Web_2.png
END:VEVENT
END:VCALENDAR