BEGIN:VCALENDAR
VERSION:2.0
PRODID:-//Athens Theatre | Deland, Florida - ECPv6.15.17.1//NONSGML v1.0//EN
CALSCALE:GREGORIAN
METHOD:PUBLISH
X-ORIGINAL-URL:https://athensdeland.com
X-WR-CALDESC:Events for Athens Theatre | Deland, Florida
REFRESH-INTERVAL;VALUE=DURATION:PT1H
X-Robots-Tag:noindex
X-PUBLISHED-TTL:PT1H
BEGIN:VTIMEZONE
TZID:America/New_York
BEGIN:DAYLIGHT
TZOFFSETFROM:-0500
TZOFFSETTO:-0400
TZNAME:EDT
DTSTART:20240310T070000
END:DAYLIGHT
BEGIN:STANDARD
TZOFFSETFROM:-0400
TZOFFSETTO:-0500
TZNAME:EST
DTSTART:20241103T060000
END:STANDARD
BEGIN:DAYLIGHT
TZOFFSETFROM:-0500
TZOFFSETTO:-0400
TZNAME:EDT
DTSTART:20250309T070000
END:DAYLIGHT
BEGIN:STANDARD
TZOFFSETFROM:-0400
TZOFFSETTO:-0500
TZNAME:EST
DTSTART:20251102T060000
END:STANDARD
BEGIN:DAYLIGHT
TZOFFSETFROM:-0500
TZOFFSETTO:-0400
TZNAME:EDT
DTSTART:20260308T070000
END:DAYLIGHT
BEGIN:STANDARD
TZOFFSETFROM:-0400
TZOFFSETTO:-0500
TZNAME:EST
DTSTART:20261101T060000
END:STANDARD
END:VTIMEZONE
BEGIN:VEVENT
DTSTART;TZID=America/New_York:20250721T090000
DTEND;TZID=America/New_York:20250721T160000
DTSTAMP:20260424T165901
CREATED:20240215T215421Z
LAST-MODIFIED:20250220T174631Z
UID:10001352-1753088400-1753113600@athensdeland.com
SUMMARY:LOVE STORY: THE MUSIC OF TAYLOR SWIFT
DESCRIPTION:Rising 6 – 12th Grade | Mon – Thur: 9am – 4pm & Fri: 9am – 2:30pm  | $285    \n \nJuly 21 – 25 \nSwifties! This camp is for you! It’s no secret that Taylor Swift is one of the most iconic musicians of the 21st Century. With hit albums like Red\, Fearless\, 1989\, Midnights\, Lover\, and Folklore\, the list goes on and on. Join us as we sing and dance to songs by your favorite artist – Taylor Swift! \n\nENROLL NOW
URL:https://athensdeland.com/event/love-story-the-music-of-taylor-swift/
LOCATION:FL
CATEGORIES:Summer Camps,Youth Activities
ATTACH;FMTTYPE=image/png:https://athensdeland.com/wp-content/uploads/2025/02/LoveStory_Web.png
END:VEVENT
END:VCALENDAR