BEGIN:VCALENDAR
VERSION:2.0
PRODID:-//Athens Theatre | Deland, Florida - ECPv6.15.17.1//NONSGML v1.0//EN
CALSCALE:GREGORIAN
METHOD:PUBLISH
X-ORIGINAL-URL:https://athensdeland.com
X-WR-CALDESC:Events for Athens Theatre | Deland, Florida
REFRESH-INTERVAL;VALUE=DURATION:PT1H
X-Robots-Tag:noindex
X-PUBLISHED-TTL:PT1H
BEGIN:VTIMEZONE
TZID:America/New_York
BEGIN:DAYLIGHT
TZOFFSETFROM:-0500
TZOFFSETTO:-0400
TZNAME:EDT
DTSTART:20240310T070000
END:DAYLIGHT
BEGIN:STANDARD
TZOFFSETFROM:-0400
TZOFFSETTO:-0500
TZNAME:EST
DTSTART:20241103T060000
END:STANDARD
BEGIN:DAYLIGHT
TZOFFSETFROM:-0500
TZOFFSETTO:-0400
TZNAME:EDT
DTSTART:20250309T070000
END:DAYLIGHT
BEGIN:STANDARD
TZOFFSETFROM:-0400
TZOFFSETTO:-0500
TZNAME:EST
DTSTART:20251102T060000
END:STANDARD
BEGIN:DAYLIGHT
TZOFFSETFROM:-0500
TZOFFSETTO:-0400
TZNAME:EDT
DTSTART:20260308T070000
END:DAYLIGHT
BEGIN:STANDARD
TZOFFSETFROM:-0400
TZOFFSETTO:-0500
TZNAME:EST
DTSTART:20261101T060000
END:STANDARD
END:VTIMEZONE
BEGIN:VEVENT
DTSTART;TZID=America/New_York:20251022T193000
DTEND;TZID=America/New_York:20251022T213000
DTSTAMP:20260424T114629
CREATED:20230926T205848Z
LAST-MODIFIED:20250808T153008Z
UID:10000802-1761161400-1761168600@athensdeland.com
SUMMARY:BAD MOON RISING\, THE TRIBUTE TO CREEDENCE CLEARWATER REVIVAL!
DESCRIPTION:Bad Moon Rising\, a Classic Tributes Live band\, invites you to take a trip down the Mississippi Delta as they pay tribute to one of the greatest rock bands North America has ever produced—Creedence Clearwater Revival. CCR was an American roots rock band whose sound blended southern\, country\, and blues rock. This unique mix\, along with the distinctive vocals\, wailing guitar\, and songwriting style of John Fogerty\, gave birth to what became known as swamp rock\, with CCR as its pioneers. \nDuring a prolific four-year period between 1969 and 1971\, CCR released fourteen consecutive top 10 singles and five consecutive top 10 albums\, including two that reached number one. Bad Moon Rising will take you on a journey through the band’s headlining performance at the 1969 Woodstock Festival\, their rise to fame\, and their eventual acrimonious disbandment in 1972. \nJoin us as we travel with the band up around the bend\, run through the jungle\, and venture into the bayou—heading home to Green River. Let’s look out the backdoor\, down on the corner\, and watch the rain fall. Hey\, tonight we’ll all be the fortunate ones\, and proud as Mary! \nHere’s what past guests have to say: \n“The music was spot on! The group Bad Moon Rising: A Tribute to Creedence Clearwater Revival did an outstanding job recreating some of the original band’s greatest hits\, delivering rich vocals and smooth instrumental renditions. It was a great show—I thoroughly enjoyed it!” – Angela K. \n“They were awesome and punctual\, which I really appreciated. This was my second time seeing them at the Athens\, and both times they did not disappoint!” – Robert G. \n“My rating is a 10! This was my first time attending\, and I had a great time. I definitely plan to come back next year.” – Samantha V. \n\n\n\n\n\n\n\nRESERVE SEATING\nPreferred Reserved Seating $401st. 6 rows Orchestra & 2 Rows Center Balcony \nGeneral Reserved Seating $35 \nA $5.00 per ticket Processing charge is added to all purchases and we collect a 6.5% State and County Sales Tax \nDue to the fact that the Historic Athens Theatre does not have an elevator to the balcony. The balcony is not accessible to anyone with a wheelchair or walker. \nAll Patrons with special needs can contact the Box Office at 386-736-1500 for our wheelchair/walker accessible seating. \n\n\n\n\n\nSPECIAL BOX SEAT PACKAGE \nBOX SEATS AVAILABLE6 SEATS PER BOX SEAT AREA $300PLEASE CONTACT THE BOX OFFICE AT 386-736-1500
URL:https://athensdeland.com/event/bad-moon-rising-the-tribute-to-creedence-clearwater-revival/
LOCATION:FL
CATEGORIES:Concert/Performances/Events
ATTACH;FMTTYPE=image/png:https://athensdeland.com/wp-content/uploads/2023/09/CCR-2025_Web.png
END:VEVENT
END:VCALENDAR