BEGIN:VCALENDAR
VERSION:2.0
PRODID:-//Athens Theatre | Deland, Florida - ECPv6.15.17.1//NONSGML v1.0//EN
CALSCALE:GREGORIAN
METHOD:PUBLISH
X-WR-CALNAME:Athens Theatre | Deland, Florida
X-ORIGINAL-URL:https://athensdeland.com
X-WR-CALDESC:Events for Athens Theatre | Deland, Florida
REFRESH-INTERVAL;VALUE=DURATION:PT1H
X-Robots-Tag:noindex
X-PUBLISHED-TTL:PT1H
BEGIN:VTIMEZONE
TZID:America/New_York
BEGIN:DAYLIGHT
TZOFFSETFROM:-0500
TZOFFSETTO:-0400
TZNAME:EDT
DTSTART:20240310T070000
END:DAYLIGHT
BEGIN:STANDARD
TZOFFSETFROM:-0400
TZOFFSETTO:-0500
TZNAME:EST
DTSTART:20241103T060000
END:STANDARD
BEGIN:DAYLIGHT
TZOFFSETFROM:-0500
TZOFFSETTO:-0400
TZNAME:EDT
DTSTART:20250309T070000
END:DAYLIGHT
BEGIN:STANDARD
TZOFFSETFROM:-0400
TZOFFSETTO:-0500
TZNAME:EST
DTSTART:20251102T060000
END:STANDARD
BEGIN:DAYLIGHT
TZOFFSETFROM:-0500
TZOFFSETTO:-0400
TZNAME:EDT
DTSTART:20260308T070000
END:DAYLIGHT
BEGIN:STANDARD
TZOFFSETFROM:-0400
TZOFFSETTO:-0500
TZNAME:EST
DTSTART:20261101T060000
END:STANDARD
END:VTIMEZONE
BEGIN:VEVENT
DTSTART;TZID=America/New_York:20251025T193000
DTEND;TZID=America/New_York:20251025T213000
DTSTAMP:20260424T114444
CREATED:20231002T203626Z
LAST-MODIFIED:20250918T192803Z
UID:10003384-1761420600-1761427800@athensdeland.com
SUMMARY:PHANTASMAGORIA XVI: “Hauntingly Whimsical Tales”
DESCRIPTION:Celebrating 100 Years of Author and Artist \nEDWARD GOREY \n Join the members of Phantasmagoria as they take a very special journey through the tales of iconic Artist and Author Edward Gorey in celebration of his 100th Birthday Year! \nPhantasmagoria’s signature blend of Evocative Storytelling\, Phantastical Dance\, Puppetry\, Projections\, Original Music and MORE will bring to life on stage the humorous\, mischievous\, mysterious\, tragic\, ironic\, and hauntingly delightful visions of  Gorey’s distinctive “eerie yet whimsical worlds” * that have charmed readers for decades since they were first published. \nFrom the tragedy of “The Gilded Bat” to the horrified exclamations of anyone who comes into the presence of “The Beastly Baby”. . .and from the frolicsome yet dangerous antics of “The Wuggly Ump” to the humorously ghastly deaths of “The Gashlycrumb Tinies” and SO many more richly crafted tales\, Phantasmagoria and its audiences will relish in the works of this prolific visionary! \n“Edward Gorey’s extraordinary imagination continues to captivate and inspire audiences worldwide. Renowned for his intricate pen-and-ink drawings\, clever storytelling\, and a distinctive blend of elegance and playful whimsy\, he left an indelible mark on the worlds of art\, literature\, and design.” – www.EdwardGorey.org \nThe perfect way to celebrate the 2025 Halloween season! \nWorks included are fully licensed through the Edward Gorey Charitable Trust. All related titles\, characters\, and logos are property of The Edward Gorey Charitable Trust. \nAll Rights Reserved \n“The mission of the Edward Gorey Charitable Trust is to honor the creative and philanthropic legacy of Edward Gorey through preservation and promotion of his literary and artistic works and support of the animal welfare causes to which he was devoted.” – \nRESERVE SEATING\nPreferred Reserved Seating $40\n1st. 5 rows Center Orchestra & 2 Rows Center Balcony \nGeneral Reserved Seating $35 \nA $5.00 per ticket Processing charge is added to all purchases and we collect a 6.5% State and County Sales Tax \nDue to the fact that the Historic Athens Theatre does not have an elevator to the balcony. The balcony is not accessible to anyone with a wheelchair or walker. \nAll Patrons with special needs can contact the Box Office at 386-736-1500 for our wheelchair/walker accessible seating. \nSpecial Box Seat Package \nBOX SEATS AVAILABLE\n6 SEATS PER BOX SEAT AREA $300\nPLEASE CONTACT THE BOX OFFICE AT 386-736-1500
URL:https://athensdeland.com/event/phantasmagoria-xvi-edward-gorey/2025-10-25/
LOCATION:FL
ATTACH;FMTTYPE=image/png:https://athensdeland.com/wp-content/uploads/2023/10/Phantasmagoria-XVI_Halloween-2025_web2-1-1.png
END:VEVENT
END:VCALENDAR