BEGIN:VCALENDAR
VERSION:2.0
PRODID:-//Athens Theatre | Deland, Florida - ECPv6.15.17.1//NONSGML v1.0//EN
CALSCALE:GREGORIAN
METHOD:PUBLISH
X-WR-CALNAME:Athens Theatre | Deland, Florida
X-ORIGINAL-URL:https://athensdeland.com
X-WR-CALDESC:Events for Athens Theatre | Deland, Florida
REFRESH-INTERVAL;VALUE=DURATION:PT1H
X-Robots-Tag:noindex
X-PUBLISHED-TTL:PT1H
BEGIN:VTIMEZONE
TZID:America/New_York
BEGIN:DAYLIGHT
TZOFFSETFROM:-0500
TZOFFSETTO:-0400
TZNAME:EDT
DTSTART:20240310T070000
END:DAYLIGHT
BEGIN:STANDARD
TZOFFSETFROM:-0400
TZOFFSETTO:-0500
TZNAME:EST
DTSTART:20241103T060000
END:STANDARD
BEGIN:DAYLIGHT
TZOFFSETFROM:-0500
TZOFFSETTO:-0400
TZNAME:EDT
DTSTART:20250309T070000
END:DAYLIGHT
BEGIN:STANDARD
TZOFFSETFROM:-0400
TZOFFSETTO:-0500
TZNAME:EST
DTSTART:20251102T060000
END:STANDARD
BEGIN:DAYLIGHT
TZOFFSETFROM:-0500
TZOFFSETTO:-0400
TZNAME:EDT
DTSTART:20260308T070000
END:DAYLIGHT
BEGIN:STANDARD
TZOFFSETFROM:-0400
TZOFFSETTO:-0500
TZNAME:EST
DTSTART:20261101T060000
END:STANDARD
END:VTIMEZONE
BEGIN:VEVENT
DTSTART;TZID=America/New_York:20251217T143000
DTEND;TZID=America/New_York:20251217T163000
DTSTAMP:20260424T082458
CREATED:20190829T180524Z
LAST-MODIFIED:20250808T153218Z
UID:10003260-1765981800-1765989000@athensdeland.com
SUMMARY:CHRISTMAS SWING WITH THE GREAT AMERICAN BIG BAND
DESCRIPTION:HO HO HO! \nGet ready for the show! \nThe Great American Big Band is back at the historic Athens Theater with their timeless holiday favorites.  Join the big band along with their friends\, Bing\, Rosemary\, Cab\, Glenn\, Artie and Benny\, as they help ring-in the season!  Playing some of the greatest holiday hits of all time\, these cherished songs are sure to pave the way for the festivities.  Including classic selections from the 30s\, 40s\, 50s\, and 60s\, this spectacular tribute is sure to keep things merry and bright! \nHere’s what past guests have to say: \n“The Orlando Big Band Holiday concert gets rated with a BIG 10! Last year\, I took my mom (age 92)\, her husband (age 94)\, and my sister to the concert\, and everyone was excited to attend again this year. To find out this year that the musicians are all volunteers\, who have supplied over 4\,000 musical instruments to children\, was amazing!” — Margaret D. \n“It was an amazing and entertaining experience. The performers were extremely talented and seemed to enjoy everything that they did. It was wonderful that the band was made up of Central Florida volunteer players.” — Robert L. \n“Last year my husband and I went to their performance. I loved it so much it had me in tears. This year we treated our whole family\, it was our Christmas present to them. Everyone was so impressed and loved it so much! Thank you so much for coming out. Our new family tradition.” — Sarah P. \n“Rate it a 10. We enjoyed it thoroughly! Had our 2 grandchildren with us\, ages 6 & 2\, and they were dancing around their seats. They wanted the band to come to their house.” — Jessica M. \n\nRESERVED SEATING\nPreferred Reserved Seating $40\n1st. 6 rows Orchestra & 2 Rows Center Balcony \nAdult $35\nSeniors/Veterans $28\nChild $11 \nA $5.00 per ticket Processing charge is added to all purchases and we collect a 6.5% State and County Sales Tax \n\nSPECIAL BOX SEAT PACKAGE\n6 SEATS PER BOX SEAT AREA $300\nPLEASE CONTACT THE BOX OFFICE AT 386-736-1500 \nDue to the fact that the Historic Athens Theatre does not have an elevator to the balcony. The balcony is not accessible to anyone with a wheelchair or walker. \nAll Patrons with special needs can contact the Box Office at 386-736-1500 for our wheelchair/walker accessible seating.
URL:https://athensdeland.com/event/holiday-favorites/2025-12-17/1/
LOCATION:FL
CATEGORIES:Concert/Performances/Events
ATTACH;FMTTYPE=image/png:https://athensdeland.com/wp-content/uploads/2019/08/TGABigBand_Xmas-2025_Web.png
END:VEVENT
BEGIN:VEVENT
DTSTART;TZID=America/New_York:20251217T190000
DTEND;TZID=America/New_York:20251217T210000
DTSTAMP:20260424T082458
CREATED:20190829T180524Z
LAST-MODIFIED:20250808T153218Z
UID:10003261-1765998000-1766005200@athensdeland.com
SUMMARY:CHRISTMAS SWING WITH THE GREAT AMERICAN BIG BAND
DESCRIPTION:HO HO HO! \nGet ready for the show! \nThe Great American Big Band is back at the historic Athens Theater with their timeless holiday favorites.  Join the big band along with their friends\, Bing\, Rosemary\, Cab\, Glenn\, Artie and Benny\, as they help ring-in the season!  Playing some of the greatest holiday hits of all time\, these cherished songs are sure to pave the way for the festivities.  Including classic selections from the 30s\, 40s\, 50s\, and 60s\, this spectacular tribute is sure to keep things merry and bright! \nHere’s what past guests have to say: \n“The Orlando Big Band Holiday concert gets rated with a BIG 10! Last year\, I took my mom (age 92)\, her husband (age 94)\, and my sister to the concert\, and everyone was excited to attend again this year. To find out this year that the musicians are all volunteers\, who have supplied over 4\,000 musical instruments to children\, was amazing!” — Margaret D. \n“It was an amazing and entertaining experience. The performers were extremely talented and seemed to enjoy everything that they did. It was wonderful that the band was made up of Central Florida volunteer players.” — Robert L. \n“Last year my husband and I went to their performance. I loved it so much it had me in tears. This year we treated our whole family\, it was our Christmas present to them. Everyone was so impressed and loved it so much! Thank you so much for coming out. Our new family tradition.” — Sarah P. \n“Rate it a 10. We enjoyed it thoroughly! Had our 2 grandchildren with us\, ages 6 & 2\, and they were dancing around their seats. They wanted the band to come to their house.” — Jessica M. \n\nRESERVED SEATING\nPreferred Reserved Seating $40\n1st. 6 rows Orchestra & 2 Rows Center Balcony \nAdult $35\nSeniors/Veterans $28\nChild $11 \nA $5.00 per ticket Processing charge is added to all purchases and we collect a 6.5% State and County Sales Tax \n\nSPECIAL BOX SEAT PACKAGE\n6 SEATS PER BOX SEAT AREA $300\nPLEASE CONTACT THE BOX OFFICE AT 386-736-1500 \nDue to the fact that the Historic Athens Theatre does not have an elevator to the balcony. The balcony is not accessible to anyone with a wheelchair or walker. \nAll Patrons with special needs can contact the Box Office at 386-736-1500 for our wheelchair/walker accessible seating.
URL:https://athensdeland.com/event/holiday-favorites/2025-12-17/2/
LOCATION:FL
CATEGORIES:Concert/Performances/Events
ATTACH;FMTTYPE=image/png:https://athensdeland.com/wp-content/uploads/2019/08/TGABigBand_Xmas-2025_Web.png
END:VEVENT
END:VCALENDAR