BEGIN:VCALENDAR
VERSION:2.0
PRODID:-//Athens Theatre | Deland, Florida - ECPv6.15.17.1//NONSGML v1.0//EN
CALSCALE:GREGORIAN
METHOD:PUBLISH
X-WR-CALNAME:Athens Theatre | Deland, Florida
X-ORIGINAL-URL:https://athensdeland.com
X-WR-CALDESC:Events for Athens Theatre | Deland, Florida
REFRESH-INTERVAL;VALUE=DURATION:PT1H
X-Robots-Tag:noindex
X-PUBLISHED-TTL:PT1H
BEGIN:VTIMEZONE
TZID:America/New_York
BEGIN:DAYLIGHT
TZOFFSETFROM:-0500
TZOFFSETTO:-0400
TZNAME:EDT
DTSTART:20240310T070000
END:DAYLIGHT
BEGIN:STANDARD
TZOFFSETFROM:-0400
TZOFFSETTO:-0500
TZNAME:EST
DTSTART:20241103T060000
END:STANDARD
BEGIN:DAYLIGHT
TZOFFSETFROM:-0500
TZOFFSETTO:-0400
TZNAME:EDT
DTSTART:20250309T070000
END:DAYLIGHT
BEGIN:STANDARD
TZOFFSETFROM:-0400
TZOFFSETTO:-0500
TZNAME:EST
DTSTART:20251102T060000
END:STANDARD
BEGIN:DAYLIGHT
TZOFFSETFROM:-0500
TZOFFSETTO:-0400
TZNAME:EDT
DTSTART:20260308T070000
END:DAYLIGHT
BEGIN:STANDARD
TZOFFSETFROM:-0400
TZOFFSETTO:-0500
TZNAME:EST
DTSTART:20261101T060000
END:STANDARD
END:VTIMEZONE
BEGIN:VEVENT
DTSTART;TZID=America/New_York:20251219T193000
DTEND;TZID=America/New_York:20251219T210000
DTSTAMP:20260424T082521
CREATED:20251028T200404Z
LAST-MODIFIED:20251111T174011Z
UID:10003702-1766172600-1766178000@athensdeland.com
SUMMARY:Stars of Broadway\, Voices of Tomorrow: A Holiday Concert Fundraiser
DESCRIPTION:If you missed Jenny DiNoia’s show-stopping performance in last spring’s Green for Green Wicked extravaganza\, here’s your chance to see her shine once again—this time in a brand-new holiday concert alongside fellow Broadway artist Paul Peglar (tick\, tick…BOOM!). \nTogether\, they’ll bring the lights\, energy\, and artistry of Broadway straight to DeLand for a dazzling\, one-night-only performance at the historic Athens Theatre. \nExperience the magic as these acclaimed performers share the stage with talented students from the Athens Theatre Youth Academy in a heartwarming celebration of music\, mentorship\, and the joy of the season. \nThis unforgettable evening blends Broadway brilliance with the inspiring voices of tomorrow—an uplifting holiday experience for the entire community. \n\nReserved Seating \nPreferred $50 (Row A-F\, Orchestra & CC-DD Center Balcony) \nAdult $40\nStudent/Child $30\nA $5.00 per ticket Processing charge is added to all purchases. \nAs the historic Athens Theatre does not have an elevator\, the balcony is not accessible to anyone with a wheelchair or walker. \nAll Patrons with special needs can contact the Box Office at 386-736-1500 for our wheelchair/walker accessible seating. \nSpecial Box Seat Package \nCatered exclusively by Joe Hearn Events\, The Elusive Grape\, Pat & Toni’s Sweet Things\, and 3 Smart Cookies. \n$1000 – Price includes: \n\nUp to 11 seats in the Box Seat and Balcony area\nChoice of Red/White Wine\nCheese Platter\nChocolate Covered Strawberries\nCookies\n\nPlease contact the Box Office at 386-736-1500\, for this Package.\n(a $5 per seat processing fee is added to the cost of these packages)
URL:https://athensdeland.com/event/stars-of-broadway-voices-of-tomorrow-a-holiday-concert/
LOCATION:FL
ATTACH;FMTTYPE=image/png:https://athensdeland.com/wp-content/uploads/2025/10/HolidayFundraiser_Xmas2025_Web-2.png
END:VEVENT
END:VCALENDAR