BEGIN:VCALENDAR
VERSION:2.0
PRODID:-//Athens Theatre | Deland, Florida - ECPv6.15.17.1//NONSGML v1.0//EN
CALSCALE:GREGORIAN
METHOD:PUBLISH
X-ORIGINAL-URL:https://athensdeland.com
X-WR-CALDESC:Events for Athens Theatre | Deland, Florida
REFRESH-INTERVAL;VALUE=DURATION:PT1H
X-Robots-Tag:noindex
X-PUBLISHED-TTL:PT1H
BEGIN:VTIMEZONE
TZID:America/New_York
BEGIN:DAYLIGHT
TZOFFSETFROM:-0500
TZOFFSETTO:-0400
TZNAME:EDT
DTSTART:20240310T070000
END:DAYLIGHT
BEGIN:STANDARD
TZOFFSETFROM:-0400
TZOFFSETTO:-0500
TZNAME:EST
DTSTART:20241103T060000
END:STANDARD
BEGIN:DAYLIGHT
TZOFFSETFROM:-0500
TZOFFSETTO:-0400
TZNAME:EDT
DTSTART:20250309T070000
END:DAYLIGHT
BEGIN:STANDARD
TZOFFSETFROM:-0400
TZOFFSETTO:-0500
TZNAME:EST
DTSTART:20251102T060000
END:STANDARD
BEGIN:DAYLIGHT
TZOFFSETFROM:-0500
TZOFFSETTO:-0400
TZNAME:EDT
DTSTART:20260308T070000
END:DAYLIGHT
BEGIN:STANDARD
TZOFFSETFROM:-0400
TZOFFSETTO:-0500
TZNAME:EST
DTSTART:20261101T060000
END:STANDARD
END:VTIMEZONE
BEGIN:VEVENT
DTSTART;TZID=America/New_York:20251221T140000
DTEND;TZID=America/New_York:20251221T160000
DTSTAMP:20260424T083702
CREATED:20190829T175958Z
LAST-MODIFIED:20251103T145107Z
UID:10003270-1766325600-1766332800@athensdeland.com
SUMMARY:Phantasmagoria's "A Very Dickens Christmas!"
DESCRIPTION:Join Victorian Performance Troupe PHANTASMAGORIA as they return to their celebrated adaptation of “A Christmas Carol” along with other Christmas Ghost Stories all from the mind of Charles Dickens in their 2025 Holiday Tour of:  \n“A Very Dickens Christmas!” \n“A Christmas Carol”  \nand MORE Ghost Stories from Charles Dickens \nA wonderfully “Spirited” way to celebrate the year end festivities with Phantasmagoria’s evocative storytellers\, dancers\, and performers as they bring the heartwarming haunts of Charles Dickens to glorious life on stage. \nFrom the well known and loved “A Christmas Carol” to hidden gems from Dickens including “The Haunted Man and the Ghost’s Bargain”\,  \n“The Goblins who Stole a Sexton”\, “What Christmas is as We Grow Older” \nand MUCH more! \n“Phantasmagoria invites you to gather round the Hearth this Holiday Season for a festive journey through the Holiday Ghost stories of Charles Dickens! \n“— eloquent\, with playful and sparkling humor\, and just the right amount of pathos to leave you cheering Scrooge on by the end.”  –   Michael Freeman\, Freeline Media Orlando \nPlease note there are haunted and “ghostly” apparitions involved.  Parental discretion advised. \n\nRESERVED SEATING \nPreferred Reserved Seating $40\n1st. 6 rows Orchestra & 2 Rows Center Balcony \nGeneral Reserved Seating $35 \nA $5.00 per ticket Processing charge is added to all purchases and we collect a 6.5% State and County Sales Tax \nDue to the fact that the Historic Athens Theatre does not have an elevator to the balcony. The balcony is not accessible to anyone with a wheelchair or walker. \nAll Patrons with special needs can contact the Box Office at 386-736-1500 for our wheelchair/walker accessible seating. \n\nSPECIAL BOX SEAT PACKAGE \nBOX SEATS AVAILABLE\n6 SEATS PER BOX SEAT AREA $300\nPLEASE CONTACT THE BOX OFFICE AT 386-736-1500
URL:https://athensdeland.com/event/a-most-haunted-victorian-christmas/2025-12-21/1/
LOCATION:Athens Theatre\, 124 N Florida Ave\, DeLand\, FL\, 32720\, United States
CATEGORIES:Concert/Performances/Events
ATTACH;FMTTYPE=image/png:https://athensdeland.com/wp-content/uploads/2019/08/Phantasmagoria_XMas-2025_Web2.png
END:VEVENT
BEGIN:VEVENT
DTSTART;TZID=America/New_York:20251221T190000
DTEND;TZID=America/New_York:20251221T210000
DTSTAMP:20260424T083702
CREATED:20190829T175958Z
LAST-MODIFIED:20251103T145107Z
UID:10003271-1766343600-1766350800@athensdeland.com
SUMMARY:Phantasmagoria's "A Very Dickens Christmas!"
DESCRIPTION:Join Victorian Performance Troupe PHANTASMAGORIA as they return to their celebrated adaptation of “A Christmas Carol” along with other Christmas Ghost Stories all from the mind of Charles Dickens in their 2025 Holiday Tour of:  \n“A Very Dickens Christmas!” \n“A Christmas Carol”  \nand MORE Ghost Stories from Charles Dickens \nA wonderfully “Spirited” way to celebrate the year end festivities with Phantasmagoria’s evocative storytellers\, dancers\, and performers as they bring the heartwarming haunts of Charles Dickens to glorious life on stage. \nFrom the well known and loved “A Christmas Carol” to hidden gems from Dickens including “The Haunted Man and the Ghost’s Bargain”\,  \n“The Goblins who Stole a Sexton”\, “What Christmas is as We Grow Older” \nand MUCH more! \n“Phantasmagoria invites you to gather round the Hearth this Holiday Season for a festive journey through the Holiday Ghost stories of Charles Dickens! \n“— eloquent\, with playful and sparkling humor\, and just the right amount of pathos to leave you cheering Scrooge on by the end.”  –   Michael Freeman\, Freeline Media Orlando \nPlease note there are haunted and “ghostly” apparitions involved.  Parental discretion advised. \n\nRESERVED SEATING \nPreferred Reserved Seating $40\n1st. 6 rows Orchestra & 2 Rows Center Balcony \nGeneral Reserved Seating $35 \nA $5.00 per ticket Processing charge is added to all purchases and we collect a 6.5% State and County Sales Tax \nDue to the fact that the Historic Athens Theatre does not have an elevator to the balcony. The balcony is not accessible to anyone with a wheelchair or walker. \nAll Patrons with special needs can contact the Box Office at 386-736-1500 for our wheelchair/walker accessible seating. \n\nSPECIAL BOX SEAT PACKAGE \nBOX SEATS AVAILABLE\n6 SEATS PER BOX SEAT AREA $300\nPLEASE CONTACT THE BOX OFFICE AT 386-736-1500
URL:https://athensdeland.com/event/a-most-haunted-victorian-christmas/2025-12-21/2/
LOCATION:Athens Theatre\, 124 N Florida Ave\, DeLand\, FL\, 32720\, United States
CATEGORIES:Concert/Performances/Events
ATTACH;FMTTYPE=image/png:https://athensdeland.com/wp-content/uploads/2019/08/Phantasmagoria_XMas-2025_Web2.png
END:VEVENT
END:VCALENDAR