BEGIN:VCALENDAR
VERSION:2.0
PRODID:-//Athens Theatre | Deland, Florida - ECPv6.15.17.1//NONSGML v1.0//EN
CALSCALE:GREGORIAN
METHOD:PUBLISH
X-WR-CALNAME:Athens Theatre | Deland, Florida
X-ORIGINAL-URL:https://athensdeland.com
X-WR-CALDESC:Events for Athens Theatre | Deland, Florida
REFRESH-INTERVAL;VALUE=DURATION:PT1H
X-Robots-Tag:noindex
X-PUBLISHED-TTL:PT1H
BEGIN:VTIMEZONE
TZID:America/New_York
BEGIN:DAYLIGHT
TZOFFSETFROM:-0500
TZOFFSETTO:-0400
TZNAME:EDT
DTSTART:20250309T070000
END:DAYLIGHT
BEGIN:STANDARD
TZOFFSETFROM:-0400
TZOFFSETTO:-0500
TZNAME:EST
DTSTART:20251102T060000
END:STANDARD
BEGIN:DAYLIGHT
TZOFFSETFROM:-0500
TZOFFSETTO:-0400
TZNAME:EDT
DTSTART:20260308T070000
END:DAYLIGHT
BEGIN:STANDARD
TZOFFSETFROM:-0400
TZOFFSETTO:-0500
TZNAME:EST
DTSTART:20261101T060000
END:STANDARD
BEGIN:DAYLIGHT
TZOFFSETFROM:-0500
TZOFFSETTO:-0400
TZNAME:EDT
DTSTART:20270314T070000
END:DAYLIGHT
BEGIN:STANDARD
TZOFFSETFROM:-0400
TZOFFSETTO:-0500
TZNAME:EST
DTSTART:20271107T060000
END:STANDARD
END:VTIMEZONE
BEGIN:VEVENT
DTSTART;TZID=America/New_York:20260128T164500
DTEND;TZID=America/New_York:20260429T174500
DTSTAMP:20260424T001504
CREATED:20250711T190136Z
LAST-MODIFIED:20251201T180032Z
UID:10003692-1769618700-1777484700@athensdeland.com
SUMMARY:MUSICAL THEATRE
DESCRIPTION:MUSICAL THEATER 1\nGrades 3-5 | Wednesdays 3:30pm – 4:30pm | $260\n  \nMUSICAL THEATER 2\nGrades 6-12 | Wednesdays 4:45pm – 5:45pm | $260\n\nThis class is for students who enjoy all aspects of performing. With a focus on a variety of dance styles\, acting and music\, these classes are curated to expose and enrich students new to the performing arts and challenge those more experienced. These classes will feature music and choreography from some of our favorite musicals and some new ones as well! \nClasses take place weekly on Wednesdays. \n\n\nSPRING 2026: January 28 – April 29  (No class on Wednesday\, March 18th)  \nShowcase for Grades 3 – 12 will be held on Tuesday\, May 5th at 7:00 pm with a mandatory rehearsal on Monday\, May 4th.  \nTuition: One time $260 payment in full \nREGISTER HERE \n  \n\n\n  \n  \n 
URL:https://athensdeland.com/event/musical-theatre-2/
LOCATION:FL
CATEGORIES:Classes,Youth Activities
ATTACH;FMTTYPE=image/jpeg:https://athensdeland.com/wp-content/uploads/2019/10/YA_MusicTheatre_LinkBanner-copy.jpg
END:VEVENT
BEGIN:VEVENT
DTSTART;TZID=America/New_York:20260129T154500
DTEND;TZID=America/New_York:20260430T163000
DTSTAMP:20260424T001504
CREATED:20251201T165740Z
LAST-MODIFIED:20251201T175431Z
UID:10003399-1769701500-1777566600@athensdeland.com
SUMMARY:KIDS DANCE
DESCRIPTION:Kids Dance I\nGrades K – 2 | Thursdays 3:45pm – 4:30pm | $210\n\nThis class is designed for students who are ready to develop basic movement skills through dance. Using techniques found in ballet\, hip-hop\, jazz\, and more\, your child will focus on understanding rhythm\, form\, and terminology in dance. This class will be a well-rounded introduction to dance for our youngest performers. \nGrades K – 2\, Thursdays\, 3:45pm – 4:30pm \nSPRING 2026: January 29 – April 30  (No class on Thursday\, March 19th) \nShowcase for Grades K-2 will take place on Saturday\, May 2nd at 3:00 pm \nTuition: One-time $210 payment in full \nREGISTER HERE
URL:https://athensdeland.com/event/dance-classes-2/
LOCATION:FL
CATEGORIES:Classes,Youth Activities
ATTACH;FMTTYPE=image/png:https://athensdeland.com/wp-content/uploads/2021/09/YA_KidsK2Dance_LinkBanner.png
END:VEVENT
BEGIN:VEVENT
DTSTART;TZID=America/New_York:20260429T193000
DTEND;TZID=America/New_York:20260429T210000
DTSTAMP:20260424T001504
CREATED:20220218T230425Z
LAST-MODIFIED:20250808T153919Z
UID:10000145-1777491000-1777496400@athensdeland.com
SUMMARY:Tributes to Styx & Boston
DESCRIPTION:In 2018\, five friends in South Florida got together and decided to create an epic music project paying tribute to TWO of the most iconic bands of all time…STYX and BOSTON! \nA stage show complete with searing guitar licks\, vintage synthesizers\, a pounding rhythm section\, and incredible vocal harmonies\, RENEGADE & SMOKIN’ deliver a high energy performance that will have you singing along to hits like “Too Much Time on My Hands\,” “Come Sail Away\,” and of course “Renegade from Styx and “More Than a Feeling\,” “Amanda\,” “Long Time\,” and so many more from BOTH bands! \n\nRESERVE SEATING\nPreferred Reserved Seating $40\n1st. 6 rows Orchestra & 2 Rows Center Balcony \nGeneral Reserved Seating $35 \nA $5.00 per ticket Processing charge is added to all purchases and we collect a 6.5% State and County Sales Tax \nDue to the fact that the Historic Athens Theatre does not have an elevator to the balcony. The balcony is not accessible to anyone with a wheelchair or walker. \nAll Patrons with special needs can contact the Box Office at 386-736-1500 for our wheelchair/walker accessible seating. \n\nSPECIAL BOX SEAT PACKAGE\nBOX SEATS AVAILABLE\n6 SEATS PER BOX SEAT AREA $300\nPlease contact the Box Office at 386-736-1500\, for this Package.
URL:https://athensdeland.com/event/tributes-to-styx-boston/
LOCATION:FL
CATEGORIES:Concert/Performances/Events
ATTACH;FMTTYPE=image/png:https://athensdeland.com/wp-content/uploads/2022/02/Smokin-Renegade-2026_Web.png
END:VEVENT
END:VCALENDAR