BEGIN:VCALENDAR
VERSION:2.0
PRODID:-//Athens Theatre | Deland, Florida - ECPv6.15.17.1//NONSGML v1.0//EN
CALSCALE:GREGORIAN
METHOD:PUBLISH
X-ORIGINAL-URL:https://athensdeland.com
X-WR-CALDESC:Events for Athens Theatre | Deland, Florida
REFRESH-INTERVAL;VALUE=DURATION:PT1H
X-Robots-Tag:noindex
X-PUBLISHED-TTL:PT1H
BEGIN:VTIMEZONE
TZID:America/New_York
BEGIN:DAYLIGHT
TZOFFSETFROM:-0500
TZOFFSETTO:-0400
TZNAME:EDT
DTSTART:20250309T070000
END:DAYLIGHT
BEGIN:STANDARD
TZOFFSETFROM:-0400
TZOFFSETTO:-0500
TZNAME:EST
DTSTART:20251102T060000
END:STANDARD
BEGIN:DAYLIGHT
TZOFFSETFROM:-0500
TZOFFSETTO:-0400
TZNAME:EDT
DTSTART:20260308T070000
END:DAYLIGHT
BEGIN:STANDARD
TZOFFSETFROM:-0400
TZOFFSETTO:-0500
TZNAME:EST
DTSTART:20261101T060000
END:STANDARD
BEGIN:DAYLIGHT
TZOFFSETFROM:-0500
TZOFFSETTO:-0400
TZNAME:EDT
DTSTART:20270314T070000
END:DAYLIGHT
BEGIN:STANDARD
TZOFFSETFROM:-0400
TZOFFSETTO:-0500
TZNAME:EST
DTSTART:20271107T060000
END:STANDARD
END:VTIMEZONE
BEGIN:VEVENT
DTSTART;TZID=America/New_York:20260505T190000
DTEND;TZID=America/New_York:20260505T203000
DTSTAMP:20260424T020144
CREATED:20250404T180113Z
LAST-MODIFIED:20260415T185327Z
UID:10004994-1778007600-1778013000@athensdeland.com
SUMMARY:ATYA Spring Recital & Showcase
DESCRIPTION:SPRING RECITAL 2026 \nAthens Theatre Youth Academy presents “SPRING RECITAL 2026”! \nIt’s time for some music and entertainment! Our voice\, acting\, and dance students at the Athens Theatre Youth Academy have been working hard all year and are ready to perform for you. Join us as we celebrate their accomplishments! \nSaturday\, May 2nd at 1o am and 12:15 pm at the Athens Theatre\, 124 N Florida Ave\, DeLand\, FL 32720. \nPreferred Seating – $18 \nGeneral Seating – $15 \n \nSPRING SHOWCASE 2026 \nAthens Theatre Youth Academy presents “SPRING SHOWCASE 2026”! \nIt’s time to wrap up the school year and celebrate! All Athens Theatre Youth Academy students will be coming together to show you what they’ve been working on in class this semester! \n \nGRADES 3 – 12 – Tuesday\, May 5th at 7:00pm \nKids Dance \nKids Music Time \nFeaturing students from the following classes: \nActing & Public Speaking \nAdvanced Improvisation \nBeginning Improvisation \nCreative Drama\nMusical Theatre 1\nMusical Theatre 2 \nPreferred Seating – $18 \nGeneral Seating – $15 \n \n\nBUY TICKETS FOR SPRING RECITAL 2026 HERE \nBUY TICKETS FOR SPRING 3-12 SHOWCASE 2026  HERE
URL:https://athensdeland.com/event/atya-spring-recital-showcase/2026-05-05/
LOCATION:FL
ATTACH;FMTTYPE=image/png:https://athensdeland.com/wp-content/uploads/2025/04/YA_SpringRecitalShowcase_2026_Web.png
END:VEVENT
END:VCALENDAR