BEGIN:VCALENDAR
VERSION:2.0
PRODID:-//Athens Theatre | Deland, Florida - ECPv6.15.17.1//NONSGML v1.0//EN
CALSCALE:GREGORIAN
METHOD:PUBLISH
X-WR-CALNAME:Athens Theatre | Deland, Florida
X-ORIGINAL-URL:https://athensdeland.com
X-WR-CALDESC:Events for Athens Theatre | Deland, Florida
REFRESH-INTERVAL;VALUE=DURATION:PT1H
X-Robots-Tag:noindex
X-PUBLISHED-TTL:PT1H
BEGIN:VTIMEZONE
TZID:America/New_York
BEGIN:DAYLIGHT
TZOFFSETFROM:-0500
TZOFFSETTO:-0400
TZNAME:EDT
DTSTART:20250309T070000
END:DAYLIGHT
BEGIN:STANDARD
TZOFFSETFROM:-0400
TZOFFSETTO:-0500
TZNAME:EST
DTSTART:20251102T060000
END:STANDARD
BEGIN:DAYLIGHT
TZOFFSETFROM:-0500
TZOFFSETTO:-0400
TZNAME:EDT
DTSTART:20260308T070000
END:DAYLIGHT
BEGIN:STANDARD
TZOFFSETFROM:-0400
TZOFFSETTO:-0500
TZNAME:EST
DTSTART:20261101T060000
END:STANDARD
BEGIN:DAYLIGHT
TZOFFSETFROM:-0500
TZOFFSETTO:-0400
TZNAME:EDT
DTSTART:20270314T070000
END:DAYLIGHT
BEGIN:STANDARD
TZOFFSETFROM:-0400
TZOFFSETTO:-0500
TZNAME:EST
DTSTART:20271107T060000
END:STANDARD
END:VTIMEZONE
BEGIN:VEVENT
DTSTART;TZID=America/New_York:20260523T193000
DTEND;TZID=America/New_York:20260523T213000
DTSTAMP:20260424T035111
CREATED:20250519T200857Z
LAST-MODIFIED:20250808T154059Z
UID:10003386-1779564600-1779571800@athensdeland.com
SUMMARY:Celebrating Celine with Jenene Caramielo
DESCRIPTION:Jenene Caramielo’s acclaimed tribute show\, Celebrating Celine\, is leaving audiences awestruck with every performance—thanks to her breathtaking vocals\, commanding stage presence\, and heartfelt connection to the music of the one and only Celine Dion. \nWith the power and grace that these legendary songs demand\, Jenene takes audiences on an unforgettable musical journey through Celine’s greatest hits. Fans are swept away by pitch-perfect renditions of beloved classics like “Because You Loved Me\,” “My Heart Will Go On\,” “I Drove All Night\,” “The Power of Love\,” and many more. \nBacked by a talented live band and fueled by pure emotion\, Celebrating Celine doesn’t just mimic the music—it channels the spirit of Celine herself. From dazzling high notes to moments of intimate vulnerability\, Jenene brings both vocal firepower and incomparable magnetism to the stage\, delivering a performance that’s equal parts tribute and triumph. \n\n\nRESERVED SEATING\nPreferred Reserved Seating $40\n1st. 6 rows Orchestra & 2 Rows Center Balcony \nGeneral Reserved Seating $35 \nA $5.00 per ticket Processing charge is added to all purchases and we collect a 6.5% State and County Sales Tax \nDue to the fact that the Historic Athens Theatre does not have an elevator to the balcony. The balcony is not accessible to anyone with a wheelchair or walker. \nAll Patrons with special needs can contact the Box Office at 386-736-1500 for our wheelchair/walker accessible seating. \n\nSPECIAL BOX SEAT PACKAGE\nBOX SEATS AVAILABLE\n6 SEATS PER BOX SEAT AREA $300\nPLEASE CONTACT THE BOX OFFICE AT 386-736-1500
URL:https://athensdeland.com/event/celebrating-celine-with-jenene-caramielo/
LOCATION:FL
ATTACH;FMTTYPE=image/png:https://athensdeland.com/wp-content/uploads/2025/05/CelebratingCeline_2026_Web-2.png
END:VEVENT
END:VCALENDAR