BEGIN:VCALENDAR
VERSION:2.0
PRODID:-//Athens Theatre | Deland, Florida - ECPv6.15.17.1//NONSGML v1.0//EN
CALSCALE:GREGORIAN
METHOD:PUBLISH
X-ORIGINAL-URL:https://athensdeland.com
X-WR-CALDESC:Events for Athens Theatre | Deland, Florida
REFRESH-INTERVAL;VALUE=DURATION:PT1H
X-Robots-Tag:noindex
X-PUBLISHED-TTL:PT1H
BEGIN:VTIMEZONE
TZID:America/New_York
BEGIN:DAYLIGHT
TZOFFSETFROM:-0500
TZOFFSETTO:-0400
TZNAME:EDT
DTSTART:20250309T070000
END:DAYLIGHT
BEGIN:STANDARD
TZOFFSETFROM:-0400
TZOFFSETTO:-0500
TZNAME:EST
DTSTART:20251102T060000
END:STANDARD
BEGIN:DAYLIGHT
TZOFFSETFROM:-0500
TZOFFSETTO:-0400
TZNAME:EDT
DTSTART:20260308T070000
END:DAYLIGHT
BEGIN:STANDARD
TZOFFSETFROM:-0400
TZOFFSETTO:-0500
TZNAME:EST
DTSTART:20261101T060000
END:STANDARD
BEGIN:DAYLIGHT
TZOFFSETFROM:-0500
TZOFFSETTO:-0400
TZNAME:EDT
DTSTART:20270314T070000
END:DAYLIGHT
BEGIN:STANDARD
TZOFFSETFROM:-0400
TZOFFSETTO:-0500
TZNAME:EST
DTSTART:20271107T060000
END:STANDARD
END:VTIMEZONE
BEGIN:VEVENT
DTSTART;TZID=America/New_York:20260601T090000
DTEND;TZID=America/New_York:20260601T120000
DTSTAMP:20260424T065222
CREATED:20260128T145917Z
LAST-MODIFIED:20260223T180458Z
UID:10004965-1780304400-1780315200@athensdeland.com
SUMMARY:HEY\, BARBIE!
DESCRIPTION:Rising K – 2nd Grade \n\nJune 1–5 | 9:00 am – 12:00 pm  \nBehind the Scenes – $210 before March 9 \nCenter Stage – $230 March 9 – April 27 \nCurtain Call – $250 after April 27 \nBarbie is so cool — she can be ANYTHING! Teacher\, veterinarian\, astronaut\, rock star\, and more. Campers will sing and dance to some of Barbie’s favorite songs while exploring all the different possibilities she represents. Because YOU can be anything! \nMore About Grades K–2 Camps\nPerfect for our youngest performers\, K–2 camps are a joyful first step into the world of theatre. Campers spend their days singing\, dancing\, playing pretend\, exploring instruments\, and discovering the fun of creative expression in a nurturing\, age-appropriate environment. Every activity is designed to keep little imaginations active and big smiles shining. No reading skills or theatre experience are needed—just curiosity\, creativity\, and a love of fun. \nWhat to Bring \n\nA water bottle and a non-perishable lunch each day\nAll class materials are provided by the theatre\n\nPresentations\nThe excitement builds all week toward a special final presentation on the historic Athens Theatre stage. Family and friends are invited to see what campers have created\, learned\, and accomplished together. Admission is free\, and donations are always welcome in support of youth arts education. \nPresentation will be held on the last day of camp at 11 AM.  \n  \n\nTO REGISTER - CLICK HERE
URL:https://athensdeland.com/event/hey-barbie/
LOCATION:FL
CATEGORIES:Summer Camps,Youth Activities
ATTACH;FMTTYPE=image/webp:https://athensdeland.com/wp-content/uploads/2026/01/Barbie_2026Web.webp
END:VEVENT
END:VCALENDAR