BEGIN:VCALENDAR
VERSION:2.0
PRODID:-//Athens Theatre | Deland, Florida - ECPv6.15.17.1//NONSGML v1.0//EN
CALSCALE:GREGORIAN
METHOD:PUBLISH
X-WR-CALNAME:Athens Theatre | Deland, Florida
X-ORIGINAL-URL:https://athensdeland.com
X-WR-CALDESC:Events for Athens Theatre | Deland, Florida
REFRESH-INTERVAL;VALUE=DURATION:PT1H
X-Robots-Tag:noindex
X-PUBLISHED-TTL:PT1H
BEGIN:VTIMEZONE
TZID:America/New_York
BEGIN:DAYLIGHT
TZOFFSETFROM:-0500
TZOFFSETTO:-0400
TZNAME:EDT
DTSTART:20250309T070000
END:DAYLIGHT
BEGIN:STANDARD
TZOFFSETFROM:-0400
TZOFFSETTO:-0500
TZNAME:EST
DTSTART:20251102T060000
END:STANDARD
BEGIN:DAYLIGHT
TZOFFSETFROM:-0500
TZOFFSETTO:-0400
TZNAME:EDT
DTSTART:20260308T070000
END:DAYLIGHT
BEGIN:STANDARD
TZOFFSETFROM:-0400
TZOFFSETTO:-0500
TZNAME:EST
DTSTART:20261101T060000
END:STANDARD
BEGIN:DAYLIGHT
TZOFFSETFROM:-0500
TZOFFSETTO:-0400
TZNAME:EDT
DTSTART:20270314T070000
END:DAYLIGHT
BEGIN:STANDARD
TZOFFSETFROM:-0400
TZOFFSETTO:-0500
TZNAME:EST
DTSTART:20271107T060000
END:STANDARD
END:VTIMEZONE
BEGIN:VEVENT
DTSTART;TZID=America/New_York:20260727T090000
DTEND;TZID=America/New_York:20260731T120000
DTSTAMP:20260424T101325
CREATED:20190708T154430Z
LAST-MODIFIED:20260223T180029Z
UID:10000116-1785142800-1785499200@athensdeland.com
SUMMARY:DESPICABLE YOU!
DESCRIPTION:Rising K – 2nd Grade \n\nJuly 27 – July 31 | 9am – 12pm \nBehind the Scenes – $210 before March 9 \nCenter Stage – $230 March 9 – April 27 \nCurtain Call – $250 after April 27 \n\nBANANA! Learn to talk like a Minion\, pretend to fly to the moon\, dance to Swan Lake\, build your own rocket ship\, squeeze a fluffy unicorn\, and play knights and dragons. All this and more in this special camp dedicated to the world of Despicable Me. \nMore About Grades K–2 Camps\nPerfect for our youngest performers\, K–2 camps are a joyful first step into the world of theatre. Campers spend their days singing\, dancing\, playing pretend\, exploring instruments\, and discovering the fun of creative expression in a nurturing\, age-appropriate environment. Every activity is designed to keep little imaginations active and big smiles shining. No reading skills or theatre experience are needed—just curiosity\, creativity\, and a love of fun. \nWhat to Bring \n\nA water bottle and a non-perishable lunch each day\nAll class materials are provided by the theatre\n\nPresentations\nThe excitement builds all week toward a special final presentation on the historic Athens Theatre stage. Family and friends are invited to see what campers have created\, learned\, and accomplished together. Admission is free\, and donations are always welcome in support of youth arts education. \nPresentation will be held on the last day of camp at 10:30 AM. \n\nTO REGISTER-CLICK HERE
URL:https://athensdeland.com/event/despicable_you/
LOCATION:FL
CATEGORIES:Summer Camps,Youth Activities
ATTACH;FMTTYPE=image/png:https://athensdeland.com/wp-content/uploads/2019/07/Despicable-You_2026Web.png
END:VEVENT
END:VCALENDAR