BEGIN:VCALENDAR
VERSION:2.0
PRODID:-//Athens Theatre | Deland, Florida - ECPv6.15.17.1//NONSGML v1.0//EN
CALSCALE:GREGORIAN
METHOD:PUBLISH
X-ORIGINAL-URL:https://athensdeland.com
X-WR-CALDESC:Events for Athens Theatre | Deland, Florida
REFRESH-INTERVAL;VALUE=DURATION:PT1H
X-Robots-Tag:noindex
X-PUBLISHED-TTL:PT1H
BEGIN:VTIMEZONE
TZID:America/New_York
BEGIN:DAYLIGHT
TZOFFSETFROM:-0500
TZOFFSETTO:-0400
TZNAME:EDT
DTSTART:20250309T070000
END:DAYLIGHT
BEGIN:STANDARD
TZOFFSETFROM:-0400
TZOFFSETTO:-0500
TZNAME:EST
DTSTART:20251102T060000
END:STANDARD
BEGIN:DAYLIGHT
TZOFFSETFROM:-0500
TZOFFSETTO:-0400
TZNAME:EDT
DTSTART:20260308T070000
END:DAYLIGHT
BEGIN:STANDARD
TZOFFSETFROM:-0400
TZOFFSETTO:-0500
TZNAME:EST
DTSTART:20261101T060000
END:STANDARD
BEGIN:DAYLIGHT
TZOFFSETFROM:-0500
TZOFFSETTO:-0400
TZNAME:EDT
DTSTART:20270314T070000
END:DAYLIGHT
BEGIN:STANDARD
TZOFFSETFROM:-0400
TZOFFSETTO:-0500
TZNAME:EST
DTSTART:20271107T060000
END:STANDARD
END:VTIMEZONE
BEGIN:VEVENT
DTSTART;TZID=America/New_York:20260930T193000
DTEND;TZID=America/New_York:20260930T210000
DTSTAMP:20260424T134821
CREATED:20251204T170648Z
LAST-MODIFIED:20251204T172032Z
UID:10003905-1790796600-1790802000@athensdeland.com
SUMMARY:LOVESONG The Cure Tribute:
DESCRIPTION:LOVESONG The Cure Tribute: A Captivating Celebration of an Iconic Legacy \nLOVESONG The Cure Tribute isn’t just a band – it’s a time machine for fans of the legendary pioneers of post-punk and gothic rock. Capturing the essence of The Cure’s unmistakable sound and aesthetic\, LOVESONG delivers a fully immersive concert experience that celebrates the depth\, drama\, and emotional power of the original band’s music. \nLed by frontman Rusty Wilmot\, who channels the voice\, look\, and presence of Robert Smith with uncanny precision\, LOVESONG transports audiences through a setlist that spans decades. From chart-toppers like “Friday I’m In Love\,” “Lovesong\,” and “Just Like Heaven\,” to cult favorites and deep cuts cherished by longtime fans\, every performance is a heartfelt tribute to the music that defined a generation and continues to resonate today. \nWhat sets LOVESONG apart is their dedication to detail\, not only in sound but in visuals\, atmosphere\, and emotional authenticity. Concert-goers are treated to stunning recreations of The Cure’s most memorable performances\, complete with video projections and immersive lighting design that heightens the nostalgic experience. \nAs an internationally touring act\, LOVESONG has built a passionate following and continues to draw crowds from coast to coast. Whether you’re reliving your youth or discovering The Cure’s magic for the first time\, LOVESONG offers an unforgettable night of music\, emotion\, and timeless alternative energy. \nFor fans of The Cure\, LOVESONG isn’t just a concert – it’s a celebration of Robert Smith and his decades of timeless music. \n  \n\nRESERVE SEATING\nPreferred Reserved Seating $40\n1st. 6 rows Orchestra & 2 Rows Center Balcony \nGeneral Reserved Seating $35 \nA $5.00 per ticket Processing charge is added to all purchases and we collect a 6.5% State and County Sales Tax \nDue to the fact that the Historic Athens Theatre does not have an elevator to the balcony. The balcony is not accessible to anyone with a wheelchair or walker. \nAll Patrons with special needs can contact the Box Office at 386-736-1500 for our wheelchair/walker accessible seating. \n\nSPECIAL BOX SEAT PACKAGE\nBOX SEATS AVAILABLE\n6 SEATS PER BOX SEAT AREA $270\nPLEASE CONTACT THE BOX OFFICE AT 386-736-1500
URL:https://athensdeland.com/event/lovesong-the-cure-tribute/
LOCATION:FL
ATTACH;FMTTYPE=image/png:https://athensdeland.com/wp-content/uploads/2025/12/TheCure_2026_Web-1.png
END:VEVENT
END:VCALENDAR