BEGIN:VCALENDAR
VERSION:2.0
PRODID:-//Athens Theatre | Deland, Florida - ECPv6.15.17.1//NONSGML v1.0//EN
CALSCALE:GREGORIAN
METHOD:PUBLISH
X-ORIGINAL-URL:https://athensdeland.com
X-WR-CALDESC:Events for Athens Theatre | Deland, Florida
REFRESH-INTERVAL;VALUE=DURATION:PT1H
X-Robots-Tag:noindex
X-PUBLISHED-TTL:PT1H
BEGIN:VTIMEZONE
TZID:America/New_York
BEGIN:DAYLIGHT
TZOFFSETFROM:-0500
TZOFFSETTO:-0400
TZNAME:EDT
DTSTART:20260308T070000
END:DAYLIGHT
BEGIN:STANDARD
TZOFFSETFROM:-0400
TZOFFSETTO:-0500
TZNAME:EST
DTSTART:20261101T060000
END:STANDARD
BEGIN:DAYLIGHT
TZOFFSETFROM:-0500
TZOFFSETTO:-0400
TZNAME:EDT
DTSTART:20270314T070000
END:DAYLIGHT
BEGIN:STANDARD
TZOFFSETFROM:-0400
TZOFFSETTO:-0500
TZNAME:EST
DTSTART:20271107T060000
END:STANDARD
BEGIN:DAYLIGHT
TZOFFSETFROM:-0500
TZOFFSETTO:-0400
TZNAME:EDT
DTSTART:20280312T070000
END:DAYLIGHT
BEGIN:STANDARD
TZOFFSETFROM:-0400
TZOFFSETTO:-0500
TZNAME:EST
DTSTART:20281105T060000
END:STANDARD
END:VTIMEZONE
BEGIN:VEVENT
DTSTART;TZID=America/New_York:20270122T193000
DTEND;TZID=America/New_York:20270122T210000
DTSTAMP:20260425T084411
CREATED:20260113T213331Z
LAST-MODIFIED:20260410T132705Z
UID:10004761-1800646200-1800651600@athensdeland.com
SUMMARY:Disney Finding Nemo\, Jr.
DESCRIPTION:Music and Lyrics by Kristen Anderson-Lopez & Robert Lopez\nBook adapted by Lindsay Anderson \nMusic and Orchestration Adapted and Arranged by Myrna Conn \nBased on the 2003 Disney/Pixar film Finding Nemo written by Andrew Stanton\, Bob Peterson\, David Reynolds and directed by Andrew Stanton \nJust keep swimming. \nBased on the beloved Disney·Pixar film and featuring new music by award-winning songwriters Kristen Anderson-Lopez and Robert Lopez\, Finding Nemo\, Jr. dives into a colorful underwater adventure. Marlin\, an anxious and overprotective clownfish\, lives in the Great Barrier Reef with his curious son\, Nemo\, who dreams of exploring life beyond their anemone home. When Nemo is unexpectedly captured and taken far from home to Sydney\, Marlin must confront his fears and cross the ocean to bring his son home. Along the way\, he encounters unforgettable characters—including the endlessly optimistic Dory\, the laid-back sea turtle Crush\, and the quirky Tank Gang—who help both father and son discover courage\, confidence\, and independence. \nFeaturing memorable songs such as “Just Keep Swimming\,” “Fish Are Friends Not Food\,” and “Go With the Flow\,” Finding Nemo\, Jr. creates a vibrant underwater world on stage\, celebrating family\, friendship\, and the courage to let go. \nPresented through special arrangement with Music Theatre International (MTI) \nRating: G (suitable for all ages)\nRun time: Approximately 1 hour (no intermission) \nBUY TICKETS NOW \nSPECIAL ASL/ENGLISH INTERPRETED PERFORMANCE ON SUNDAY 2/7 at 2:30 PM \nSPECIAL AUDIO DESCRIBED PERFORMANCE ON SATURDAY 2/6 at 2:30 PM \nTO PURCHASE TICKETS IN THE SECTION WITH THE BEST SIGHT LINES TO THE INTERPRETERS\, PLEASE CONTACT THE BOX OFFICE EITHER AT 386-736-1500 OR EMAIL US AT BOXOFFICE@ATHENSDELAND.COM \n  \n\nReserved Seating\nPreferred $37 (Row A-F\, Orchestra & CC-DD Center Balcony) \nAdult $33 – Senior $29\nStudent/Child $12 – Groups of 8 or more $26\nA $5.00 per ticket Processing charge is added to all purchases. \nAs the historic Athens Theatre does not have an elevator\, the balcony is not accessible to anyone with a wheelchair or walker. \nAll Patrons with special needs can contact the Box Office at 386-736-1500 for our wheelchair/walker accessible seating. \nSpecial Box Seat Package \nCatered exclusively by Joe Hearn Events\, The Elusive Grape\, Pat & Toni’s Sweet Things\, and 3 Smart Cookies. \n$500 – Price includes: \n\nUp to 11 seats in the Box Seat and Balcony area\nChoice of Red/White Wine\nCheese Platter\nChocolate Covered Strawberries\nCookies\n\nPlease contact the Box Office at 386-736-1500\, for this Package.\n(a $5 per seat processing fee is added to the cost of these packages)
URL:https://athensdeland.com/event/disney-finding-nemo-jr-2/2027-01-22/
LOCATION:FL
CATEGORIES:Athens Theatre Company Productions
ATTACH;FMTTYPE=image/png:https://athensdeland.com/wp-content/uploads/2026/01/FindingNemo_Web.png
END:VEVENT
END:VCALENDAR