BEGIN:VCALENDAR
VERSION:2.0
PRODID:-//Athens Theatre | Deland, Florida - ECPv6.15.17.1//NONSGML v1.0//EN
CALSCALE:GREGORIAN
METHOD:PUBLISH
X-WR-CALNAME:Athens Theatre | Deland, Florida
X-ORIGINAL-URL:https://athensdeland.com
X-WR-CALDESC:Events for Athens Theatre | Deland, Florida
REFRESH-INTERVAL;VALUE=DURATION:PT1H
X-Robots-Tag:noindex
X-PUBLISHED-TTL:PT1H
BEGIN:VTIMEZONE
TZID:America/New_York
BEGIN:DAYLIGHT
TZOFFSETFROM:-0500
TZOFFSETTO:-0400
TZNAME:EDT
DTSTART:20260308T070000
END:DAYLIGHT
BEGIN:STANDARD
TZOFFSETFROM:-0400
TZOFFSETTO:-0500
TZNAME:EST
DTSTART:20261101T060000
END:STANDARD
BEGIN:DAYLIGHT
TZOFFSETFROM:-0500
TZOFFSETTO:-0400
TZNAME:EDT
DTSTART:20270314T070000
END:DAYLIGHT
BEGIN:STANDARD
TZOFFSETFROM:-0400
TZOFFSETTO:-0500
TZNAME:EST
DTSTART:20271107T060000
END:STANDARD
BEGIN:DAYLIGHT
TZOFFSETFROM:-0500
TZOFFSETTO:-0400
TZNAME:EDT
DTSTART:20280312T070000
END:DAYLIGHT
BEGIN:STANDARD
TZOFFSETFROM:-0400
TZOFFSETTO:-0500
TZNAME:EST
DTSTART:20281105T060000
END:STANDARD
END:VTIMEZONE
BEGIN:VEVENT
DTSTART;TZID=America/New_York:20270310T193000
DTEND;TZID=America/New_York:20270310T210000
DTSTAMP:20260425T215703
CREATED:20210518T211942Z
LAST-MODIFIED:20260320T145728Z
UID:10000521-1804707000-1804712400@athensdeland.com
SUMMARY:Sweet Baby James - The #1 James Taylor Tribute
DESCRIPTION:America’s #1 James Taylor tribute artist Bill Griese visits from Nashville with his acclaimed Sweet Baby James show. Join us for the timeless music of the 6-time Grammy winner\, with a performance you have to hear to believe! Not your typical tribute band fare and not a “look-alike” impersonator\, Griese brings you the songs & stories of Taylor in a refreshingly authentic way – using only his spot-on vocals and skillful guitar playing. It’s a natural & respectful homage to an American original. Whether you’re a lifelong or casual JT fan\, this one is not-to-miss! \nSee why audiences rave: “close my eyes and it’s JT\,” “the next best thing to James himself\,” and “like having James Taylor in your living room!” Walking Man Productions presents the ultimate James Taylor experience\, with favorites like “Fire & Rain\,” “You’ve Got a Friend\,” “Shower the People\,” “How Sweet It Is\,” “Steamroller\,” and more; plus hidden gems for a truly “Taylor made” show honoring one of our greatest troubadours. Get your tickets today! \nReviews from past patrons include: \n“Sweet Baby James\, aka Bill Griese\, is always a phenomenal show. Bill is personable\, friendly\, and interacts with the crowd all the time. Can’t wait to see him next year.” — Mario T. \n“This show is a huge 10! We saw him last year and enjoyed last night’s just as much. Thank you for bringing in such great entertainment!” — Linda P. \n“Outstanding evening. Beautiful music and wonderful rapport with the audience.” — Robert D. \n“Great performer—funny\, very personable\, an excellent guitarist\, and he certainly sounds like James Taylor. Enjoyed the show very much.” — Carol M. \n“10+! Looking forward to next year’s performance.” — David S. \n“Fun night of laughter and great music.” — Angela R. \n“Wonderful concert in a cozy\, friendly environment.” — Thomas G \n\nRESERVED SEATING\nPreferred Reserved Seating $40\n1st. 6 rows Orchestra & 2 Rows Center Balcony \nGeneral Reserved Seating $35 \nA $5.00 per ticket Processing charge is added to all purchases and we collect a 6.5% State and County Sales Tax \nDue to the fact that the Historic Athens Theatre does not have an elevator to the balcony. The balcony is not accessible to anyone with a wheelchair or walker. \nAll Patrons with special needs can contact the Box Office at 386-736-1500 for our wheelchair/walker accessible seating. \n\nSPECIAL BOX SEAT PACKAGE\nBOX SEATS AVAILABLE\n6 SEATS PER BOX SEAT AREA $300\nPLEASE CONTACT THE BOX OFFICE AT 386-736-1500
URL:https://athensdeland.com/event/sweet-baby-james-an-intimate-evening-of-james-taylor-music/
LOCATION:FL
CATEGORIES:Concert/Performances/Events
ATTACH;FMTTYPE=image/png:https://athensdeland.com/wp-content/uploads/2021/05/James-Taylor-Tribute_2027_Web.png
END:VEVENT
END:VCALENDAR