BEGIN:VCALENDAR
VERSION:2.0
PRODID:-//Athens Theatre | Deland, Florida - ECPv6.15.17.1//NONSGML v1.0//EN
CALSCALE:GREGORIAN
METHOD:PUBLISH
X-WR-CALNAME:Athens Theatre | Deland, Florida
X-ORIGINAL-URL:https://athensdeland.com
X-WR-CALDESC:Events for Athens Theatre | Deland, Florida
REFRESH-INTERVAL;VALUE=DURATION:PT1H
X-Robots-Tag:noindex
X-PUBLISHED-TTL:PT1H
BEGIN:VTIMEZONE
TZID:America/New_York
BEGIN:DAYLIGHT
TZOFFSETFROM:-0500
TZOFFSETTO:-0400
TZNAME:EDT
DTSTART:20250309T070000
END:DAYLIGHT
BEGIN:STANDARD
TZOFFSETFROM:-0400
TZOFFSETTO:-0500
TZNAME:EST
DTSTART:20251102T060000
END:STANDARD
BEGIN:DAYLIGHT
TZOFFSETFROM:-0500
TZOFFSETTO:-0400
TZNAME:EDT
DTSTART:20260308T070000
END:DAYLIGHT
BEGIN:STANDARD
TZOFFSETFROM:-0400
TZOFFSETTO:-0500
TZNAME:EST
DTSTART:20261101T060000
END:STANDARD
BEGIN:DAYLIGHT
TZOFFSETFROM:-0500
TZOFFSETTO:-0400
TZNAME:EDT
DTSTART:20270314T070000
END:DAYLIGHT
BEGIN:STANDARD
TZOFFSETFROM:-0400
TZOFFSETTO:-0500
TZNAME:EST
DTSTART:20271107T060000
END:STANDARD
END:VTIMEZONE
BEGIN:VEVENT
DTSTART;TZID=America/New_York:20260501T193000
DTEND;TZID=America/New_York:20260501T213000
DTSTAMP:20260423T192440
CREATED:20250409T173709Z
LAST-MODIFIED:20260413T172243Z
UID:10003365-1777663800-1777671000@athensdeland.com
SUMMARY:THE SOUND OF MUSIC
DESCRIPTION:Music by Richard Rodgers\, lyrics by Oscar Hammerstein II\, book by Howard Lindsay and Russel Crouse. \n“When the world grows dark\, let your voice carry the light.” \nAs the world begins to change\, one woman brings something the von Trapp family hasn’t known in a long time—joy. When Maria steps into their lives\, she brings laughter\, music\, and a renewed sense of connection—just as the world outside their home begins to shift in dangerous ways. In a time of rising fear and uncertainty\, their bond becomes an anchor—and their courage\, a quiet form of resistance. The Sound of Music is a timeless story of love\, family\, and standing up for what truly matters\, brought to life with one of the most beloved scores in musical theatre history. \nPresented through special arrangement with Concord Theatricals \nRated G: Run time: 2 hours and 45 minutes with a 15-minute intermission \nBUY TICKETS NOW \nSPECIAL ASL/ENGLISH INTERPRETED PERFORMANCE ON SATURDAY 4/25 \nSPECIAL AUDIO DESCRIBED PERFORMANCE ON SUNDAY 4/26 \nSeason tickets are currently on sale through the box office for existing season ticket holders. Season tickets will be available to the general public beginning March. \nTO PURCHASE TICKETS IN THE SECTION WITH THE BEST SIGHT LINES TO THE INTERPRETERS\, PLEASE CONTACT THE BOX OFFICE EITHER AT 386-736-1500 OR EMAIL US AT BOXOFFICE@ATHENSDELAND.COM \n\nReserve Seating \nPreferred $37 (Row A-F\, Orchestra & CC-DD Center Balcony) \nAdult $32 – Senior $28\nStudent/Child $12 – Groups of 8 or more $25\nA $5.00 per ticket Processing charge is added to all purchases. \nAs the historic Athens Theatre does not have an elevator\, the balcony is not accessible to anyone with a wheelchair or walker. \nAll Patrons with special needs can contact the Box Office at 386-736-1500 for our wheelchair/walker accessible seating. \nSpecial Box Seat Package \nCatered exclusively by Joe Hearn Events\, The Elusive Grape\, Pat & Toni’s Sweet Things\, and 3 Smart Cookies. \n$500 – Price includes: \n\nUp to 11 seats in the Box Seat and Balcony area\nChoice of Red/White Wine\nCheese Platter\nChocolate Covered Strawberries\nCookies\n\nPlease contact the Box Office at 386-736-1500\, for this Package.\n(a $5 per seat processing fee is added to the cost of these packages) \nSalzburg Getaway Official Rules
URL:https://athensdeland.com/event/the-sound-of-music/2026-05-01/
CATEGORIES:Athens Theatre Company Productions,Our Season
ATTACH;FMTTYPE=image/png:https://athensdeland.com/wp-content/uploads/2025/04/SoundofMusic_Web_3.png
END:VEVENT
BEGIN:VEVENT
DTSTART;TZID=America/New_York:20260502T193000
DTEND;TZID=America/New_York:20260502T213000
DTSTAMP:20260423T192440
CREATED:20250409T173709Z
LAST-MODIFIED:20260413T172243Z
UID:10003366-1777750200-1777757400@athensdeland.com
SUMMARY:THE SOUND OF MUSIC
DESCRIPTION:Music by Richard Rodgers\, lyrics by Oscar Hammerstein II\, book by Howard Lindsay and Russel Crouse. \n“When the world grows dark\, let your voice carry the light.” \nAs the world begins to change\, one woman brings something the von Trapp family hasn’t known in a long time—joy. When Maria steps into their lives\, she brings laughter\, music\, and a renewed sense of connection—just as the world outside their home begins to shift in dangerous ways. In a time of rising fear and uncertainty\, their bond becomes an anchor—and their courage\, a quiet form of resistance. The Sound of Music is a timeless story of love\, family\, and standing up for what truly matters\, brought to life with one of the most beloved scores in musical theatre history. \nPresented through special arrangement with Concord Theatricals \nRated G: Run time: 2 hours and 45 minutes with a 15-minute intermission \nBUY TICKETS NOW \nSPECIAL ASL/ENGLISH INTERPRETED PERFORMANCE ON SATURDAY 4/25 \nSPECIAL AUDIO DESCRIBED PERFORMANCE ON SUNDAY 4/26 \nSeason tickets are currently on sale through the box office for existing season ticket holders. Season tickets will be available to the general public beginning March. \nTO PURCHASE TICKETS IN THE SECTION WITH THE BEST SIGHT LINES TO THE INTERPRETERS\, PLEASE CONTACT THE BOX OFFICE EITHER AT 386-736-1500 OR EMAIL US AT BOXOFFICE@ATHENSDELAND.COM \n\nReserve Seating \nPreferred $37 (Row A-F\, Orchestra & CC-DD Center Balcony) \nAdult $32 – Senior $28\nStudent/Child $12 – Groups of 8 or more $25\nA $5.00 per ticket Processing charge is added to all purchases. \nAs the historic Athens Theatre does not have an elevator\, the balcony is not accessible to anyone with a wheelchair or walker. \nAll Patrons with special needs can contact the Box Office at 386-736-1500 for our wheelchair/walker accessible seating. \nSpecial Box Seat Package \nCatered exclusively by Joe Hearn Events\, The Elusive Grape\, Pat & Toni’s Sweet Things\, and 3 Smart Cookies. \n$500 – Price includes: \n\nUp to 11 seats in the Box Seat and Balcony area\nChoice of Red/White Wine\nCheese Platter\nChocolate Covered Strawberries\nCookies\n\nPlease contact the Box Office at 386-736-1500\, for this Package.\n(a $5 per seat processing fee is added to the cost of these packages) \nSalzburg Getaway Official Rules
URL:https://athensdeland.com/event/the-sound-of-music/2026-05-02/
CATEGORIES:Athens Theatre Company Productions,Our Season
ATTACH;FMTTYPE=image/png:https://athensdeland.com/wp-content/uploads/2025/04/SoundofMusic_Web_3.png
END:VEVENT
BEGIN:VEVENT
DTSTART;TZID=America/New_York:20260503T143000
DTEND;TZID=America/New_York:20260503T163000
DTSTAMP:20260423T192440
CREATED:20250409T173709Z
LAST-MODIFIED:20260413T172243Z
UID:10003367-1777818600-1777825800@athensdeland.com
SUMMARY:THE SOUND OF MUSIC
DESCRIPTION:Music by Richard Rodgers\, lyrics by Oscar Hammerstein II\, book by Howard Lindsay and Russel Crouse. \n“When the world grows dark\, let your voice carry the light.” \nAs the world begins to change\, one woman brings something the von Trapp family hasn’t known in a long time—joy. When Maria steps into their lives\, she brings laughter\, music\, and a renewed sense of connection—just as the world outside their home begins to shift in dangerous ways. In a time of rising fear and uncertainty\, their bond becomes an anchor—and their courage\, a quiet form of resistance. The Sound of Music is a timeless story of love\, family\, and standing up for what truly matters\, brought to life with one of the most beloved scores in musical theatre history. \nPresented through special arrangement with Concord Theatricals \nRated G: Run time: 2 hours and 45 minutes with a 15-minute intermission \nBUY TICKETS NOW \nSPECIAL ASL/ENGLISH INTERPRETED PERFORMANCE ON SATURDAY 4/25 \nSPECIAL AUDIO DESCRIBED PERFORMANCE ON SUNDAY 4/26 \nSeason tickets are currently on sale through the box office for existing season ticket holders. Season tickets will be available to the general public beginning March. \nTO PURCHASE TICKETS IN THE SECTION WITH THE BEST SIGHT LINES TO THE INTERPRETERS\, PLEASE CONTACT THE BOX OFFICE EITHER AT 386-736-1500 OR EMAIL US AT BOXOFFICE@ATHENSDELAND.COM \n\nReserve Seating \nPreferred $37 (Row A-F\, Orchestra & CC-DD Center Balcony) \nAdult $32 – Senior $28\nStudent/Child $12 – Groups of 8 or more $25\nA $5.00 per ticket Processing charge is added to all purchases. \nAs the historic Athens Theatre does not have an elevator\, the balcony is not accessible to anyone with a wheelchair or walker. \nAll Patrons with special needs can contact the Box Office at 386-736-1500 for our wheelchair/walker accessible seating. \nSpecial Box Seat Package \nCatered exclusively by Joe Hearn Events\, The Elusive Grape\, Pat & Toni’s Sweet Things\, and 3 Smart Cookies. \n$500 – Price includes: \n\nUp to 11 seats in the Box Seat and Balcony area\nChoice of Red/White Wine\nCheese Platter\nChocolate Covered Strawberries\nCookies\n\nPlease contact the Box Office at 386-736-1500\, for this Package.\n(a $5 per seat processing fee is added to the cost of these packages) \nSalzburg Getaway Official Rules
URL:https://athensdeland.com/event/the-sound-of-music/2026-05-03/
CATEGORIES:Athens Theatre Company Productions,Our Season
ATTACH;FMTTYPE=image/png:https://athensdeland.com/wp-content/uploads/2025/04/SoundofMusic_Web_3.png
END:VEVENT
END:VCALENDAR