BEGIN:VCALENDAR
VERSION:2.0
PRODID:-//Athens Theatre | Deland, Florida - ECPv6.15.17.1//NONSGML v1.0//EN
CALSCALE:GREGORIAN
METHOD:PUBLISH
X-WR-CALNAME:Athens Theatre | Deland, Florida
X-ORIGINAL-URL:https://athensdeland.com
X-WR-CALDESC:Events for Athens Theatre | Deland, Florida
REFRESH-INTERVAL;VALUE=DURATION:PT1H
X-Robots-Tag:noindex
X-PUBLISHED-TTL:PT1H
BEGIN:VTIMEZONE
TZID:America/New_York
BEGIN:DAYLIGHT
TZOFFSETFROM:-0500
TZOFFSETTO:-0400
TZNAME:EDT
DTSTART:20250309T070000
END:DAYLIGHT
BEGIN:STANDARD
TZOFFSETFROM:-0400
TZOFFSETTO:-0500
TZNAME:EST
DTSTART:20251102T060000
END:STANDARD
BEGIN:DAYLIGHT
TZOFFSETFROM:-0500
TZOFFSETTO:-0400
TZNAME:EDT
DTSTART:20260308T070000
END:DAYLIGHT
BEGIN:STANDARD
TZOFFSETFROM:-0400
TZOFFSETTO:-0500
TZNAME:EST
DTSTART:20261101T060000
END:STANDARD
BEGIN:DAYLIGHT
TZOFFSETFROM:-0500
TZOFFSETTO:-0400
TZNAME:EDT
DTSTART:20270314T070000
END:DAYLIGHT
BEGIN:STANDARD
TZOFFSETFROM:-0400
TZOFFSETTO:-0500
TZNAME:EST
DTSTART:20271107T060000
END:STANDARD
END:VTIMEZONE
BEGIN:VEVENT
DTSTART;TZID=America/New_York:20260123T193000
DTEND;TZID=America/New_York:20260123T203000
DTSTAMP:20260424T003520
CREATED:20250409T164744Z
LAST-MODIFIED:20260115T175303Z
UID:10003310-1769196600-1769200200@athensdeland.com
SUMMARY:DISNEY'S ALICE IN WONDERLAND\, JR.!
DESCRIPTION:Music and Lyrics by Sammy Fain\, Bob Hilliard\, Oliver Wallace\, Cy Coban\, Allie Wrubel\, and Ted Sears\, Book by David Simpatico. Based on the 1951 Disney animated film and the novels The Adventures of Alice in Wonderland and Through the Looking Glass by Lewis Carroll.  \n“Tumble down the rabbit hole into a world where the impossible is normal and madness is marvelous” \nJourney with Alice in this whimsical adventure that brings Lewis Carroll’s beloved creations to life in a whole new way. Meet a cast of colorful (and sometimes curiously confusing) characters—from a grinning Cheshire Cat to a time-obsessed White Rabbit and the tyrannical Queen of Hearts! Alice in Wonderland\, JR. is a playful journey through a world where nonsense reigns and imagination knows no bounds. Prepare to be swept away in this madcap adventure that’s as delightfully unpredictable as Wonderland itself! \nPresented through special arrangement with Music Theatre International (MTI) \nRated G: Run time: 1 hour with a 15-minute intermission \nBUY TICKETS NOW \nBUY NOW AS PART OF A SEASON PACKAGE \nSPECIAL ASL/ENGLISH INTERPRETED PERFORMANCE ON SATURDAY 2/7 (at 7:30 pm evening performance) \nSPECIAL AUDIO DESCRIBED PERFORMANCE ON SATURDAY 2/7 (at 2:30 pm matinee performance) \nTO PURCHASE TICKETS IN THE SECTION WITH THE BEST SIGHT LINES TO THE INTERPRETERS\, PLEASE CONTACT THE BOX OFFICE EITHER AT 386-736-1500 OR EMAIL US AT BOXOFFICE@ATHENSDELAND.COM \n\nReserved Seating \nPreferred $35 (Row A-F\, Orchestra & CC-DD Center Balcony) \nAdult $30 – Senior $28\nStudent/Child $12 – Groups of 8 or more $25\nA $5.00 per ticket Processing charge is added to all purchases. \nAs the historic Athens Theatre does not have an elevator\, the balcony is not accessible to anyone with a wheelchair or walker. \nAll Patrons with special needs can contact the Box Office at 386-736-1500 for our wheelchair/walker accessible seating. \nSpecial Box Seat Package \nCatered exclusively by Joe Hearn Events\, The Elusive Grape\, Pat & Toni’s Sweet Things\, and 3 Smart Cookies. \n$500 – Price includes: \n\nUp to 11 seats in the Box Seat and Balcony area\nChoice of Red/White Wine\nCheese Platter\nChocolate Covered Strawberries\nCookies\n\nPlease contact the Box Office at 386-736-1500\, for this Package.\n(a $5 per seat processing fee is added to the cost of these packages)
URL:https://athensdeland.com/event/22273/2026-01-23/
CATEGORIES:Athens Theatre Company Productions,Our Season
ATTACH;FMTTYPE=image/webp:https://athensdeland.com/wp-content/uploads/2025/04/AliceinWonerland_Web2.webp
END:VEVENT
END:VCALENDAR