BEGIN:VCALENDAR
VERSION:2.0
PRODID:-//Athens Theatre | Deland, Florida - ECPv6.15.17.1//NONSGML v1.0//EN
CALSCALE:GREGORIAN
METHOD:PUBLISH
X-ORIGINAL-URL:https://athensdeland.com
X-WR-CALDESC:Events for Athens Theatre | Deland, Florida
REFRESH-INTERVAL;VALUE=DURATION:PT1H
X-Robots-Tag:noindex
X-PUBLISHED-TTL:PT1H
BEGIN:VTIMEZONE
TZID:America/New_York
BEGIN:DAYLIGHT
TZOFFSETFROM:-0500
TZOFFSETTO:-0400
TZNAME:EDT
DTSTART:20240310T070000
END:DAYLIGHT
BEGIN:STANDARD
TZOFFSETFROM:-0400
TZOFFSETTO:-0500
TZNAME:EST
DTSTART:20241103T060000
END:STANDARD
BEGIN:DAYLIGHT
TZOFFSETFROM:-0500
TZOFFSETTO:-0400
TZNAME:EDT
DTSTART:20250309T070000
END:DAYLIGHT
BEGIN:STANDARD
TZOFFSETFROM:-0400
TZOFFSETTO:-0500
TZNAME:EST
DTSTART:20251102T060000
END:STANDARD
BEGIN:DAYLIGHT
TZOFFSETFROM:-0500
TZOFFSETTO:-0400
TZNAME:EDT
DTSTART:20260308T070000
END:DAYLIGHT
BEGIN:STANDARD
TZOFFSETFROM:-0400
TZOFFSETTO:-0500
TZNAME:EST
DTSTART:20261101T060000
END:STANDARD
END:VTIMEZONE
BEGIN:VEVENT
DTSTART;TZID=America/New_York:20250416T170000
DTEND;TZID=America/New_York:20250416T184500
DTSTAMP:20260425T085408
CREATED:20210723T195733Z
LAST-MODIFIED:20250407T212049Z
UID:10002556-1744822800-1744829100@athensdeland.com
SUMMARY:The Legendary Motown Soul Experience
DESCRIPTION:The Legendary Motown Soul Experience tribute band brings back the sounds of our greatest musical generation with songs from artists including The Temptations\, The Four Tops\, Smokey Robinson\, Sam Cooke\, Wilson Pickett\, Booker T & The MG’s\, Stevie Wonder and many more. This group features dynamic powerful vocalists and a tightly syncopated rhythm section\, along with elaborate stage outfits and classic choreography\, as they perform their captivating renditions from the Motown song book and classic soul music of the 60’s and 70’s. The Legendary Motown Soul Experience puts on a show that is guaranteed to entertain & delight music fans of all ages! \nHere’s what past guests have to say! \n“The Motown show was absolutely great! Enjoyed the atmosphere and the Motown group music. Got teary-eyed when they sang 2 songs that were my brother’s favorite\, he was always singing them. Outstanding program.” — Betty R. \n“What a fantastic show it was. You should have them there at least 2 or 3 times a year. What a great experience. P.S. Once a year is not enough for this band!!” — Greg P. \n\nRESERVE SEATING\nPreferred Reserved Seating $40\n1st. 6 rows Orchestra & 2 Rows Center Balcony \nGeneral Reserved Seating $35 \nA $5.00 per ticket Processing charge is added to all purchases and we collect a 6.5% State and County Sales Tax \nDue to the fact that the Historic Athens Theatre does not have an elevator to the balcony. The balcony is not accessible to anyone with a wheelchair or walker. \nAll Patrons with special needs can contact the Box Office at 386-736-1500 for our wheelchair/walker accessible seating. \n\nSPECIAL BOX SEAT PACKAGE\nBOX SEATS AVAILABLE\n6 SEATS PER BOX SEAT AREA $300\nPLEASE CONTACT THE BOX OFFICE AT 386-736-1500
URL:https://athensdeland.com/event/memphis-motown-soul-experience/2025-04-16/1/
LOCATION:Athens Theatre\, 124 N Florida Ave\, DeLand\, FL\, 32720\, United States
CATEGORIES:Concert/Performances/Events
ATTACH;FMTTYPE=image/png:https://athensdeland.com/wp-content/uploads/2021/07/MotownSoulExperience_2025_Web2.png
END:VEVENT
BEGIN:VEVENT
DTSTART;TZID=America/New_York:20250416T200000
DTEND;TZID=America/New_York:20250416T220000
DTSTAMP:20260425T085408
CREATED:20210723T195733Z
LAST-MODIFIED:20250407T212049Z
UID:10002557-1744833600-1744840800@athensdeland.com
SUMMARY:The Legendary Motown Soul Experience
DESCRIPTION:The Legendary Motown Soul Experience tribute band brings back the sounds of our greatest musical generation with songs from artists including The Temptations\, The Four Tops\, Smokey Robinson\, Sam Cooke\, Wilson Pickett\, Booker T & The MG’s\, Stevie Wonder and many more. This group features dynamic powerful vocalists and a tightly syncopated rhythm section\, along with elaborate stage outfits and classic choreography\, as they perform their captivating renditions from the Motown song book and classic soul music of the 60’s and 70’s. The Legendary Motown Soul Experience puts on a show that is guaranteed to entertain & delight music fans of all ages! \nHere’s what past guests have to say! \n“The Motown show was absolutely great! Enjoyed the atmosphere and the Motown group music. Got teary-eyed when they sang 2 songs that were my brother’s favorite\, he was always singing them. Outstanding program.” — Betty R. \n“What a fantastic show it was. You should have them there at least 2 or 3 times a year. What a great experience. P.S. Once a year is not enough for this band!!” — Greg P. \n\nRESERVE SEATING\nPreferred Reserved Seating $40\n1st. 6 rows Orchestra & 2 Rows Center Balcony \nGeneral Reserved Seating $35 \nA $5.00 per ticket Processing charge is added to all purchases and we collect a 6.5% State and County Sales Tax \nDue to the fact that the Historic Athens Theatre does not have an elevator to the balcony. The balcony is not accessible to anyone with a wheelchair or walker. \nAll Patrons with special needs can contact the Box Office at 386-736-1500 for our wheelchair/walker accessible seating. \n\nSPECIAL BOX SEAT PACKAGE\nBOX SEATS AVAILABLE\n6 SEATS PER BOX SEAT AREA $300\nPLEASE CONTACT THE BOX OFFICE AT 386-736-1500
URL:https://athensdeland.com/event/memphis-motown-soul-experience/2025-04-16/2/
LOCATION:Athens Theatre\, 124 N Florida Ave\, DeLand\, FL\, 32720\, United States
CATEGORIES:Concert/Performances/Events
ATTACH;FMTTYPE=image/png:https://athensdeland.com/wp-content/uploads/2021/07/MotownSoulExperience_2025_Web2.png
END:VEVENT
END:VCALENDAR