BEGIN:VCALENDAR
VERSION:2.0
PRODID:-//Athens Theatre | Deland, Florida - ECPv6.15.17.1//NONSGML v1.0//EN
CALSCALE:GREGORIAN
METHOD:PUBLISH
X-ORIGINAL-URL:https://athensdeland.com
X-WR-CALDESC:Events for Athens Theatre | Deland, Florida
REFRESH-INTERVAL;VALUE=DURATION:PT1H
X-Robots-Tag:noindex
X-PUBLISHED-TTL:PT1H
BEGIN:VTIMEZONE
TZID:America/New_York
BEGIN:DAYLIGHT
TZOFFSETFROM:-0500
TZOFFSETTO:-0400
TZNAME:EDT
DTSTART:20250309T070000
END:DAYLIGHT
BEGIN:STANDARD
TZOFFSETFROM:-0400
TZOFFSETTO:-0500
TZNAME:EST
DTSTART:20251102T060000
END:STANDARD
BEGIN:DAYLIGHT
TZOFFSETFROM:-0500
TZOFFSETTO:-0400
TZNAME:EDT
DTSTART:20260308T070000
END:DAYLIGHT
BEGIN:STANDARD
TZOFFSETFROM:-0400
TZOFFSETTO:-0500
TZNAME:EST
DTSTART:20261101T060000
END:STANDARD
BEGIN:DAYLIGHT
TZOFFSETFROM:-0500
TZOFFSETTO:-0400
TZNAME:EDT
DTSTART:20270314T070000
END:DAYLIGHT
BEGIN:STANDARD
TZOFFSETFROM:-0400
TZOFFSETTO:-0500
TZNAME:EST
DTSTART:20271107T060000
END:STANDARD
END:VTIMEZONE
BEGIN:VEVENT
DTSTART;TZID=America/New_York:20260805T160000
DTEND;TZID=America/New_York:20260805T180000
DTSTAMP:20260424T083957
CREATED:20230425T214329Z
LAST-MODIFIED:20250808T154438Z
UID:10003695-1785945600-1785952800@athensdeland.com
SUMMARY:Beautiful Loser: The Bob Seger Tribute
DESCRIPTION:With a career spanning six decades\, Bob Seger has sold more than 75 million records\, making him one of the world’s best-selling artists of all time. He was inducted into the Rock and Roll Hall of Fame in 2004 and the Songwriters Hall of Fame in 2012.  \nIn 2018 he announced his final tour\, so unfortunately none of us can ever see one of his legendary live performances again. \nThat is where BEAUTIFUL LOSER fits in \nWhile this band is made up of 7-10 very talented\, professional musicians with impressive resumes….including former touring members with Jack Bruce\, Todd Rundgren and Alan Parsons Project\, this band was created because simply…..they had Their Bob Seger!  \nKen Hurley IS their Bob Seger…and when you see and hear him he will be your Bob Seger\, too. From Kentucky\, Ken started singing at age 7 when his Mom\, a renowned Southern Gospel singer\, slowly worked him into the family band. A veteran of the South Florida music scene (and of the Marines)\, he earned a reputation as being a soulful singer with a great voice capable of singing anything….and while that is true… it is when he sings what he really loves\, what resonates with him\, that it’s really something special.  \nFortunately for all his bandmates\, and for you\, Bob Seger’s music resonates with him\, and to hear this band with Ken singing…..well\, it is in fact\, something special. \nHere’s what past guests have to say: \n\n\n\n\n“This band is great! Second time we’ve seen them and we enjoyed every moment. Thanks for bringing them here—we look forward to seeing them again.” — Mabel I. \n“Great show! It’s our second year seeing them\, and we’ll be back again next year.” — Tom S. \n“Beautiful Loser was a beautiful winner! Two hours and fifteen minutes of nonstop excellent musicianship and quality vocals.” — Carlos D. \n“Absolutely wonderful performance. Very personal—we even got to talk to them after the show. More than a few times I was lost in their music. Wow!” — Elaine M. \n“It was a 10! One of the best concerts we’ve seen at the Athens—and we’ve seen many!” — Roger B. \n“We rate Beautiful Loser a 9! The vocals were a little muffled at first but improved throughout. The band’s sound was spot on\, and the show lasted over two and a half hours—terrific!” — Joanne L. \n“It was one of our favorite shows. He was so much like Seger. The band was great. I give it a 10—excellent! Also loved the 4 o’clock show. Best time for us older folks.” — Harold G. \n“Great concert\, fun musical performance\, nice venue\, and relaxed vibe. Really enjoyed the 4 pm performance time. We’ll look forward to more of these matinee shows!” — Nina T. \n\n\n\n\n\n\n\n  \n\n\n\n\n\n\nRESERVED SEATING\nPreferred Reserved Seating $401st. 6 rows Orchestra & 2 Rows Center Balcony \nGeneral Reserved Seating $35 \nA $5.00 per ticket Processing charge is added to all purchases and we collect a 6.5% State and County Sales Tax \nDue to the fact that the Historic Athens Theatre does not have an elevator to the balcony. The balcony is not accessible to anyone with a wheelchair or walker. \nAll Patrons with special needs can contact the Box Office at 386-736-1500 for our wheelchair/walker accessible seating. \n\n\n\n\n\nSPECIAL BOX SEAT PACKAGE \nBOX SEATS AVAILABLE6 SEATS PER BOX SEAT AREA $300PLEASE CONTACT THE BOX OFFICE AT 386-736-1500 \n 
URL:https://athensdeland.com/event/beautiful-loser-the-bog-seger-tribute/2026-08-05/1/
LOCATION:Athens Theatre\, 124 N Florida Ave\, DeLand\, FL\, 32720\, United States
CATEGORIES:Concert/Performances/Events
ATTACH;FMTTYPE=image/png:https://athensdeland.com/wp-content/uploads/2023/04/BobSegerTribute_2026_Web-1.png
END:VEVENT
BEGIN:VEVENT
DTSTART;TZID=America/New_York:20260805T200000
DTEND;TZID=America/New_York:20260805T220000
DTSTAMP:20260424T083957
CREATED:20230425T214329Z
LAST-MODIFIED:20250808T154438Z
UID:10003696-1785960000-1785967200@athensdeland.com
SUMMARY:Beautiful Loser: The Bob Seger Tribute
DESCRIPTION:With a career spanning six decades\, Bob Seger has sold more than 75 million records\, making him one of the world’s best-selling artists of all time. He was inducted into the Rock and Roll Hall of Fame in 2004 and the Songwriters Hall of Fame in 2012.  \nIn 2018 he announced his final tour\, so unfortunately none of us can ever see one of his legendary live performances again. \nThat is where BEAUTIFUL LOSER fits in \nWhile this band is made up of 7-10 very talented\, professional musicians with impressive resumes….including former touring members with Jack Bruce\, Todd Rundgren and Alan Parsons Project\, this band was created because simply…..they had Their Bob Seger!  \nKen Hurley IS their Bob Seger…and when you see and hear him he will be your Bob Seger\, too. From Kentucky\, Ken started singing at age 7 when his Mom\, a renowned Southern Gospel singer\, slowly worked him into the family band. A veteran of the South Florida music scene (and of the Marines)\, he earned a reputation as being a soulful singer with a great voice capable of singing anything….and while that is true… it is when he sings what he really loves\, what resonates with him\, that it’s really something special.  \nFortunately for all his bandmates\, and for you\, Bob Seger’s music resonates with him\, and to hear this band with Ken singing…..well\, it is in fact\, something special. \nHere’s what past guests have to say: \n\n\n\n\n“This band is great! Second time we’ve seen them and we enjoyed every moment. Thanks for bringing them here—we look forward to seeing them again.” — Mabel I. \n“Great show! It’s our second year seeing them\, and we’ll be back again next year.” — Tom S. \n“Beautiful Loser was a beautiful winner! Two hours and fifteen minutes of nonstop excellent musicianship and quality vocals.” — Carlos D. \n“Absolutely wonderful performance. Very personal—we even got to talk to them after the show. More than a few times I was lost in their music. Wow!” — Elaine M. \n“It was a 10! One of the best concerts we’ve seen at the Athens—and we’ve seen many!” — Roger B. \n“We rate Beautiful Loser a 9! The vocals were a little muffled at first but improved throughout. The band’s sound was spot on\, and the show lasted over two and a half hours—terrific!” — Joanne L. \n“It was one of our favorite shows. He was so much like Seger. The band was great. I give it a 10—excellent! Also loved the 4 o’clock show. Best time for us older folks.” — Harold G. \n“Great concert\, fun musical performance\, nice venue\, and relaxed vibe. Really enjoyed the 4 pm performance time. We’ll look forward to more of these matinee shows!” — Nina T. \n\n\n\n\n\n\n\n  \n\n\n\n\n\n\nRESERVED SEATING\nPreferred Reserved Seating $401st. 6 rows Orchestra & 2 Rows Center Balcony \nGeneral Reserved Seating $35 \nA $5.00 per ticket Processing charge is added to all purchases and we collect a 6.5% State and County Sales Tax \nDue to the fact that the Historic Athens Theatre does not have an elevator to the balcony. The balcony is not accessible to anyone with a wheelchair or walker. \nAll Patrons with special needs can contact the Box Office at 386-736-1500 for our wheelchair/walker accessible seating. \n\n\n\n\n\nSPECIAL BOX SEAT PACKAGE \nBOX SEATS AVAILABLE6 SEATS PER BOX SEAT AREA $300PLEASE CONTACT THE BOX OFFICE AT 386-736-1500 \n 
URL:https://athensdeland.com/event/beautiful-loser-the-bog-seger-tribute/2026-08-05/2/
LOCATION:Athens Theatre\, 124 N Florida Ave\, DeLand\, FL\, 32720\, United States
CATEGORIES:Concert/Performances/Events
ATTACH;FMTTYPE=image/png:https://athensdeland.com/wp-content/uploads/2023/04/BobSegerTribute_2026_Web-1.png
END:VEVENT
BEGIN:VEVENT
DTSTART;TZID=America/New_York:20260808T193000
DTEND;TZID=America/New_York:20260808T213000
DTSTAMP:20260424T083957
CREATED:20230417T184242Z
LAST-MODIFIED:20250825T170443Z
UID:10000690-1786217400-1786224600@athensdeland.com
SUMMARY:Brothers Again\, A Tribute to the Allman Brothers!
DESCRIPTION:A Celebration of the Music of the Allman Brothers Band! \n‘Brothers Again’ is committed to playing the music of ‘The Allman Brothers Band’ with authenticity\, passion and respect. Southern rock is alive and well and authentically performed by Brothers Again! If you’re ready to rock out to your favorite Allman Brothers Band songs\, we’ve got you covered! \nA mutual love for the music of ‘The Allman Brothers Band’ brought the seven members of ‘Brothers Again’ together. One guitarist growing up in the Mississippi Delta in 1969\, listening to them on the only radio station that played their music\, would practice along with their songs\, trying to understand how they developed their wholly unique combination of rock\, blues\, jazz and Texas Swing. Each musician in the band has their own memory of how the ABB played a part in the development of their interest in music. The bond that has developed from many hours of rehearsal is obvious in their performance of each song. \nDon’t just take our word for it — here’s what past guests have said: \n“Absolutely fabulous band! Great sound\, great music.” — Wanda K. \n“It was even more amazing than last year!” — Frank L. \n“Brothers Again were great\, and as usual the Athens Theatre did a nice job.” — Maria S. \n“They were GREAT! Hope they come back again. All the band members were outstanding!” — Jerry P. \n“Loved it! Ten out of ten!” — Denise R. \n“Awesome show! Thank you.” — Robert M. \n“The seven-man band put on a rocking great show!” — Paula H. \n \nRESERVED SEATING \nPreferred Reserved Seating $40\n1st. 6 rows Orchestra & 2 Rows Center Balcony \nGeneral Reserved Seating $35 \nA $5.00 per ticket Processing charge is added to all purchases and we collect a 6.5% State and County Sales Tax \nDue to the fact that the Historic Athens Theatre does not have an elevator to the balcony. The balcony is not accessible to anyone with a wheelchair or walker. \nAll Patrons with special needs can contact the Box Office at 386-736-1500 for our wheelchair/walker accessible seating. \n \nSPECIAL BOX SEAT PACKAGE \nBOX SEATS AVAILABLE\n6 SEATS PER BOX SEAT AREA $300\nPLEASE CONTACT THE BOX OFFICE AT 386-736-1500 \n 
URL:https://athensdeland.com/event/brothers-again-a-tribute-to-the-allman-brothers/
LOCATION:Athens Theatre\, 124 N Florida Ave\, DeLand\, FL\, 32720\, United States
CATEGORIES:Concert/Performances/Events
ATTACH;FMTTYPE=image/png:https://athensdeland.com/wp-content/uploads/2023/04/Allman-Bros_2026_Web.png
END:VEVENT
BEGIN:VEVENT
DTSTART;TZID=America/New_York:20260815T193000
DTEND;TZID=America/New_York:20260815T193000
DTSTAMP:20260424T083957
CREATED:20190702T163644Z
LAST-MODIFIED:20250930T132901Z
UID:10000033-1786822200-1786822200@athensdeland.com
SUMMARY:Diamond: A Tribute to Neil Diamond
DESCRIPTION:DIAMOND is the ultimate tribute to the legendary singer-songwriter Neil Diamond\, as performed by Jack Berrios. This performance captures the feel\, sound\, passion\, and excitement of a real Neil Diamond concert. Jack is joined on stage by his Diamond Crew: The Diamond Girls\, Janet Lamb and Kitei\, who provide backing vocals and add the glitter to the show. The Brother Love Crew—Bradley Garrison on congas and Talon Berrios on vocals and percussion—bring never-ending energy and excitement to the stage.\n\n\n\n\n\n\n\n\n\nDIAMOND has been featured on The Tonight Show with Jay Leno\, The Daily Buzz with Andy Campbell\, and FUSE TV’s A Different Spin with Mark Hoppus of Blink-182\, as part of the Sunburst Convention segments. In May 2008\, when Neil Diamond was asked by Magic 107.7 FM radio hosts Dave and Leslye what he thought of Jack’s tribute\, Neil replied\, “I think it’s terrific.” \n\n\n\n\n\n\nReviews from past patrons include: \n\nRich P. – Absolutely 10 stars! Please tell me where Diamond will appear next!!!!! Fantastic show!\nCindy  G. – We really enjoy Neil.  He put his heart into a great performance.\nMaia K.-  Out of 5 we rate it a 10!  Loved the audience participation!  Production was marvelous!\nNick G. – Very good show. This is my 2nd time and I would go again.\n\n\nRESERVE SEATING\nPreferred Reserved Seating $40\n1st. 6 rows Orchestra & 2 Rows Center Balcony \nGeneral Reserved Seating $35 \nA $5.00 per ticket Processing charge is added to all purchases and we collect a 6.5% State and County Sales Tax \nDue to the fact that the Historic Athens Theatre does not have an elevator to the balcony. The balcony is not accessible to anyone with a wheelchair or walker. \nAll Patrons with special needs can contact the Box Office at 386-736-1500 for our wheelchair/walker accessible seating. \n\nSPECIAL BOX SEAT PACKAGE\nBOX SEATS AVAILABLE\n6 SEATS PER BOX SEAT AREA $300\nPLEASE CONTACT THE BOX OFFICE AT 386-736-1500
URL:https://athensdeland.com/event/diamond-a-tribute-to-neil-diamond/
LOCATION:Athens Theatre\, 124 N Florida Ave\, DeLand\, FL\, 32720\, United States
CATEGORIES:Concert/Performances/Events
ATTACH;FMTTYPE=image/png:https://athensdeland.com/wp-content/uploads/2019/07/Diamond-Tribute-2026_Web.png
END:VEVENT
BEGIN:VEVENT
DTSTART;TZID=America/New_York:20260819T193000
DTEND;TZID=America/New_York:20260819T213000
DTSTAMP:20260424T083957
CREATED:20190702T164105Z
LAST-MODIFIED:20251204T173048Z
UID:10000038-1787167800-1787175000@athensdeland.com
SUMMARY:Peace of Woodstock
DESCRIPTION:PEACE OF WOODSTOCK is a 90-minute music-and-visuals show that’s an in-the-moment tribute to the celebrated Woodstock Music & Art Fair\, the legendary three-day concert that took place in August 1969. \n57 years ago\, an audience of more than 400\,000 travelled to Max Yasgur’s dairy farm in upstate New York to listen to musical acts ranging from Richie Havens and Janis Joplin to Sly and the Family Stone\, Jefferson Airplane the event’s breakout group\, and Santana. Woodstock changed everything. \nPeace of Woodstock returns you to the event that defined the ‘60s. From the hippie vibe and protest songs to the flowers-in-the-hair attendees clothed in bellbottoms and tie-dye\, Peace of Woodstock is a note-perfect tribute to one of popular music’s most monumental moments. \nReviews from past patrons include: \n\nJan P. –  This show was a definite 10. We took my sister-in-law and her husband\, and she said she felt like she was 24 again.\nPeter M.  – Every member of the band was exceptional!\nMichael D. – What a great show!!!\nBarbara C. – 10  stars ALL day long!!!\n\n\nRESERVE SEATING \nPreferred Reserved Seating $401st. 6 rows Orchestra & 2 Rows Center Balcony \nGeneral Reserved Seating $35 \nA $5.00 per ticket Processing charge is added to all purchases and we collect a 6.5% State and County Sales Tax \nDue to the fact that the Historic Athens Theatre does not have an elevator to the balcony. The balcony is not accessible to anyone with a wheelchair or walker. \nAll Patrons with special needs can contact the Box Office at 386-736-1500 for our wheelchair/walker accessible seating. \n\n\n\n\n\nSPECIAL BOX SEAT PACKAGE \nBOX SEATS AVAILABLE6 SEATS PER BOX SEAT AREA $300PLEASE CONTACT THE BOX OFFICE AT 386-736-1500
URL:https://athensdeland.com/event/peace-of-woodstock/
LOCATION:Athens Theatre\, 124 N Florida Ave\, DeLand\, FL\, 32720\, United States
CATEGORIES:Concert/Performances/Events
ATTACH;FMTTYPE=image/png:https://athensdeland.com/wp-content/uploads/2019/07/POW-2026_Web.png
END:VEVENT
BEGIN:VEVENT
DTSTART;TZID=America/New_York:20260821T193000
DTEND;TZID=America/New_York:20260821T210000
DTSTAMP:20260424T083957
CREATED:20200622T182408Z
LAST-MODIFIED:20250912T150026Z
UID:10000063-1787340600-1787346000@athensdeland.com
SUMMARY:NightBird SWFL-The Ultimate Tribute to Stevie Nicks
DESCRIPTION:NightBird SWFL-The Ultimate Tribute to Stevie Nicks is a 6-piece orchestrated dynamic band featuring Angela Chang.  They are based out of Southwest Florida and pay tribute to the one and only Stevie Nicks. \nNightBird covers songs from Stevie Nicks early career with Fleetwood Mac into her solo career as an artist. This incredible band is known for their authenticity\, as Angela delivers Stevie Nicks’ music from the depths of her soul–captivating the audience and creating a moving experience for everyone. \nNightBird SWFL- The Ultimate Tribute to Stevie Nicks\, is different than that of a Fleetwood Mac tribute since they concentrate primarily on Stevie Nicks and play many different songs during her entire career. They take their audience through the 1970’s into the 80’s and 90’s. Says Angela Chang\, lead singer\, “We celebrate her as she is the only woman who has been inducted twice into the Rock-n-Roll Hall of Fame!” \nIf you’re looking for a show packed with high energy\, smooth harmonies and heavy percussion sound…. NIGHTBIRD will deliver!! \nReviews from past patrons include: \n\n“Beautiful venue and Nightbird was amazing. They captured Stevie Nicks wonderfully! We enjoyed our evening there immensely.” — Tina G.\n“LOVED THE SHOW! Nightbird was truly a real treat for Stevie Nicks fans. Especially loved the extra pieces and stories inserted throughout the evening.” — Michelle P.\n\n\nRESERVE SEATING \nPreferred Reserved Seating $401st. 6 rows Orchestra & 2 Rows Center Balcony \nGeneral Reserved Seating $35 \nA $5.00 per ticket Processing charge is added to all purchases and we collect a 6.5% State and County Sales Tax \nDue to the fact that the Historic Athens Theatre does not have an elevator to the balcony. The balcony is not accessible to anyone with a wheelchair or walker. \nAll Patrons with special needs can contact the Box Office at 386-736-1500 for our wheelchair/walker accessible seating. \n\n\n\n\n\nSPECIAL BOX SEAT PACKAGE \nBOX SEATS AVAILABLE6 SEATS PER BOX SEAT AREA $300PLEASE CONTACT THE BOX OFFICE AT 386-736-1500
URL:https://athensdeland.com/event/nightbird-swfl-the-ultimate-tribute-to-stevie-nicks/
CATEGORIES:Concert/Performances/Events
ATTACH;FMTTYPE=image/png:https://athensdeland.com/wp-content/uploads/2020/06/Nightbird_2026_Web-.png
END:VEVENT
BEGIN:VEVENT
DTSTART;TZID=America/New_York:20260822T193000
DTEND;TZID=America/New_York:20260822T213000
DTSTAMP:20260424T083957
CREATED:20210611T154854Z
LAST-MODIFIED:20250909T141103Z
UID:10000526-1787427000-1787434200@athensdeland.com
SUMMARY:NEVER STOP BELIEVIN'\, THE INCREDIBLE TRIBUTE TO JOURNEY!
DESCRIPTION:Steve Perry Returns to Journey!?\n\n\n\n\n\n\n\n\n\n\nIt’s the dream of every Journey fan: to witness the incredible lineup that dominated arenas worldwide in the late ’70s\, ’80s\, and mid-’90s. \nJourney Tribute: Never Stop Believin’ makes that dream come true! \nThis is the ONLY Journey tribute show on the planet that captures the look and sound of the band from the ’70s and ’80s! The show begins with a performance that channels the Evolution and Departure albums from 1978\, then transitions to the mid-’80s with a costume change and takes you on a journey through the Escape and Frontiers albums! \nNever Stop Believin’ is fronted by an incredible vocalist who looks and sounds just like Steve Perry\, bringing the iconic voice and presence to life. The band delivers each song note-for-note\, with stunning four-part live vocal harmonies. \nFor over 18 years\, this band has been performing at festivals\, top venues\, and international locations. \nAll the hits you love: “Anyway You Want It\,” “Who’s Cryin’ Now\,” “Wheel in the Sky\,” “Open Arms\,” “Lovin’\, Touchin’\, Squeezin’\,” “Faithfully\,” “Lights\,” and of course\, “Don’t Stop Believin’\,” and many more! \n\n\n\n\n\n\nHere’s what past guests have to say: \n\n“Give it a 10. I attended with my husband and another couple\, and we all enjoyed the show very much. We’ve attended about a half dozen tribute shows\, and they have all been very good\, but this one was especially good. The band brought a tremendous amount of energy to the concert\, and the lead singer had a really good voice and was very engaging with the audience.” — Kelly S.\n“10 out of 10. Can I go higher? All comments I heard from the sold-out crowd agreed. Many of us are “Journey snobs” when it comes to singers trying to emulate the original Steve Perry. This show exceeded all expectations. Rick Allen’s voice is incredible. Have them back\, please. Never Stop Believing hit grand slam after grand slam last night.” — Jack K.\n\n\nRESERVED SEATING \nPreferred Reserved Seating $401st. 6 rows Orchestra & 2 Rows Center Balcony \nGeneral Reserved Seating $35 \nA $5.00 per ticket Processing charge is added to all purchases and we collect a 6.5% State and County Sales Tax \nDue to the fact that the Historic Athens Theatre does not have an elevator to the balcony. The balcony is not accessible to anyone with a wheelchair or walker. \nAll Patrons with special needs can contact the Box Office at 386-736-1500 for our wheelchair/walker accessible seating. \n\n\n\n\n\nSPECIAL BOX SEAT PACKAGE \nBOX SEATS AVAILABLE6 SEATS PER BOX SEAT AREA $300PLEASE CONTACT THE BOX OFFICE AT 386-736-1500
URL:https://athensdeland.com/event/the-music-of-journey/
CATEGORIES:Concert/Performances/Events
ATTACH;FMTTYPE=image/png:https://athensdeland.com/wp-content/uploads/2021/06/Journey_2026_Web-1.png
END:VEVENT
BEGIN:VEVENT
DTSTART;TZID=America/New_York:20260828T193000
DTEND;TZID=America/New_York:20260828T210000
DTSTAMP:20260424T083957
CREATED:20200701T211915Z
LAST-MODIFIED:20250902T153428Z
UID:10000332-1787945400-1787950800@athensdeland.com
SUMMARY:Chicago Rewired!
DESCRIPTION:Chicago Rewired is a tribute to Chicago—one of the longest-running and most successful pop/rock groups in history\, with record sales topping 100 million. Their achievements include 21 top 10 singles\, 5 consecutive number one albums\, 11 number one singles\, and 5 gold singles. \nChicago Rewired features a unique blend of talented and seasoned musicians from the Charlotte and Piedmont Triad areas\, all coming together with the common goal of accurately replicating the timeless music of Chicago—the soundtrack to great memories for so many. \nCome out to a show\, forget the cares of life for a while\, and let the music of Chicago Rewired carry you away with hits like “25 or 6 to 4\,” “If You Leave Me Now\,” “Hard Habit to Break\,” “You’re the Inspiration\,” and many more! \nReviews from past patrons include: \n\nTom B. – The experience was all the more fun and satisfying by these musicians nailing the signature sounds\, with which all us old hippies are familiar\nCindy P. – Had the whole house rockin’\nPeter H. – Chicago Rewired put on an awesome show.  We had a blast.\n\n\nRESERVED SEATING \nPreferred Reserved Seating $40\n1st. 6 rows Orchestra & 2 Rows Center Balcony \nGeneral Reserved Seating $35 \nA $5.00 per ticket Processing charge is added to all purchases and we collect a 6.5% State and County Sales Tax \nDue to the fact that the Historic Athens Theatre does not have an elevator to the balcony. The balcony is not accessible to anyone with a wheelchair or walker. \nAll Patrons with special needs can contact the Box Office at 386-736-1500 for our wheelchair/walker accessible seating. \n\nSPECIAL BOX SEAT PACKAGE \nBOX SEATS AVAILABLE\n6 SEATS PER BOX SEAT AREA $300\nPLEASE CONTACT THE BOX OFFICE AT 386-736-1500
URL:https://athensdeland.com/event/chicago-rewired/
CATEGORIES:Concert/Performances/Events
ATTACH;FMTTYPE=image/png:https://athensdeland.com/wp-content/uploads/2020/07/Chicago-Rewired_2026_Web.png
END:VEVENT
END:VCALENDAR