BEGIN:VCALENDAR
VERSION:2.0
PRODID:-//Athens Theatre | Deland, Florida - ECPv6.15.17.1//NONSGML v1.0//EN
CALSCALE:GREGORIAN
METHOD:PUBLISH
X-WR-CALNAME:Athens Theatre | Deland, Florida
X-ORIGINAL-URL:https://athensdeland.com
X-WR-CALDESC:Events for Athens Theatre | Deland, Florida
REFRESH-INTERVAL;VALUE=DURATION:PT1H
X-Robots-Tag:noindex
X-PUBLISHED-TTL:PT1H
BEGIN:VTIMEZONE
TZID:America/New_York
BEGIN:DAYLIGHT
TZOFFSETFROM:-0500
TZOFFSETTO:-0400
TZNAME:EDT
DTSTART:20250309T070000
END:DAYLIGHT
BEGIN:STANDARD
TZOFFSETFROM:-0400
TZOFFSETTO:-0500
TZNAME:EST
DTSTART:20251102T060000
END:STANDARD
BEGIN:DAYLIGHT
TZOFFSETFROM:-0500
TZOFFSETTO:-0400
TZNAME:EDT
DTSTART:20260308T070000
END:DAYLIGHT
BEGIN:STANDARD
TZOFFSETFROM:-0400
TZOFFSETTO:-0500
TZNAME:EST
DTSTART:20261101T060000
END:STANDARD
BEGIN:DAYLIGHT
TZOFFSETFROM:-0500
TZOFFSETTO:-0400
TZNAME:EDT
DTSTART:20270314T070000
END:DAYLIGHT
BEGIN:STANDARD
TZOFFSETFROM:-0400
TZOFFSETTO:-0500
TZNAME:EST
DTSTART:20271107T060000
END:STANDARD
END:VTIMEZONE
BEGIN:VEVENT
DTSTART;TZID=America/New_York:20260327T193000
DTEND;TZID=America/New_York:20260327T213000
DTSTAMP:20260424T035613
CREATED:20231030T160707Z
LAST-MODIFIED:20260329T161133Z
UID:10000814-1774639800-1774647000@athensdeland.com
SUMMARY:Moonflower: The Spirit of Santana
DESCRIPTION:Moonflower is a tribute to the music of Santana\, performed by five musicians whose love for Santana and his music comes first. \nMoonflower features Mark Barrios on guitar and vocals\, a long-time and well-respected guitarist in the Tampa Bay area. On keys is Brad Trumbull\, and on vocals\, Manny Betancourt on percussion and vocals\, Howard Kleinfeld on bass\, and David Nunez on drums. \nThe intent of Moonflower is to reproduce the sound\, the feelings\, and the excitement of the great music of Santana! \n\n\n\n\n\nHere is what past guests have to say:\n• “Four of us attended and had a wonderful evening—the band was outstanding. It would have been nice to hear a bit more about how they came together and some introductions\, but overall\, a great show.” — Aaron K. \n• “Moonflower: The Spirit of Santana was absolutely wonderful! We enjoyed it so much and would definitely attend again. Please bring them back!” — Lisa M. \n• “As a guitarist\, I especially appreciated the guitar work—it was exceptional. The band’s energy was contagious and they clearly loved what they were doing. We love the Athens Theatre and already have more events booked.” — David R. \n• “Fantastic performance—an easy 10. The band sounded incredibly close to Santana\, and every performer was excellent. The theatre itself was comfortable\, the sound and lighting were top-notch\, and the staff was as friendly and helpful as always.” — Karen T. \n• “We’d gladly give this show a 10! Every band member was excellent. One of the best shows we’ve seen—thank you for bringing Moonflower to the Athens Theatre.” — Michael & Susan P. \n• “A solid 10—great show from start to finish.” — Brian L. \n• “10!!!” — Angela D. \n• “We love the Athens Theatre—the history\, the charm\, the welcoming staff\, and of course\, the music. Always a great experience.” — Robert C. \n• “Moonflower was a 10.” — James H. \n\n\n\nRESERVED SEATING\n\n\nPreferred Reserved Seating $401st. 6 rows Orchestra & 2 Rows Center Balcony \nGeneral Reserved Seating $35 \nA $5.00 per ticket Processing charge is added to all purchases and we collect a 6.5% State and County Sales Tax \nDue to the fact that the Historic Athens Theatre does not have an elevator to the balcony. The balcony is not accessible to anyone with a wheelchair or walker. \nAll Patrons with special needs can contact the Box Office at 386-736-1500 for our wheelchair/walker accessible seating. \n\n\n\n\n\nSPECIAL BOX SEAT PACKAGE \nBOX SEATS AVAILABLE6 SEATS PER BOX SEAT AREA $300PLEASE CONTACT THE BOX OFFICE AT 386-736-1500
URL:https://athensdeland.com/event/moonflower-the-spirit-of-santana-04-2024/
CATEGORIES:Concert/Performances/Events
ATTACH;FMTTYPE=image/png:https://athensdeland.com/wp-content/uploads/2023/10/Santana-Tribute-2026_Web-2.png
END:VEVENT
END:VCALENDAR