BEGIN:VCALENDAR
VERSION:2.0
PRODID:-//Athens Theatre | Deland, Florida - ECPv6.15.17.1//NONSGML v1.0//EN
CALSCALE:GREGORIAN
METHOD:PUBLISH
X-WR-CALNAME:Athens Theatre | Deland, Florida
X-ORIGINAL-URL:https://athensdeland.com
X-WR-CALDESC:Events for Athens Theatre | Deland, Florida
REFRESH-INTERVAL;VALUE=DURATION:PT1H
X-Robots-Tag:noindex
X-PUBLISHED-TTL:PT1H
BEGIN:VTIMEZONE
TZID:America/New_York
BEGIN:DAYLIGHT
TZOFFSETFROM:-0500
TZOFFSETTO:-0400
TZNAME:EDT
DTSTART:20260308T070000
END:DAYLIGHT
BEGIN:STANDARD
TZOFFSETFROM:-0400
TZOFFSETTO:-0500
TZNAME:EST
DTSTART:20261101T060000
END:STANDARD
BEGIN:DAYLIGHT
TZOFFSETFROM:-0500
TZOFFSETTO:-0400
TZNAME:EDT
DTSTART:20270314T070000
END:DAYLIGHT
BEGIN:STANDARD
TZOFFSETFROM:-0400
TZOFFSETTO:-0500
TZNAME:EST
DTSTART:20271107T060000
END:STANDARD
BEGIN:DAYLIGHT
TZOFFSETFROM:-0500
TZOFFSETTO:-0400
TZNAME:EDT
DTSTART:20280312T070000
END:DAYLIGHT
BEGIN:STANDARD
TZOFFSETFROM:-0400
TZOFFSETTO:-0500
TZNAME:EST
DTSTART:20281105T060000
END:STANDARD
END:VTIMEZONE
BEGIN:VEVENT
DTSTART;TZID=America/New_York:20270115T193000
DTEND;TZID=America/New_York:20270115T211500
DTSTAMP:20260425T115258
CREATED:20190829T141823Z
LAST-MODIFIED:20260219T162842Z
UID:10004982-1800041400-1800047700@athensdeland.com
SUMMARY:THE ROCKET MAN SHOW
DESCRIPTION:This is Elton! Rus Anderson is Elton John’s official body double for his Farewell Yellow Brick Road world tour launch promo video. Picked by the man himself\, Rus performs as a young Elton John in The Rocket Man Show – driving a night of Elton’s greatest hits\, with spot on vocals & fierce piano playing. Rus painstakingly recreates an early Elton concert with gorgeous\, colorful & flamboyant costumes actually worn by Elton – including boots\, glasses & jumpsuits from 1973\, as well as his sparkly tuxedo from 1984! With all the classic young Elton antics\, audiences are in for a night of nostalgia\, singing\, laughing & participation.\nRemember when rock was young? You will after the show! \nReviews from past patrons include: \n\n“We were BLOWN AWAY by the Rocket Man concert last night. Rus was phenomenal as Elton John! The singers and the band were fantastic! We look forward to seeing Rus again NEXT YEAR! So\, PLEASE BRING THEM BACK!” — Linda F.\n“Definitely a 10. My husband and I both loved it and had a blast. Forgot sometimes that we weren’t watching the real Elton John.” — Nancy M.\n“Absolutely outstanding. Rus Anderson & the band were incredibly talented. The sound system\, stage props\, and costume design were Broadway quality.” — John C.\n“It was amazing! His energy just doesn’t stop. It took me right back to the 70s. The band is fantastic\, so much talent. I can’t wait for next year.” — David H.\n\n\nRESERVED SEATING\nPreferred Reserved Seating $40\n1st. 6 rows Orchestra & 2 Rows Center Balcony \nGeneral Reserved Seating $35 \nA $5.00 per ticket Processing charge is added to all purchases and we collect a 6.5% State and County Sales Tax \nDue to the fact that the Historic Athens Theatre does not have an elevator to the balcony. The balcony is not accessible to anyone with a wheelchair or walker. \nAll Patrons with special needs can contact the Box Office at 386-736-1500 for our wheelchair/walker accessible seating. \n\nSPECIAL BOX SEAT PACKAGE\nBOX SEATS AVAILABLE\n6 SEATS PER BOX SEAT AREA $300\nPLEASE CONTACT THE BOX OFFICE AT 386-736-1500
URL:https://athensdeland.com/event/the-rocketman-show/2027-01-15/
CATEGORIES:Concert/Performances/Events
ATTACH;FMTTYPE=image/webp:https://athensdeland.com/wp-content/uploads/2019/08/Rocket-Man_2027_Web-1.webp
END:VEVENT
END:VCALENDAR