BEGIN:VCALENDAR
VERSION:2.0
PRODID:-//Athens Theatre | Deland, Florida - ECPv6.15.17.1//NONSGML v1.0//EN
CALSCALE:GREGORIAN
METHOD:PUBLISH
X-ORIGINAL-URL:https://athensdeland.com
X-WR-CALDESC:Events for Athens Theatre | Deland, Florida
REFRESH-INTERVAL;VALUE=DURATION:PT1H
X-Robots-Tag:noindex
X-PUBLISHED-TTL:PT1H
BEGIN:VTIMEZONE
TZID:America/New_York
BEGIN:DAYLIGHT
TZOFFSETFROM:-0500
TZOFFSETTO:-0400
TZNAME:EDT
DTSTART:20240310T070000
END:DAYLIGHT
BEGIN:STANDARD
TZOFFSETFROM:-0400
TZOFFSETTO:-0500
TZNAME:EST
DTSTART:20241103T060000
END:STANDARD
BEGIN:DAYLIGHT
TZOFFSETFROM:-0500
TZOFFSETTO:-0400
TZNAME:EDT
DTSTART:20250309T070000
END:DAYLIGHT
BEGIN:STANDARD
TZOFFSETFROM:-0400
TZOFFSETTO:-0500
TZNAME:EST
DTSTART:20251102T060000
END:STANDARD
BEGIN:DAYLIGHT
TZOFFSETFROM:-0500
TZOFFSETTO:-0400
TZNAME:EDT
DTSTART:20260308T070000
END:DAYLIGHT
BEGIN:STANDARD
TZOFFSETFROM:-0400
TZOFFSETTO:-0500
TZNAME:EST
DTSTART:20261101T060000
END:STANDARD
END:VTIMEZONE
BEGIN:VEVENT
DTSTART;TZID=America/New_York:20251213T110000
DTEND;TZID=America/New_York:20251213T123000
DTSTAMP:20260424T121220
CREATED:20211130T211043Z
LAST-MODIFIED:20251201T134213Z
UID:10003707-1765623600-1765629000@athensdeland.com
SUMMARY:WINTER RECITAL 2025
DESCRIPTION:It’s time for a night of music and merriment! Our voice\, acting\, and dance students at the Athens Theatre Youth Academy have been working hard and are ready to perform for you. Join us as we celebrate their accomplishments! \nSaturday\, December 13th at the Athens Theatre\, 124 N Florida Ave\, DeLand\, FL 32720. \n\nBUY TICKETS FOR 10 AM RECITAL HERE \nBUY TICKETS FOR 12:15 PM RECITAL HERE \n\nRESERVED SEATING\nPreferred Seating – $18 \nGeneral Seating – $15 \nA $5.00 per ticket Processing charge is added to all purchases. \nAs the historic Athens Theatre does not have an elevator\, the balcony is not accessible to anyone with a wheelchair or walker. \nAll Patrons with special needs can contact the Box Office at 386-736-1500 for our wheelchair/walker accessible seating. \nContact our box office at 386-736-1500 to reserve your seats today!
URL:https://athensdeland.com/event/winter-recital-2023/2025-12-13/1/
CATEGORIES:Concert/Performances/Events,Youth Activities
ATTACH;FMTTYPE=image/png:https://athensdeland.com/wp-content/uploads/2021/11/YA_WinterRecital_2025_Web-1.png
END:VEVENT
BEGIN:VEVENT
DTSTART;TZID=America/New_York:20251213T121500
DTEND;TZID=America/New_York:20251213T134500
DTSTAMP:20260424T121220
CREATED:20211130T211043Z
LAST-MODIFIED:20251201T134213Z
UID:10003708-1765628100-1765633500@athensdeland.com
SUMMARY:WINTER RECITAL 2025
DESCRIPTION:It’s time for a night of music and merriment! Our voice\, acting\, and dance students at the Athens Theatre Youth Academy have been working hard and are ready to perform for you. Join us as we celebrate their accomplishments! \nSaturday\, December 13th at the Athens Theatre\, 124 N Florida Ave\, DeLand\, FL 32720. \n\nBUY TICKETS FOR 10 AM RECITAL HERE \nBUY TICKETS FOR 12:15 PM RECITAL HERE \n\nRESERVED SEATING\nPreferred Seating – $18 \nGeneral Seating – $15 \nA $5.00 per ticket Processing charge is added to all purchases. \nAs the historic Athens Theatre does not have an elevator\, the balcony is not accessible to anyone with a wheelchair or walker. \nAll Patrons with special needs can contact the Box Office at 386-736-1500 for our wheelchair/walker accessible seating. \nContact our box office at 386-736-1500 to reserve your seats today!
URL:https://athensdeland.com/event/winter-recital-2023/2025-12-13/2/
CATEGORIES:Concert/Performances/Events,Youth Activities
ATTACH;FMTTYPE=image/png:https://athensdeland.com/wp-content/uploads/2021/11/YA_WinterRecital_2025_Web-1.png
END:VEVENT
BEGIN:VEVENT
DTSTART;TZID=America/New_York:20251213T150000
DTEND;TZID=America/New_York:20251213T163000
DTSTAMP:20260424T121220
CREATED:20231117T173706Z
LAST-MODIFIED:20251201T134109Z
UID:10003705-1765638000-1765643400@athensdeland.com
SUMMARY:Winter Showcase (K-2) & (3-12)!
DESCRIPTION:WINTER SHOWCASE 2025: Grades K – 2 (Saturday\, December 13th at 3:00pm) \nIt’s the most festive time of year! Our youngest Athens Theatre Youth Academy students will be coming together to show you what they’ve been working on in class this semester! Featuring students from the following classes: \n\nKids Music Time\nKids Dance\n\nWINTER SHOWCASE 2025: Grades 3 – 12 (Tuesday\, December 16th at 7:00pm) \nAll Athens Theatre Youth Academy students in grades 3 through 12 will be coming together to show you what they’ve been working on in class this semester! Featuring students from the following classes: \n\nCreative Drama\nBeginning Improvisation\nAdvanced Improvisation\nMusical Theatre 1\nMusical Theatre 2\nActing & Public Speaking\n\n\nBUY TICKETS FOR GRADES K-2 SHOWCASE HERE \nBUY TICKETS FOR GRADES 3-12 SHOWCASE HERE \n\n(K-2) RESERVED SEATING\nPreferred Seating – $15 \nGeneral Seating – $12 \n(3-12) RESERVED SEATING\nPreferred Seating – $18 \nGeneral Seating – $15 \nA $5.00 per ticket Processing charge is added to all purchases. \nAs the historic Athens Theatre does not have an elevator\, the balcony is not accessible to anyone with a wheelchair or walker. \nAll Patrons with special needs can contact the Box Office at 386-736-1500 for our wheelchair/walker accessible seating. \nContact our box office at 386-736-1500 to reserve your seats today!
URL:https://athensdeland.com/event/winter-showcase-k-2-3-12/2025-12-13/
LOCATION:Athens Theatre\, 124 N Florida Ave\, DeLand\, FL\, 32720\, United States
CATEGORIES:Concert/Performances/Events,Youth Activities
ATTACH;FMTTYPE=image/png:https://athensdeland.com/wp-content/uploads/2023/11/YA_WinterShowcaseCombo_2025_Web.png
END:VEVENT
END:VCALENDAR