BEGIN:VCALENDAR
VERSION:2.0
PRODID:-//Athens Theatre | Deland, Florida - ECPv6.15.17.1//NONSGML v1.0//EN
CALSCALE:GREGORIAN
METHOD:PUBLISH
X-ORIGINAL-URL:https://athensdeland.com
X-WR-CALDESC:Events for Athens Theatre | Deland, Florida
REFRESH-INTERVAL;VALUE=DURATION:PT1H
X-Robots-Tag:noindex
X-PUBLISHED-TTL:PT1H
BEGIN:VTIMEZONE
TZID:America/New_York
BEGIN:DAYLIGHT
TZOFFSETFROM:-0500
TZOFFSETTO:-0400
TZNAME:EDT
DTSTART:20250309T070000
END:DAYLIGHT
BEGIN:STANDARD
TZOFFSETFROM:-0400
TZOFFSETTO:-0500
TZNAME:EST
DTSTART:20251102T060000
END:STANDARD
BEGIN:DAYLIGHT
TZOFFSETFROM:-0500
TZOFFSETTO:-0400
TZNAME:EDT
DTSTART:20260308T070000
END:DAYLIGHT
BEGIN:STANDARD
TZOFFSETFROM:-0400
TZOFFSETTO:-0500
TZNAME:EST
DTSTART:20261101T060000
END:STANDARD
BEGIN:DAYLIGHT
TZOFFSETFROM:-0500
TZOFFSETTO:-0400
TZNAME:EDT
DTSTART:20270314T070000
END:DAYLIGHT
BEGIN:STANDARD
TZOFFSETFROM:-0400
TZOFFSETTO:-0500
TZNAME:EST
DTSTART:20271107T060000
END:STANDARD
END:VTIMEZONE
BEGIN:VEVENT
DTSTART;TZID=America/New_York:20260530T193000
DTEND;TZID=America/New_York:20260530T213000
DTSTAMP:20260424T102217
CREATED:20240126T193135Z
LAST-MODIFIED:20250808T154302Z
UID:10001005-1780169400-1780176600@athensdeland.com
SUMMARY:Simply Tina\, A Tribute to Tina Turner
DESCRIPTION:The Ultimate Tina Turner Tribute Show \nSimply Tina is a phenomenal Tina Turner tribute band hailing from South Florida. They capture the essence and electrifying energy of the legendary Queen of Rock ‘n’ Roll with remarkable precision and passion. From their dynamic stage presence to their impeccable renditions of Tina’s greatest hits\, Simply Tina transports audiences back in time to experience the powerhouse performances that made Tina Turner an icon. With their exceptional vocal talent\, authentic costumes\, and a live band that delivers exhilarating music\, Simply Tina offers an unforgettable tribute experience that leaves audiences mesmerized and craving more. They have become a staple in the South Florida music scene and the United States\, enchanting crowds and paying homage to the incomparable Tina Turner in the most captivating way possible. \n\nRESERVE SEATING\nPreferred Reserved Seating $40\n1st. 6 rows Orchestra & 2 Rows Center Balcony \nGeneral Reserved Seating $35 \nA $5.00 per ticket Processing charge is added to all purchases and we collect a 6.5% State and County Sales Tax \nDue to the fact that the Historic Athens Theatre does not have an elevator to the balcony. The balcony is not accessible to anyone with a wheelchair or walker. \nAll Patrons with special needs can contact the Box Office at 386-736-1500 for our wheelchair/walker accessible seating. \n\nSPECIAL BOX SEAT PACKAGE\nBOX SEATS AVAILABLE\n6 SEATS PER BOX SEAT AREA $300\nPLEASE CONTACT THE BOX OFFICE AT 386-736-1500
URL:https://athensdeland.com/event/simply-tina-a-tribute-to-tina-turner-tickets-available-04-2024/
CATEGORIES:Concert/Performances/Events
ATTACH;FMTTYPE=image/png:https://athensdeland.com/wp-content/uploads/2024/01/TinaTurner_2026_Web-2.png
END:VEVENT
END:VCALENDAR