BEGIN:VCALENDAR
VERSION:2.0
PRODID:-//Athens Theatre | Deland, Florida - ECPv6.15.17.1//NONSGML v1.0//EN
CALSCALE:GREGORIAN
METHOD:PUBLISH
X-ORIGINAL-URL:https://athensdeland.com
X-WR-CALDESC:Events for Athens Theatre | Deland, Florida
REFRESH-INTERVAL;VALUE=DURATION:PT1H
X-Robots-Tag:noindex
X-PUBLISHED-TTL:PT1H
BEGIN:VTIMEZONE
TZID:America/New_York
BEGIN:DAYLIGHT
TZOFFSETFROM:-0500
TZOFFSETTO:-0400
TZNAME:EDT
DTSTART:20250309T070000
END:DAYLIGHT
BEGIN:STANDARD
TZOFFSETFROM:-0400
TZOFFSETTO:-0500
TZNAME:EST
DTSTART:20251102T060000
END:STANDARD
BEGIN:DAYLIGHT
TZOFFSETFROM:-0500
TZOFFSETTO:-0400
TZNAME:EDT
DTSTART:20260308T070000
END:DAYLIGHT
BEGIN:STANDARD
TZOFFSETFROM:-0400
TZOFFSETTO:-0500
TZNAME:EST
DTSTART:20261101T060000
END:STANDARD
BEGIN:DAYLIGHT
TZOFFSETFROM:-0500
TZOFFSETTO:-0400
TZNAME:EDT
DTSTART:20270314T070000
END:DAYLIGHT
BEGIN:STANDARD
TZOFFSETFROM:-0400
TZOFFSETTO:-0500
TZNAME:EST
DTSTART:20271107T060000
END:STANDARD
END:VTIMEZONE
BEGIN:VEVENT
DTSTART;TZID=America/New_York:20260612T193000
DTEND;TZID=America/New_York:20260612T213000
DTSTAMP:20260424T085212
CREATED:20190829T195118Z
LAST-MODIFIED:20251218T182758Z
UID:10003393-1781292600-1781299800@athensdeland.com
SUMMARY:A Journey Through the Music of The Eagles
DESCRIPTION:Don’t miss the return to the Athens of Florida’s finest and most respected musicians who have reproduced the sound that made the Eagles one of the most successful musical groups in rock and roll history. They capture the energy\, melodies and with five voices filling the harmonic they undoubtedly will please the greatest of any and all Eagles fans. You won’t hear a Tribute Band this great till Hell Freezes Over! \nReviews from past audience members include: \n“Absolutely the best concert we’ve attended at the Athens Theatre. I’ve seen the Eagles live—twice—and these guys did them proud. The harmonies\, the energy\, the whole vibe was incredible.” – David A. \n“Fabulous. I’ve been coming to see The Long Run every year since 2016. I even brought four friends this time\, and they were completely blown away. Easily the best tribute band touring right now.” – Linda M. \n“We’ve seen a lot of tribute shows\, but this was hands-down the best. My wife and I gave it a 10 without hesitation. We’ll be first in line if they come back!” – Marcus T. \n“The Long Run brought back so many memories. Their performance was polished\, powerful\, and full of heart. It was like stepping into a real Eagles concert.” – Brenda S. \n“An outstanding show in every way. This was our second time at the Athens and both the theatre and the band delivered an unforgettable night. Can’t wait to come back.” – Tom R. \n“This was BY FAR THE BEST CONCERT we have been to there! The way the band interacted with each other AND the audience was OUTSTANDING. AND the fact that they actually came outside in the Florida humidity to greet and mingle with the crowd was such a plus! WE WILL DEFINITELY be back to see them again and get the box seats again for this outstanding performance!” — Martin G. \n“We come every year to see them – LOVE every minute of the show! If you closed your eyes\, you’d think they were the real Eagles! Thank you for continuing to schedule them! Maybe twice a year?!” — Katherine S. \n\nRESERVE SEATING\nPreferred Reserved Seating $42\n1st. 6 rows Orchestra & 2 Rows Center Balcony \nGeneral Reserved Seating $37 \nA $5.00 per ticket Processing charge is added to all purchases and we collect a 6.5% State and County Sales Tax \nDue to the fact that the Historic Athens Theatre does not have an elevator to the balcony. The balcony is not accessible to anyone with a wheelchair or walker. \nAll Patrons with special needs can contact the Box Office at 386-736-1500 for our wheelchair/walker accessible seating. \n\nSPECIAL BOX SEAT PACKAGE\nBOX SEATS AVAILABLE\n6 SEATS PER BOX SEAT AREA $300 (plus fees)\nPLEASE CONTACT THE BOX OFFICE AT 386-736-1500
URL:https://athensdeland.com/event/a-journey-through-the-music-of-the-eagles/2026-06-12/
CATEGORIES:Concert/Performances/Events
ATTACH;FMTTYPE=image/png:https://athensdeland.com/wp-content/uploads/2019/08/Eagles-Long-Run_2026_Web-1.png
END:VEVENT
BEGIN:VEVENT
DTSTART;TZID=America/New_York:20260613T140000
DTEND;TZID=America/New_York:20260613T160000
DTSTAMP:20260424T085212
CREATED:20190829T195118Z
LAST-MODIFIED:20251218T182758Z
UID:10003394-1781359200-1781366400@athensdeland.com
SUMMARY:A Journey Through the Music of The Eagles
DESCRIPTION:Don’t miss the return to the Athens of Florida’s finest and most respected musicians who have reproduced the sound that made the Eagles one of the most successful musical groups in rock and roll history. They capture the energy\, melodies and with five voices filling the harmonic they undoubtedly will please the greatest of any and all Eagles fans. You won’t hear a Tribute Band this great till Hell Freezes Over! \nReviews from past audience members include: \n“Absolutely the best concert we’ve attended at the Athens Theatre. I’ve seen the Eagles live—twice—and these guys did them proud. The harmonies\, the energy\, the whole vibe was incredible.” – David A. \n“Fabulous. I’ve been coming to see The Long Run every year since 2016. I even brought four friends this time\, and they were completely blown away. Easily the best tribute band touring right now.” – Linda M. \n“We’ve seen a lot of tribute shows\, but this was hands-down the best. My wife and I gave it a 10 without hesitation. We’ll be first in line if they come back!” – Marcus T. \n“The Long Run brought back so many memories. Their performance was polished\, powerful\, and full of heart. It was like stepping into a real Eagles concert.” – Brenda S. \n“An outstanding show in every way. This was our second time at the Athens and both the theatre and the band delivered an unforgettable night. Can’t wait to come back.” – Tom R. \n“This was BY FAR THE BEST CONCERT we have been to there! The way the band interacted with each other AND the audience was OUTSTANDING. AND the fact that they actually came outside in the Florida humidity to greet and mingle with the crowd was such a plus! WE WILL DEFINITELY be back to see them again and get the box seats again for this outstanding performance!” — Martin G. \n“We come every year to see them – LOVE every minute of the show! If you closed your eyes\, you’d think they were the real Eagles! Thank you for continuing to schedule them! Maybe twice a year?!” — Katherine S. \n\nRESERVE SEATING\nPreferred Reserved Seating $42\n1st. 6 rows Orchestra & 2 Rows Center Balcony \nGeneral Reserved Seating $37 \nA $5.00 per ticket Processing charge is added to all purchases and we collect a 6.5% State and County Sales Tax \nDue to the fact that the Historic Athens Theatre does not have an elevator to the balcony. The balcony is not accessible to anyone with a wheelchair or walker. \nAll Patrons with special needs can contact the Box Office at 386-736-1500 for our wheelchair/walker accessible seating. \n\nSPECIAL BOX SEAT PACKAGE\nBOX SEATS AVAILABLE\n6 SEATS PER BOX SEAT AREA $300 (plus fees)\nPLEASE CONTACT THE BOX OFFICE AT 386-736-1500
URL:https://athensdeland.com/event/a-journey-through-the-music-of-the-eagles/2026-06-13/1/
CATEGORIES:Concert/Performances/Events
ATTACH;FMTTYPE=image/png:https://athensdeland.com/wp-content/uploads/2019/08/Eagles-Long-Run_2026_Web-1.png
END:VEVENT
BEGIN:VEVENT
DTSTART;TZID=America/New_York:20260613T193000
DTEND;TZID=America/New_York:20260613T213000
DTSTAMP:20260424T085212
CREATED:20190829T195118Z
LAST-MODIFIED:20251218T182758Z
UID:10003395-1781379000-1781386200@athensdeland.com
SUMMARY:A Journey Through the Music of The Eagles
DESCRIPTION:Don’t miss the return to the Athens of Florida’s finest and most respected musicians who have reproduced the sound that made the Eagles one of the most successful musical groups in rock and roll history. They capture the energy\, melodies and with five voices filling the harmonic they undoubtedly will please the greatest of any and all Eagles fans. You won’t hear a Tribute Band this great till Hell Freezes Over! \nReviews from past audience members include: \n“Absolutely the best concert we’ve attended at the Athens Theatre. I’ve seen the Eagles live—twice—and these guys did them proud. The harmonies\, the energy\, the whole vibe was incredible.” – David A. \n“Fabulous. I’ve been coming to see The Long Run every year since 2016. I even brought four friends this time\, and they were completely blown away. Easily the best tribute band touring right now.” – Linda M. \n“We’ve seen a lot of tribute shows\, but this was hands-down the best. My wife and I gave it a 10 without hesitation. We’ll be first in line if they come back!” – Marcus T. \n“The Long Run brought back so many memories. Their performance was polished\, powerful\, and full of heart. It was like stepping into a real Eagles concert.” – Brenda S. \n“An outstanding show in every way. This was our second time at the Athens and both the theatre and the band delivered an unforgettable night. Can’t wait to come back.” – Tom R. \n“This was BY FAR THE BEST CONCERT we have been to there! The way the band interacted with each other AND the audience was OUTSTANDING. AND the fact that they actually came outside in the Florida humidity to greet and mingle with the crowd was such a plus! WE WILL DEFINITELY be back to see them again and get the box seats again for this outstanding performance!” — Martin G. \n“We come every year to see them – LOVE every minute of the show! If you closed your eyes\, you’d think they were the real Eagles! Thank you for continuing to schedule them! Maybe twice a year?!” — Katherine S. \n\nRESERVE SEATING\nPreferred Reserved Seating $42\n1st. 6 rows Orchestra & 2 Rows Center Balcony \nGeneral Reserved Seating $37 \nA $5.00 per ticket Processing charge is added to all purchases and we collect a 6.5% State and County Sales Tax \nDue to the fact that the Historic Athens Theatre does not have an elevator to the balcony. The balcony is not accessible to anyone with a wheelchair or walker. \nAll Patrons with special needs can contact the Box Office at 386-736-1500 for our wheelchair/walker accessible seating. \n\nSPECIAL BOX SEAT PACKAGE\nBOX SEATS AVAILABLE\n6 SEATS PER BOX SEAT AREA $300 (plus fees)\nPLEASE CONTACT THE BOX OFFICE AT 386-736-1500
URL:https://athensdeland.com/event/a-journey-through-the-music-of-the-eagles/2026-06-13/2/
CATEGORIES:Concert/Performances/Events
ATTACH;FMTTYPE=image/png:https://athensdeland.com/wp-content/uploads/2019/08/Eagles-Long-Run_2026_Web-1.png
END:VEVENT
BEGIN:VEVENT
DTSTART;TZID=America/New_York:20260614T193000
DTEND;TZID=America/New_York:20260614T213000
DTSTAMP:20260424T085212
CREATED:20230313T180419Z
LAST-MODIFIED:20260310T141821Z
UID:10000598-1781465400-1781472600@athensdeland.com
SUMMARY:A Celebration of U.S. 250 Years of Music
DESCRIPTION:Join us as we salute America! \n\n\n\n\n\n\n\nThe Great American Big Band presents a stirring 250th anniversary celebration with a powerful “Patriotic Salute” honoring the spirit and history of the United States. This rousing program journeys through the soundtrack of America\, from the golden age of swing to the timeless patriotic songs that have inspired generations. With the full sound and excitement of a classic big band orchestra\, audiences will experience the music that has celebrated American pride\, resilience\, and unity for nearly two and a half centuries. It’s an uplifting tribute to the nation’s heritage\, filled with beloved melodies\, bold brass\, and the unmistakable spirit of America.\n\n\n\n\n\n\n\n\nRESERVED SEATING\nPreferred Reserved Seating $40\n1st. 6 rows Orchestra & 2 Rows Center Balcony \nAdult $35\nSeniors/Veterans $30\nChild $11 \nA $5.00 per ticket Processing charge is added to all purchases and we collect a 6.5% State and County Sales Tax \n\nSPECIAL BOX SEAT PACKAGE\n6 SEATS PER BOX SEAT AREA $300\nPLEASE CONTACT THE BOX OFFICE AT 386-736-1500 \nDue to the fact that the Historic Athens Theatre does not have an elevator to the balcony. The balcony is not accessible to anyone with a wheelchair or walker. \nAll Patrons with special needs can contact the Box Office at 386-736-1500 for our wheelchair/walker accessible seating.
URL:https://athensdeland.com/event/the-orlando-big-band-salutes-the-usa/
CATEGORIES:Concert/Performances/Events
ATTACH;FMTTYPE=image/png:https://athensdeland.com/wp-content/uploads/2023/03/TGABigBand_PatrioticSalute_2026_Web.png
END:VEVENT
END:VCALENDAR