BEGIN:VCALENDAR
VERSION:2.0
PRODID:-//Athens Theatre | Deland, Florida - ECPv6.15.17.1//NONSGML v1.0//EN
CALSCALE:GREGORIAN
METHOD:PUBLISH
X-ORIGINAL-URL:https://athensdeland.com
X-WR-CALDESC:Events for Athens Theatre | Deland, Florida
REFRESH-INTERVAL;VALUE=DURATION:PT1H
X-Robots-Tag:noindex
X-PUBLISHED-TTL:PT1H
BEGIN:VTIMEZONE
TZID:America/New_York
BEGIN:DAYLIGHT
TZOFFSETFROM:-0500
TZOFFSETTO:-0400
TZNAME:EDT
DTSTART:20250309T070000
END:DAYLIGHT
BEGIN:STANDARD
TZOFFSETFROM:-0400
TZOFFSETTO:-0500
TZNAME:EST
DTSTART:20251102T060000
END:STANDARD
BEGIN:DAYLIGHT
TZOFFSETFROM:-0500
TZOFFSETTO:-0400
TZNAME:EDT
DTSTART:20260308T070000
END:DAYLIGHT
BEGIN:STANDARD
TZOFFSETFROM:-0400
TZOFFSETTO:-0500
TZNAME:EST
DTSTART:20261101T060000
END:STANDARD
BEGIN:DAYLIGHT
TZOFFSETFROM:-0500
TZOFFSETTO:-0400
TZNAME:EDT
DTSTART:20270314T070000
END:DAYLIGHT
BEGIN:STANDARD
TZOFFSETFROM:-0400
TZOFFSETTO:-0500
TZNAME:EST
DTSTART:20271107T060000
END:STANDARD
END:VTIMEZONE
BEGIN:VEVENT
DTSTART;TZID=America/New_York:20261014T193000
DTEND;TZID=America/New_York:20261014T210000
DTSTAMP:20260425T121502
CREATED:20190829T155103Z
LAST-MODIFIED:20251209T210940Z
UID:10000139-1792006200-1792011600@athensdeland.com
SUMMARY:Turnstiles (Billy Joel Tribute)
DESCRIPTION:As a young man\, Tony Monaco (Turnstiles’ band leader) became an inspired\, lifelong fan of the Piano Man and he used that inspiration to grow as a pianist\, vocalist\, and songwriter. As a result\, Billy Joel’s style has been forever imprinted on Tony’s musical soul \nAfter years of performing with various original projects and cover bands\, Tony Monaco has enlisted some of the finest musicians in South Florida to join him in paying tribute to the man he has so much respect and admiration for–Billy Joel. Tony’s focus is on the music and delivering a faithful and completely live Billy Joel experience to share with others. Turnstiles’ renditions of Billy’s hit songs are certain to move the casual listener as well as the hard core “Joel fan” to their feet and have them singing along with all the classics! 5 years into their journey\, Turnstiles has performed for 100’s of thousands of fellow Billy Joel fans\, leaving them overjoyed and screaming for more! …and the best is yet to come as Turnstiles continues to spread the joy that only the timeless\, classic music of Billy Joel can bring! \nPast patron reviews include: \n\n“10. Tony always puts on an amazing show. I’ve seen him about 15 times at various venues\, but for some reason\, the shows at the Athens are just a little more special.” — David L.\n“I rate the Turnstiles performance  an 11! They were excellent and I look forward to returning for their next performance.” — Nancy T.\n“I lost my voice for three days after this concert!  THAT is how good it was!” – Kirk L.\n\n\nRESERVED SEATING \nPreferred Reserved Seating $401st. 6 rows Orchestra & 2 Rows Center Balcony \nGeneral Reserved Seating $35 \nA $5.00 per ticket Processing charge is added to all purchases and we collect a 6.5% State and County Sales Tax \nDue to the fact that the Historic Athens Theatre does not have an elevator to the balcony. The balcony is not accessible to anyone with a wheelchair or walker. \nAll Patrons with special needs can contact the Box Office at 386-736-1500 for our wheelchair/walker accessible seating. \n\n\n\n\n\nSPECIAL BOX SEAT PACKAGE \nBOX SEATS AVAILABLE6 SEATS PER BOX SEAT AREA $300PLEASE CONTACT THE BOX OFFICE AT 386-736-1500
URL:https://athensdeland.com/event/turnstiles/
CATEGORIES:Concert/Performances/Events
ATTACH;FMTTYPE=image/webp:https://athensdeland.com/wp-content/uploads/2019/08/Turnstiles-2026_Web.webp
END:VEVENT
END:VCALENDAR