BEGIN:VCALENDAR
VERSION:2.0
PRODID:-//Athens Theatre | Deland, Florida - ECPv6.15.17.1//NONSGML v1.0//EN
CALSCALE:GREGORIAN
METHOD:PUBLISH
X-ORIGINAL-URL:https://athensdeland.com
X-WR-CALDESC:Events for Athens Theatre | Deland, Florida
REFRESH-INTERVAL;VALUE=DURATION:PT1H
X-Robots-Tag:noindex
X-PUBLISHED-TTL:PT1H
BEGIN:VTIMEZONE
TZID:America/New_York
BEGIN:DAYLIGHT
TZOFFSETFROM:-0500
TZOFFSETTO:-0400
TZNAME:EDT
DTSTART:20200308T070000
END:DAYLIGHT
BEGIN:STANDARD
TZOFFSETFROM:-0400
TZOFFSETTO:-0500
TZNAME:EST
DTSTART:20201101T060000
END:STANDARD
BEGIN:DAYLIGHT
TZOFFSETFROM:-0500
TZOFFSETTO:-0400
TZNAME:EDT
DTSTART:20210314T070000
END:DAYLIGHT
BEGIN:STANDARD
TZOFFSETFROM:-0400
TZOFFSETTO:-0500
TZNAME:EST
DTSTART:20211107T060000
END:STANDARD
BEGIN:DAYLIGHT
TZOFFSETFROM:-0500
TZOFFSETTO:-0400
TZNAME:EDT
DTSTART:20220313T070000
END:DAYLIGHT
BEGIN:STANDARD
TZOFFSETFROM:-0400
TZOFFSETTO:-0500
TZNAME:EST
DTSTART:20221106T060000
END:STANDARD
END:VTIMEZONE
BEGIN:VEVENT
DTSTART;TZID=America/New_York:20210413T164500
DTEND;TZID=America/New_York:20210413T174500
DTSTAMP:20260424T102011
CREATED:20191028T185933Z
LAST-MODIFIED:20201008T145557Z
UID:10000233-1618332300-1618335900@athensdeland.com
SUMMARY:IMPROVISATION\, ACTING\, AND THEATRE GAMES FOR TEENS
DESCRIPTION:For the teen that wants to expand their skills in acting\, public speaking\, and performing. Students will learn core fundamentals of improvisation and acting; focusing on games and exercises that encourage trust\, communication\, active listening\, character development\, and more. We will take these techniques and put them into scene work and monologues\, overall boosting self confidence and impacting their future academic and professional success! \nClasses take place weekly on Tuesdays.\nClasses begin on February 2nd. (No classes during the week of March 22-26.) \n4:45 – 5:45 p.m. Grades 6-12 \nThere will be a showcase Monday\, May 17 at 7 p.m. \nTuition: 1 time $250 payment in full
URL:https://athensdeland.com/event/improvisation-acting-and-theatre-games-for-teens/2021-04-13/
CATEGORIES:Classes,Youth Activities
ATTACH;FMTTYPE=image/jpeg:https://athensdeland.com/wp-content/uploads/2019/09/Improve-acting..-IMAGE.jpg
END:VEVENT
BEGIN:VEVENT
DTSTART;TZID=America/New_York:20210406T164500
DTEND;TZID=America/New_York:20210406T174500
DTSTAMP:20260424T102011
CREATED:20191028T185933Z
LAST-MODIFIED:20201008T145557Z
UID:10000232-1617727500-1617731100@athensdeland.com
SUMMARY:IMPROVISATION\, ACTING\, AND THEATRE GAMES FOR TEENS
DESCRIPTION:For the teen that wants to expand their skills in acting\, public speaking\, and performing. Students will learn core fundamentals of improvisation and acting; focusing on games and exercises that encourage trust\, communication\, active listening\, character development\, and more. We will take these techniques and put them into scene work and monologues\, overall boosting self confidence and impacting their future academic and professional success! \nClasses take place weekly on Tuesdays.\nClasses begin on February 2nd. (No classes during the week of March 22-26.) \n4:45 – 5:45 p.m. Grades 6-12 \nThere will be a showcase Monday\, May 17 at 7 p.m. \nTuition: 1 time $250 payment in full
URL:https://athensdeland.com/event/improvisation-acting-and-theatre-games-for-teens/2021-04-06/
CATEGORIES:Classes,Youth Activities
ATTACH;FMTTYPE=image/jpeg:https://athensdeland.com/wp-content/uploads/2019/09/Improve-acting..-IMAGE.jpg
END:VEVENT
BEGIN:VEVENT
DTSTART;TZID=America/New_York:20210330T164500
DTEND;TZID=America/New_York:20210330T174500
DTSTAMP:20260424T102011
CREATED:20191028T185933Z
LAST-MODIFIED:20201008T145557Z
UID:10000231-1617122700-1617126300@athensdeland.com
SUMMARY:IMPROVISATION\, ACTING\, AND THEATRE GAMES FOR TEENS
DESCRIPTION:For the teen that wants to expand their skills in acting\, public speaking\, and performing. Students will learn core fundamentals of improvisation and acting; focusing on games and exercises that encourage trust\, communication\, active listening\, character development\, and more. We will take these techniques and put them into scene work and monologues\, overall boosting self confidence and impacting their future academic and professional success! \nClasses take place weekly on Tuesdays.\nClasses begin on February 2nd. (No classes during the week of March 22-26.) \n4:45 – 5:45 p.m. Grades 6-12 \nThere will be a showcase Monday\, May 17 at 7 p.m. \nTuition: 1 time $250 payment in full
URL:https://athensdeland.com/event/improvisation-acting-and-theatre-games-for-teens/2021-03-30/
CATEGORIES:Classes,Youth Activities
ATTACH;FMTTYPE=image/jpeg:https://athensdeland.com/wp-content/uploads/2019/09/Improve-acting..-IMAGE.jpg
END:VEVENT
BEGIN:VEVENT
DTSTART;TZID=America/New_York:20210316T164500
DTEND;TZID=America/New_York:20210316T174500
DTSTAMP:20260424T102011
CREATED:20191028T185933Z
LAST-MODIFIED:20201008T145557Z
UID:10000230-1615913100-1615916700@athensdeland.com
SUMMARY:IMPROVISATION\, ACTING\, AND THEATRE GAMES FOR TEENS
DESCRIPTION:For the teen that wants to expand their skills in acting\, public speaking\, and performing. Students will learn core fundamentals of improvisation and acting; focusing on games and exercises that encourage trust\, communication\, active listening\, character development\, and more. We will take these techniques and put them into scene work and monologues\, overall boosting self confidence and impacting their future academic and professional success! \nClasses take place weekly on Tuesdays.\nClasses begin on February 2nd. (No classes during the week of March 22-26.) \n4:45 – 5:45 p.m. Grades 6-12 \nThere will be a showcase Monday\, May 17 at 7 p.m. \nTuition: 1 time $250 payment in full
URL:https://athensdeland.com/event/improvisation-acting-and-theatre-games-for-teens/2021-03-16/
CATEGORIES:Classes,Youth Activities
ATTACH;FMTTYPE=image/jpeg:https://athensdeland.com/wp-content/uploads/2019/09/Improve-acting..-IMAGE.jpg
END:VEVENT
BEGIN:VEVENT
DTSTART;TZID=America/New_York:20210309T164500
DTEND;TZID=America/New_York:20210309T174500
DTSTAMP:20260424T102011
CREATED:20191028T185933Z
LAST-MODIFIED:20201008T145557Z
UID:10000229-1615308300-1615311900@athensdeland.com
SUMMARY:IMPROVISATION\, ACTING\, AND THEATRE GAMES FOR TEENS
DESCRIPTION:For the teen that wants to expand their skills in acting\, public speaking\, and performing. Students will learn core fundamentals of improvisation and acting; focusing on games and exercises that encourage trust\, communication\, active listening\, character development\, and more. We will take these techniques and put them into scene work and monologues\, overall boosting self confidence and impacting their future academic and professional success! \nClasses take place weekly on Tuesdays.\nClasses begin on February 2nd. (No classes during the week of March 22-26.) \n4:45 – 5:45 p.m. Grades 6-12 \nThere will be a showcase Monday\, May 17 at 7 p.m. \nTuition: 1 time $250 payment in full
URL:https://athensdeland.com/event/improvisation-acting-and-theatre-games-for-teens/2021-03-09/
CATEGORIES:Classes,Youth Activities
ATTACH;FMTTYPE=image/jpeg:https://athensdeland.com/wp-content/uploads/2019/09/Improve-acting..-IMAGE.jpg
END:VEVENT
BEGIN:VEVENT
DTSTART;TZID=America/New_York:20210302T164500
DTEND;TZID=America/New_York:20210302T174500
DTSTAMP:20260424T102011
CREATED:20191028T185933Z
LAST-MODIFIED:20201008T145557Z
UID:10000228-1614703500-1614707100@athensdeland.com
SUMMARY:IMPROVISATION\, ACTING\, AND THEATRE GAMES FOR TEENS
DESCRIPTION:For the teen that wants to expand their skills in acting\, public speaking\, and performing. Students will learn core fundamentals of improvisation and acting; focusing on games and exercises that encourage trust\, communication\, active listening\, character development\, and more. We will take these techniques and put them into scene work and monologues\, overall boosting self confidence and impacting their future academic and professional success! \nClasses take place weekly on Tuesdays.\nClasses begin on February 2nd. (No classes during the week of March 22-26.) \n4:45 – 5:45 p.m. Grades 6-12 \nThere will be a showcase Monday\, May 17 at 7 p.m. \nTuition: 1 time $250 payment in full
URL:https://athensdeland.com/event/improvisation-acting-and-theatre-games-for-teens/2021-03-02/
CATEGORIES:Classes,Youth Activities
ATTACH;FMTTYPE=image/jpeg:https://athensdeland.com/wp-content/uploads/2019/09/Improve-acting..-IMAGE.jpg
END:VEVENT
BEGIN:VEVENT
DTSTART;TZID=America/New_York:20210223T164500
DTEND;TZID=America/New_York:20210223T174500
DTSTAMP:20260424T102011
CREATED:20191028T185933Z
LAST-MODIFIED:20201008T145557Z
UID:10000227-1614098700-1614102300@athensdeland.com
SUMMARY:IMPROVISATION\, ACTING\, AND THEATRE GAMES FOR TEENS
DESCRIPTION:For the teen that wants to expand their skills in acting\, public speaking\, and performing. Students will learn core fundamentals of improvisation and acting; focusing on games and exercises that encourage trust\, communication\, active listening\, character development\, and more. We will take these techniques and put them into scene work and monologues\, overall boosting self confidence and impacting their future academic and professional success! \nClasses take place weekly on Tuesdays.\nClasses begin on February 2nd. (No classes during the week of March 22-26.) \n4:45 – 5:45 p.m. Grades 6-12 \nThere will be a showcase Monday\, May 17 at 7 p.m. \nTuition: 1 time $250 payment in full
URL:https://athensdeland.com/event/improvisation-acting-and-theatre-games-for-teens/2021-02-23/
CATEGORIES:Classes,Youth Activities
ATTACH;FMTTYPE=image/jpeg:https://athensdeland.com/wp-content/uploads/2019/09/Improve-acting..-IMAGE.jpg
END:VEVENT
BEGIN:VEVENT
DTSTART;TZID=America/New_York:20210216T164500
DTEND;TZID=America/New_York:20210216T174500
DTSTAMP:20260424T102011
CREATED:20191028T185933Z
LAST-MODIFIED:20201008T145557Z
UID:10000226-1613493900-1613497500@athensdeland.com
SUMMARY:IMPROVISATION\, ACTING\, AND THEATRE GAMES FOR TEENS
DESCRIPTION:For the teen that wants to expand their skills in acting\, public speaking\, and performing. Students will learn core fundamentals of improvisation and acting; focusing on games and exercises that encourage trust\, communication\, active listening\, character development\, and more. We will take these techniques and put them into scene work and monologues\, overall boosting self confidence and impacting their future academic and professional success! \nClasses take place weekly on Tuesdays.\nClasses begin on February 2nd. (No classes during the week of March 22-26.) \n4:45 – 5:45 p.m. Grades 6-12 \nThere will be a showcase Monday\, May 17 at 7 p.m. \nTuition: 1 time $250 payment in full
URL:https://athensdeland.com/event/improvisation-acting-and-theatre-games-for-teens/2021-02-16/
CATEGORIES:Classes,Youth Activities
ATTACH;FMTTYPE=image/jpeg:https://athensdeland.com/wp-content/uploads/2019/09/Improve-acting..-IMAGE.jpg
END:VEVENT
BEGIN:VEVENT
DTSTART;TZID=America/New_York:20210209T164500
DTEND;TZID=America/New_York:20210209T174500
DTSTAMP:20260424T102011
CREATED:20191028T185933Z
LAST-MODIFIED:20201008T145557Z
UID:10000225-1612889100-1612892700@athensdeland.com
SUMMARY:IMPROVISATION\, ACTING\, AND THEATRE GAMES FOR TEENS
DESCRIPTION:For the teen that wants to expand their skills in acting\, public speaking\, and performing. Students will learn core fundamentals of improvisation and acting; focusing on games and exercises that encourage trust\, communication\, active listening\, character development\, and more. We will take these techniques and put them into scene work and monologues\, overall boosting self confidence and impacting their future academic and professional success! \nClasses take place weekly on Tuesdays.\nClasses begin on February 2nd. (No classes during the week of March 22-26.) \n4:45 – 5:45 p.m. Grades 6-12 \nThere will be a showcase Monday\, May 17 at 7 p.m. \nTuition: 1 time $250 payment in full
URL:https://athensdeland.com/event/improvisation-acting-and-theatre-games-for-teens/2021-02-09/
CATEGORIES:Classes,Youth Activities
ATTACH;FMTTYPE=image/jpeg:https://athensdeland.com/wp-content/uploads/2019/09/Improve-acting..-IMAGE.jpg
END:VEVENT
BEGIN:VEVENT
DTSTART;TZID=America/New_York:20210202T164500
DTEND;TZID=America/New_York:20210202T174500
DTSTAMP:20260424T102011
CREATED:20191028T185933Z
LAST-MODIFIED:20201008T145557Z
UID:10000224-1612284300-1612287900@athensdeland.com
SUMMARY:IMPROVISATION\, ACTING\, AND THEATRE GAMES FOR TEENS
DESCRIPTION:For the teen that wants to expand their skills in acting\, public speaking\, and performing. Students will learn core fundamentals of improvisation and acting; focusing on games and exercises that encourage trust\, communication\, active listening\, character development\, and more. We will take these techniques and put them into scene work and monologues\, overall boosting self confidence and impacting their future academic and professional success! \nClasses take place weekly on Tuesdays.\nClasses begin on February 2nd. (No classes during the week of March 22-26.) \n4:45 – 5:45 p.m. Grades 6-12 \nThere will be a showcase Monday\, May 17 at 7 p.m. \nTuition: 1 time $250 payment in full
URL:https://athensdeland.com/event/improvisation-acting-and-theatre-games-for-teens/2021-02-02/
CATEGORIES:Classes,Youth Activities
ATTACH;FMTTYPE=image/jpeg:https://athensdeland.com/wp-content/uploads/2019/09/Improve-acting..-IMAGE.jpg
END:VEVENT
END:VCALENDAR