BEGIN:VCALENDAR
VERSION:2.0
PRODID:-//Athens Theatre | Deland, Florida - ECPv6.15.17.1//NONSGML v1.0//EN
CALSCALE:GREGORIAN
METHOD:PUBLISH
X-ORIGINAL-URL:https://athensdeland.com
X-WR-CALDESC:Events for Athens Theatre | Deland, Florida
REFRESH-INTERVAL;VALUE=DURATION:PT1H
X-Robots-Tag:noindex
X-PUBLISHED-TTL:PT1H
BEGIN:VTIMEZONE
TZID:America/New_York
BEGIN:DAYLIGHT
TZOFFSETFROM:-0500
TZOFFSETTO:-0400
TZNAME:EDT
DTSTART:20250309T070000
END:DAYLIGHT
BEGIN:STANDARD
TZOFFSETFROM:-0400
TZOFFSETTO:-0500
TZNAME:EST
DTSTART:20251102T060000
END:STANDARD
BEGIN:DAYLIGHT
TZOFFSETFROM:-0500
TZOFFSETTO:-0400
TZNAME:EDT
DTSTART:20260308T070000
END:DAYLIGHT
BEGIN:STANDARD
TZOFFSETFROM:-0400
TZOFFSETTO:-0500
TZNAME:EST
DTSTART:20261101T060000
END:STANDARD
BEGIN:DAYLIGHT
TZOFFSETFROM:-0500
TZOFFSETTO:-0400
TZNAME:EDT
DTSTART:20270314T070000
END:DAYLIGHT
BEGIN:STANDARD
TZOFFSETFROM:-0400
TZOFFSETTO:-0500
TZNAME:EST
DTSTART:20271107T060000
END:STANDARD
END:VTIMEZONE
BEGIN:VEVENT
DTSTART;TZID=America/New_York:20260601T090000
DTEND;TZID=America/New_York:20260601T120000
DTSTAMP:20260425T141911
CREATED:20260128T145917Z
LAST-MODIFIED:20260223T180458Z
UID:10004965-1780304400-1780315200@athensdeland.com
SUMMARY:HEY\, BARBIE!
DESCRIPTION:Rising K – 2nd Grade \n\nJune 1–5 | 9:00 am – 12:00 pm  \nBehind the Scenes – $210 before March 9 \nCenter Stage – $230 March 9 – April 27 \nCurtain Call – $250 after April 27 \nBarbie is so cool — she can be ANYTHING! Teacher\, veterinarian\, astronaut\, rock star\, and more. Campers will sing and dance to some of Barbie’s favorite songs while exploring all the different possibilities she represents. Because YOU can be anything! \nMore About Grades K–2 Camps\nPerfect for our youngest performers\, K–2 camps are a joyful first step into the world of theatre. Campers spend their days singing\, dancing\, playing pretend\, exploring instruments\, and discovering the fun of creative expression in a nurturing\, age-appropriate environment. Every activity is designed to keep little imaginations active and big smiles shining. No reading skills or theatre experience are needed—just curiosity\, creativity\, and a love of fun. \nWhat to Bring \n\nA water bottle and a non-perishable lunch each day\nAll class materials are provided by the theatre\n\nPresentations\nThe excitement builds all week toward a special final presentation on the historic Athens Theatre stage. Family and friends are invited to see what campers have created\, learned\, and accomplished together. Admission is free\, and donations are always welcome in support of youth arts education. \nPresentation will be held on the last day of camp at 11 AM.  \n  \n\nTO REGISTER - CLICK HERE
URL:https://athensdeland.com/event/hey-barbie/
CATEGORIES:Summer Camps,Youth Activities
ATTACH;FMTTYPE=image/webp:https://athensdeland.com/wp-content/uploads/2026/01/Barbie_2026Web.webp
END:VEVENT
BEGIN:VEVENT
DTSTART;TZID=America/New_York:20260608T090000
DTEND;TZID=America/New_York:20260608T150000
DTSTAMP:20260425T141911
CREATED:20240216T181538Z
LAST-MODIFIED:20260223T133028Z
UID:10001590-1780909200-1780930800@athensdeland.com
SUMMARY:SET AND PROP DESIGN
DESCRIPTION:Rising Grades 9-12 \nJune 8-12 | 9 AM – 3 PM \nBehind the Scenes – $285 before March 9 \nCenter Stage – $305 March 9 – April 27 \nCurtain Call – $325 after April 27 \nWe are looking for artistic\, responsible students to help us get ready for our summer productions: The Aristocats KIDS and High School Musical\, Jr. Students will spend the week painting sets\, creating props\, and more in this hands-on camp for students who like to create offstage. \nMore About Grades 6–12 Camps\nDesigned for teens who love performing—or want to try something new—our grades 6–12 camps offer deeper exploration of the performing arts in a supportive\, inspiring environment. Each week focuses on specific creative skills\, with professional teaching artists guiding students in acting\, music\, improv\, dance\, and even elements of design and production. Whether experienced or brand new to the stage\, every camper is welcomed\, challenged\, and encouraged to grow. \nWhat to Bring \n\nA water bottle\, non-perishable lunch\, and two snacks each day.\n\n  \n\n\nTO REGISTER-CLICK HERE
URL:https://athensdeland.com/event/set-and-prop-design/
CATEGORIES:Summer Camps,Youth Activities
ATTACH;FMTTYPE=image/png:https://athensdeland.com/wp-content/uploads/2024/02/Set-Prop-Design_2026Web.png
END:VEVENT
BEGIN:VEVENT
DTSTART;TZID=America/New_York:20260615T090000
DTEND;TZID=America/New_York:20260615T150000
DTSTAMP:20260425T141911
CREATED:20240215T203133Z
LAST-MODIFIED:20260223T174831Z
UID:10001318-1781514000-1781535600@athensdeland.com
SUMMARY:TECH & STAGE CREW
DESCRIPTION:Rising 9 – 12th Grade \n\nPerformances (The Aristocats KIDS  & High School Musical\, Jr.): \nFriday\, June 19 at 7:00 p.m. \nSaturday\, June 20 at 2:30 p.m. \nFriday\, June 26 at 7:00 p.m. \nSaturday\, June 27 at 7:00 p.m. \n\nSunday\, June 28 at 2:30 p.m.\n\n\nREHEARSALS\nJune 15 – 18\, 9am – 3pm\nJune 22 – 25\, 9am – 4pm\n\nSneak Preview – $435 before March 9 \nCenter Stage – $455 March 9 – April 27 \nLast Call – $475 after April 27 \n  \n*All students are required to be fully available for all rehearsals and performances. \nWhat to Bring \n\nA water bottle\, non-perishable lunch\, and two snacks each day\nAll class materials\, including pencils\, music\, and scripts\, are provided\nDigital resources are shared for continued learning at home.\n\n\n\nIf you like to work behind the scenes\, this camp is for you. We are looking for enthusiastic\, responsible students to serve as Backstage Crew\, Stage Managers\, Spotlight Operators\, and Board Operators for our summer production camps: The Aristocats KIDS and High School Musical\, Jr. Students will work backstage and run tech for all performances. \n\n\nENROLL NOW
URL:https://athensdeland.com/event/tech-stage-crew/
CATEGORIES:Summer Camps,Youth Activities
ATTACH;FMTTYPE=image/png:https://athensdeland.com/wp-content/uploads/2024/02/TechandStageCrew_2026Web.png
END:VEVENT
BEGIN:VEVENT
DTSTART;TZID=America/New_York:20260622T090000
DTEND;TZID=America/New_York:20260622T120000
DTSTAMP:20260425T141911
CREATED:20240215T211045Z
LAST-MODIFIED:20260223T180545Z
UID:10001327-1782118800-1782129600@athensdeland.com
SUMMARY:PLAYTIME WITH BLUEY
DESCRIPTION:Rising K – 2nd Grade \nJune 22 – June 26 | 9:00 am – 12:00 pm \nBehind the Scenes – $210 before March 9 \nCenter Stage – $230 March 9 – April 27 \nCurtain Call – $250 after April 27 \nFor real life! Through music and creative play\, your child will set their imagination free like their favorite Aussie pups. Magic Xylophone\, Grannies\, Dance Mode\, and more — plus singing and dancing to some of Bluey’s favorite songs.\nWackadoo! \nMore About Grades K–2 Camps\nPerfect for our youngest performers\, K–2 camps are a joyful first step into the world of theatre. Campers spend their days singing\, dancing\, playing pretend\, exploring instruments\, and discovering the fun of creative expression in a nurturing\, age-appropriate environment. Every activity is designed to keep little imaginations active and big smiles shining. No reading skills or theatre experience are needed—just curiosity\, creativity\, and a love of fun. \nWhat to Bring \n\nA water bottle and a non-perishable lunch each day\nAll class materials are provided by the theatre\n\nPresentations\nThe excitement builds all week toward a special final presentation on the historic Athens Theatre stage. Family and friends are invited to see what campers have created\, learned\, and accomplished together. Admission is free\, and donations are always welcome in support of youth arts education. \nPresentation will be held on the last day of camp at 11 AM. \n\nTO REGISTER-CLICK HERE \n\n 
URL:https://athensdeland.com/event/playtime-with-bluey/
CATEGORIES:Summer Camps,Youth Activities
ATTACH;FMTTYPE=image/png:https://athensdeland.com/wp-content/uploads/2024/02/Playtime-with-Bluey_2026Web-1.png
END:VEVENT
END:VCALENDAR