BEGIN:VCALENDAR
VERSION:2.0
PRODID:-//Athens Theatre | Deland, Florida - ECPv6.15.17.1//NONSGML v1.0//EN
CALSCALE:GREGORIAN
METHOD:PUBLISH
X-ORIGINAL-URL:https://athensdeland.com
X-WR-CALDESC:Events for Athens Theatre | Deland, Florida
REFRESH-INTERVAL;VALUE=DURATION:PT1H
X-Robots-Tag:noindex
X-PUBLISHED-TTL:PT1H
BEGIN:VTIMEZONE
TZID:America/New_York
BEGIN:DAYLIGHT
TZOFFSETFROM:-0500
TZOFFSETTO:-0400
TZNAME:EDT
DTSTART:20240310T070000
END:DAYLIGHT
BEGIN:STANDARD
TZOFFSETFROM:-0400
TZOFFSETTO:-0500
TZNAME:EST
DTSTART:20241103T060000
END:STANDARD
BEGIN:DAYLIGHT
TZOFFSETFROM:-0500
TZOFFSETTO:-0400
TZNAME:EDT
DTSTART:20250309T070000
END:DAYLIGHT
BEGIN:STANDARD
TZOFFSETFROM:-0400
TZOFFSETTO:-0500
TZNAME:EST
DTSTART:20251102T060000
END:STANDARD
BEGIN:DAYLIGHT
TZOFFSETFROM:-0500
TZOFFSETTO:-0400
TZNAME:EDT
DTSTART:20260308T070000
END:DAYLIGHT
BEGIN:STANDARD
TZOFFSETFROM:-0400
TZOFFSETTO:-0500
TZNAME:EST
DTSTART:20261101T060000
END:STANDARD
END:VTIMEZONE
BEGIN:VEVENT
DTSTART;TZID=America/New_York:20250602T090000
DTEND;TZID=America/New_York:20250602T120000
DTSTAMP:20260424T165936
CREATED:20240215T202052Z
LAST-MODIFIED:20250224T154913Z
UID:10001308-1748854800-1748865600@athensdeland.com
SUMMARY:SEUSS ON THE LOOSE
DESCRIPTION:Rising K – 2nd Grade | 9am – 12pm | $210    \n \nJune 2 – 6 \nDo you like green eggs and ham? Through music\, movement\, and creativity\, students will explore the world of Dr. Seuss. Steal Christmas like the Grinch. Plant a truffula tree for the Lorax. Does Horton really hear a Who? Stories\, dances\, crafts and more. Oh\, the thinks you can think when you think about SEUSS! \nENROLL NOW \n 
URL:https://athensdeland.com/event/seuss-on-the-loose/
LOCATION:FL
CATEGORIES:Summer Camps,Youth Activities
ATTACH;FMTTYPE=image/png:https://athensdeland.com/wp-content/uploads/2025/02/Seuss-on-the-Loose_Web.png
END:VEVENT
BEGIN:VEVENT
DTSTART;TZID=America/New_York:20250604T200000
DTEND;TZID=America/New_York:20250604T220000
DTSTAMP:20260424T165936
CREATED:20220725T195341Z
LAST-MODIFIED:20250603T160049Z
UID:10002695-1749067200-1749074400@athensdeland.com
SUMMARY:Rocky Horror Picture Show with Shadow Cast
DESCRIPTION:Don your leather jacket\, corset\, and fishnet tights\, because on June 4th\, DeLand Pride and the Absent Friends are bringing the cult classic “The Rocky Horror Picture Show” back to the Athens Theatre after much “antici… pation.” \nWhether you are experiencing “Rocky” for the first or 100th time (as long as you are over the age of 18) we invite you to come and do “The Time Warp” again. \nThe evening will consist of a pre-show featuring several DeLand Pride drag performances (bring those $ bills for tips!) and the Absent Friends (with emcee Robert Baldwin) with their hysterical Rocky-virgin initiation fun\, the ever-popular 1975 20th Century Fox film\, live shadow cast (in other words\, costumed actors portraying the movie while it is being screened above)\, dancing\, and audience participation (with call backs and prop bags). \nThe film’s plot revolves around a newly engaged and admittedly naïve couple (Brad and Janet) who get stranded on the side of the road during a stormy night and seek refuge in the nearby castle of a strange (yet alluring) Dr. Frank-N-Furter. From there the story becomes increasingly more ridiculous\, raunchy\, and above all\, fun. \nTo make the show more accessible\, we have moved the “midnight showing” up to 8:00 p.m.\, opening with all the “normal” fun frivolity of welcomes\, initiating the “Rocky Virgins\,” and giving patrons a chance to purchase bags filled with audience participation props. \nThe audience is encouraged to come in costume\, sing along with the songs\, dance the dances\, and utilize their approved audience participation props. \nAny unapproved props will be confiscated at the door. \nFl state law requires us to state that this event is an 18 and over event only. Individuals under the age of 18 will not be admitted.  A Valid ID will be necessary for entry.  \n\nReserve Seating\nGeneral Seating (1st come\, 1st serve) $25 \nAudience Participation Prop Bags  $15.00 (Purchase these in advance and make sure to bring your receipt to the show!) \nA $5.00 per ticket processing charge is added to all purchases. \nDue to the fact that the Historic Athens Theatre does not have an elevator to the balcony. The balcony is not accessible to anyone with a wheelchair or walker. \nAll Patrons with special needs can contact the Box Office at 386-736-1500 for our wheelchair/walker accessible seating.
URL:https://athensdeland.com/event/rocky-horror-picture-show-with-shadow-cast/
LOCATION:Athens Theatre\, 124 N Florida Ave\, DeLand\, FL\, 32720\, United States
CATEGORIES:Concert/Performances/Events
ATTACH;FMTTYPE=image/png:https://athensdeland.com/wp-content/uploads/2022/07/Rocky-Horror_Summer2025_Web-2.png
END:VEVENT
BEGIN:VEVENT
DTSTART;TZID=America/New_York:20250606T190000
DTEND;TZID=America/New_York:20250606T203000
DTSTAMP:20260424T165936
CREATED:20250521T203634Z
LAST-MODIFIED:20250521T210049Z
UID:10003387-1749236400-1749241800@athensdeland.com
SUMMARY:SUPERHEROES
DESCRIPTION:A Short Comedy by Ian McWethy \nOne performance only! \nFriday\, June 6th at 7:00pm \nWith Great Power Comes Ordinary Responsibility! \nFor superheroes\, saving the world is tough\, but the time spent away from work is tougher. The Hulk has to do taxes\, a crime-fighting sidekick joins a support group\, and Batman goes stir-crazy without enough criminals to take down. SUPERHEROES is a funny\, fast-paced series of vignettes that explores how the caped crusaders deal with life in street clothes. \nSuperheroes is produced by special arrangement with Playscripts\, Inc. (www.playscripts.com) \n\n\n\n\n\n\n\n\nPreferred Seating – $17 \nGeneral Seating – $12 \nA $5.00 per ticket Processing charge is added to all purchases. \nAs the historic Athens Theatre does not have an elevator\, the balcony is not accessible to anyone with a wheelchair or walker. \nAll Patrons with special needs can contact the Box Office at 386-736-1500 for our wheelchair/walker accessible 
URL:https://athensdeland.com/event/superheroes/
LOCATION:FL
ATTACH;FMTTYPE=image/png:https://athensdeland.com/wp-content/uploads/2025/05/SuperheroesProduction_Web.png
END:VEVENT
BEGIN:VEVENT
DTSTART;TZID=America/New_York:20250620T190000
DTEND;TZID=America/New_York:20250620T194500
DTSTAMP:20260424T165936
CREATED:20250521T204829Z
LAST-MODIFIED:20250621T163125Z
UID:10003388-1750446000-1750448700@athensdeland.com
SUMMARY:Disney’s THE JUNGLE BOOK KIDS
DESCRIPTION:Music and Lyrics by Richard M. Sherman\, Robert B. Sherman\, and Terry Gilkyson \nBook Adapted and Additional Lyrics by Marcy Heisler \nMusic Adapted and Arranged by Bryan Loiuselle \nBased on the Screen play by Larry Clemmons \nBased on the Novel The Jungle Book by Rudyard Kipling and the Disney film \n  \nFriday\, June 20th  at 7:00pm \nSaturday\, June 21st at 2:30pm \n  \nThe jungle is jumpin’ with a jazzy beat in Disney’s The Jungle Book KIDS. Specially adapted from the classic Disney animated film\, Disney’s The Jungle Book KIDS features a host of colorful characters and your favorite songs from the movie. \nBanished by the ferocious tiger\, Shere Khan\, a human boy named Mowgli and his panther friend\, Bagheera\, are on the run in the deepest parts of the jungle. On their journey\, the two meet a sinister snake named Kaa\, a herd of elephants and a giant bear named Baloo\, who teaches them the swingin’ musical rhythms of the jungle. After surviving a dangerous encounter with a band of monkeys led by King Louie\, Mowgli and Bagheera are forced to run for their lives. When Shere Khan returns\, our heroes must rally their fellow animals into battle and restore peace throughout the jungle. \nDisney’s The Jungle Book KIDS is presented through special arrangement with Musical Theatre International (MTI). All authorized performance materials are also supplied by MTI. www.MTIshows.com \n\n\n\n\n\n\n\nPreferred Seating – $17 \n\n\nGeneral Seating – $12 \nA $5.00 per ticket Processing charge is added to all purchases. \nAs the historic Athens Theatre does not have an elevator\, the balcony is not accessible to anyone with a wheelchair or walker. \nAll Patrons with special needs can contact the Box Office at 386-736-1500 for our wheelchair/walker accessible 
URL:https://athensdeland.com/event/disneys-the-jungle-book-kids/2025-06-20/
LOCATION:FL
ATTACH;FMTTYPE=image/webp:https://athensdeland.com/wp-content/uploads/2025/05/JungleBookProduction_Web.webp
END:VEVENT
BEGIN:VEVENT
DTSTART;TZID=America/New_York:20250621T143000
DTEND;TZID=America/New_York:20250621T151500
DTSTAMP:20260424T165936
CREATED:20250521T204829Z
LAST-MODIFIED:20250621T163125Z
UID:10003389-1750516200-1750518900@athensdeland.com
SUMMARY:Disney’s THE JUNGLE BOOK KIDS
DESCRIPTION:Music and Lyrics by Richard M. Sherman\, Robert B. Sherman\, and Terry Gilkyson \nBook Adapted and Additional Lyrics by Marcy Heisler \nMusic Adapted and Arranged by Bryan Loiuselle \nBased on the Screen play by Larry Clemmons \nBased on the Novel The Jungle Book by Rudyard Kipling and the Disney film \n  \nFriday\, June 20th  at 7:00pm \nSaturday\, June 21st at 2:30pm \n  \nThe jungle is jumpin’ with a jazzy beat in Disney’s The Jungle Book KIDS. Specially adapted from the classic Disney animated film\, Disney’s The Jungle Book KIDS features a host of colorful characters and your favorite songs from the movie. \nBanished by the ferocious tiger\, Shere Khan\, a human boy named Mowgli and his panther friend\, Bagheera\, are on the run in the deepest parts of the jungle. On their journey\, the two meet a sinister snake named Kaa\, a herd of elephants and a giant bear named Baloo\, who teaches them the swingin’ musical rhythms of the jungle. After surviving a dangerous encounter with a band of monkeys led by King Louie\, Mowgli and Bagheera are forced to run for their lives. When Shere Khan returns\, our heroes must rally their fellow animals into battle and restore peace throughout the jungle. \nDisney’s The Jungle Book KIDS is presented through special arrangement with Musical Theatre International (MTI). All authorized performance materials are also supplied by MTI. www.MTIshows.com \n\n\n\n\n\n\n\nPreferred Seating – $17 \n\n\nGeneral Seating – $12 \nA $5.00 per ticket Processing charge is added to all purchases. \nAs the historic Athens Theatre does not have an elevator\, the balcony is not accessible to anyone with a wheelchair or walker. \nAll Patrons with special needs can contact the Box Office at 386-736-1500 for our wheelchair/walker accessible 
URL:https://athensdeland.com/event/disneys-the-jungle-book-kids/2025-06-21/
LOCATION:FL
ATTACH;FMTTYPE=image/webp:https://athensdeland.com/wp-content/uploads/2025/05/JungleBookProduction_Web.webp
END:VEVENT
BEGIN:VEVENT
DTSTART;TZID=America/New_York:20250623T090000
DTEND;TZID=America/New_York:20250623T120000
DTSTAMP:20260424T165936
CREATED:20240215T202743Z
LAST-MODIFIED:20250603T124821Z
UID:10001313-1750669200-1750680000@athensdeland.com
SUMMARY:HOW FAR I'LL GO (Waitlist Only)!
DESCRIPTION:Rising K – 2nd Grade | 9am – 12pm | $210    \n \nJune 23 – 27 \nLet’s go on an epic adventure across the ocean! Students will pretend to build a boat\, set sail like the Wayfarers\, and even transform into animals like Maui. They’ll also learn Gramma Tala’s hula\, create their own shiny collection\, and much more. All inspired by music and stories from the world of Moana. You’re welcome! \n\nAdd Your Name to the Waitlist? - Click Here
URL:https://athensdeland.com/event/how-far-ill-go/
LOCATION:FL
CATEGORIES:Summer Camps,Youth Activities
ATTACH;FMTTYPE=image/png:https://athensdeland.com/wp-content/uploads/2024/02/HowFarIllGo_LimitedSpaceWeb.png
END:VEVENT
BEGIN:VEVENT
DTSTART;TZID=America/New_York:20250627T190000
DTEND;TZID=America/New_York:20250627T194500
DTSTAMP:20260424T165936
CREATED:20250522T153337Z
LAST-MODIFIED:20250621T215224Z
UID:10003390-1751050800-1751053500@athensdeland.com
SUMMARY:Disney’s NEWSIES JR.
DESCRIPTION:Music by Alan Menken \nLyrics by Jack Feldman \nBook by Harvey Fierstein \n  \nBased on the Disney Film written by Bob Tzudiker and Noni White \n  \nFriday\, June 27th at 7:00pm \nSaturday\, June 28th at 7:00pm \nSunday\, June 29th at 2:30pm \n  \nDisney’s Newsies JR. is a 60-minute version of the 2012 Broadway musical\, based on the 1992 film. Inspired by the rousing true story of newsboys in turn-of-the-century New York City\, Newsies JR. features a Tony Award-winning score by Alan Menken and Jack Feldman and a book by Tony Award winner Harvey Fierstein. \nWhen powerful newspaper publishers raise prices at the newsboys’ expense\, the charismatic Jack Kelly rallies newsies from across the city to strike against the unfair conditions. Together\, the newsies learn that they are stronger united and create a movement to fight for what’s right. \n\n\n\n\n\n\n\n\n\nPreferred Seating – $22 \nGeneral Seating – $17 \nA $5.00 per ticket Processing charge is added to all purchases. \nAs the historic Athens Theatre does not have an elevator\, the balcony is not accessible to anyone with a wheelchair or walker. \nAll Patrons with special needs can contact the Box Office at 386-736-1500 for our wheelchair/walker accessible 
URL:https://athensdeland.com/event/disneys-newsies-jr/2025-06-27/
LOCATION:FL
ATTACH;FMTTYPE=image/png:https://athensdeland.com/wp-content/uploads/2025/05/NewsiesJr_ProductionWeb.png
END:VEVENT
BEGIN:VEVENT
DTSTART;TZID=America/New_York:20250628T190000
DTEND;TZID=America/New_York:20250628T194500
DTSTAMP:20260424T165936
CREATED:20250522T153337Z
LAST-MODIFIED:20250621T215224Z
UID:10003391-1751137200-1751139900@athensdeland.com
SUMMARY:Disney’s NEWSIES JR.
DESCRIPTION:Music by Alan Menken \nLyrics by Jack Feldman \nBook by Harvey Fierstein \n  \nBased on the Disney Film written by Bob Tzudiker and Noni White \n  \nFriday\, June 27th at 7:00pm \nSaturday\, June 28th at 7:00pm \nSunday\, June 29th at 2:30pm \n  \nDisney’s Newsies JR. is a 60-minute version of the 2012 Broadway musical\, based on the 1992 film. Inspired by the rousing true story of newsboys in turn-of-the-century New York City\, Newsies JR. features a Tony Award-winning score by Alan Menken and Jack Feldman and a book by Tony Award winner Harvey Fierstein. \nWhen powerful newspaper publishers raise prices at the newsboys’ expense\, the charismatic Jack Kelly rallies newsies from across the city to strike against the unfair conditions. Together\, the newsies learn that they are stronger united and create a movement to fight for what’s right. \n\n\n\n\n\n\n\n\n\nPreferred Seating – $22 \nGeneral Seating – $17 \nA $5.00 per ticket Processing charge is added to all purchases. \nAs the historic Athens Theatre does not have an elevator\, the balcony is not accessible to anyone with a wheelchair or walker. \nAll Patrons with special needs can contact the Box Office at 386-736-1500 for our wheelchair/walker accessible 
URL:https://athensdeland.com/event/disneys-newsies-jr/2025-06-28/
LOCATION:FL
ATTACH;FMTTYPE=image/png:https://athensdeland.com/wp-content/uploads/2025/05/NewsiesJr_ProductionWeb.png
END:VEVENT
BEGIN:VEVENT
DTSTART;TZID=America/New_York:20250629T143000
DTEND;TZID=America/New_York:20250629T151500
DTSTAMP:20260424T165936
CREATED:20250522T153337Z
LAST-MODIFIED:20250621T215224Z
UID:10003392-1751207400-1751210100@athensdeland.com
SUMMARY:Disney’s NEWSIES JR.
DESCRIPTION:Music by Alan Menken \nLyrics by Jack Feldman \nBook by Harvey Fierstein \n  \nBased on the Disney Film written by Bob Tzudiker and Noni White \n  \nFriday\, June 27th at 7:00pm \nSaturday\, June 28th at 7:00pm \nSunday\, June 29th at 2:30pm \n  \nDisney’s Newsies JR. is a 60-minute version of the 2012 Broadway musical\, based on the 1992 film. Inspired by the rousing true story of newsboys in turn-of-the-century New York City\, Newsies JR. features a Tony Award-winning score by Alan Menken and Jack Feldman and a book by Tony Award winner Harvey Fierstein. \nWhen powerful newspaper publishers raise prices at the newsboys’ expense\, the charismatic Jack Kelly rallies newsies from across the city to strike against the unfair conditions. Together\, the newsies learn that they are stronger united and create a movement to fight for what’s right. \n\n\n\n\n\n\n\n\n\nPreferred Seating – $22 \nGeneral Seating – $17 \nA $5.00 per ticket Processing charge is added to all purchases. \nAs the historic Athens Theatre does not have an elevator\, the balcony is not accessible to anyone with a wheelchair or walker. \nAll Patrons with special needs can contact the Box Office at 386-736-1500 for our wheelchair/walker accessible 
URL:https://athensdeland.com/event/disneys-newsies-jr/2025-06-29/
LOCATION:FL
ATTACH;FMTTYPE=image/png:https://athensdeland.com/wp-content/uploads/2025/05/NewsiesJr_ProductionWeb.png
END:VEVENT
END:VCALENDAR