BEGIN:VCALENDAR
VERSION:2.0
PRODID:-//Athens Theatre | Deland, Florida - ECPv6.15.17.1//NONSGML v1.0//EN
CALSCALE:GREGORIAN
METHOD:PUBLISH
X-WR-CALNAME:Athens Theatre | Deland, Florida
X-ORIGINAL-URL:https://athensdeland.com
X-WR-CALDESC:Events for Athens Theatre | Deland, Florida
REFRESH-INTERVAL;VALUE=DURATION:PT1H
X-Robots-Tag:noindex
X-PUBLISHED-TTL:PT1H
BEGIN:VTIMEZONE
TZID:America/New_York
BEGIN:DAYLIGHT
TZOFFSETFROM:-0500
TZOFFSETTO:-0400
TZNAME:EDT
DTSTART:20250309T070000
END:DAYLIGHT
BEGIN:STANDARD
TZOFFSETFROM:-0400
TZOFFSETTO:-0500
TZNAME:EST
DTSTART:20251102T060000
END:STANDARD
BEGIN:DAYLIGHT
TZOFFSETFROM:-0500
TZOFFSETTO:-0400
TZNAME:EDT
DTSTART:20260308T070000
END:DAYLIGHT
BEGIN:STANDARD
TZOFFSETFROM:-0400
TZOFFSETTO:-0500
TZNAME:EST
DTSTART:20261101T060000
END:STANDARD
BEGIN:DAYLIGHT
TZOFFSETFROM:-0500
TZOFFSETTO:-0400
TZNAME:EDT
DTSTART:20270314T070000
END:DAYLIGHT
BEGIN:STANDARD
TZOFFSETFROM:-0400
TZOFFSETTO:-0500
TZNAME:EST
DTSTART:20271107T060000
END:STANDARD
END:VTIMEZONE
BEGIN:VEVENT
DTSTART;TZID=America/New_York:20260509T160000
DTEND;TZID=America/New_York:20260509T180000
DTSTAMP:20260424T001950
CREATED:20240709T155532Z
LAST-MODIFIED:20260406T125645Z
UID:10003294-1778342400-1778349600@athensdeland.com
SUMMARY:ELVIS\, "The Show!"
DESCRIPTION:Ted Torres Martin’s Ultimate \nTRIBUTE TO ELVIS \nTed Torres Martin is a multi-talented actor/singer/songwriter/musician who has accomplished extensive touring around the world. This includes: USA\, Germany\, U.K\, Austria\, Italy\, Japan\, Norway\, Singapore\, Australia\, Canada to name a few. \nHe is the 2016 “Images Of The King” World CHAMPION His stage acting experience include shows like: “Biloxi Blues’\, “One Flew Over The Cuckoo’s Nest” & “Death Of A Salesman” to name a few… His portrayal of The King Of Rock N’ Roll is one of the Top Tributes in the world! He acquired this title in Memphis Tennessee as recognized by Elvis Presley Enterprises. Ted is the top Elvis vocal stylist in the world. His vocals are the closest to Elvis you will ever hear! \nThrough his world renowned portrayal of Elvis on stage\, He will bring back all the memories of the King. His goal is to always deliver to the fans through all his body of work. To keep doing what he loves. And hopefully\, make new fans along the way! \nHere’s what past guests have to say! \n“Ted Torres Martin was amazing last night! This is the third time we’ve come to see him—he never disappoints!”— Marsha D. \n“We enjoyed it very much! 20 stars out of 10. Ted is great! He looks and sounds like Elvis!”— Carlos V. \n“Elvis – Ted Torres Martin was outstanding. We rate him as a 9 and would certainly try to see him again!”— Eleanor J. \n“The Elvis tribute was surprisingly good! I would totally buy tickets to see the show again.”— Brian L. \n“It was awesome. On a scale of 1–10… it was a 10. If he’s coming back\, let us know!”— Gina S. \n“Ted Torres Martin sounds just like Elvis! My husband and I will come again next time for sure!”— Cheryl M. \n“Definitely a 10! We enjoyed it immensely!”— Tom B. \n“Outstanding. We loved it. Would love to see it return to the theater again next year!”— Nancy K. \n“Great show. Give it a 10!”— David R. \n“We had a great time and he’s such a great guy too!”— Shelley T. \nRESERVED SEATING\nPreferred Reserved Seating $40\n1st. 6 rows Orchestra & 2 Rows Center Balcony \nGeneral Reserved Seating $35 \nA $5.00 per ticket Processing charge is added to all purchases and we collect a 6.5% State and County Sales Tax \nDue to the fact that the Historic Athens Theatre does not have an elevator to the balcony. The balcony is not accessible to anyone with a wheelchair or walker. \nAll Patrons with special needs can contact the Box Office at 386-736-1500 for our wheelchair/walker accessible seating. \nSPECIAL BOX SEAT PACKAGE\nBOX SEATS AVAILABLE\n6 SEATS PER BOX SEAT AREA $300\nPLEASE CONTACT THE BOX OFFICE AT 386-736-1500
URL:https://athensdeland.com/event/tribute-to-elvis-2/2026-05-09/3/
LOCATION:Athens Theatre\, 124 N Florida Ave\, DeLand\, FL\, 32720\, United States
ATTACH;FMTTYPE=image/png:https://athensdeland.com/wp-content/uploads/2024/07/Elvis-Tribute-2026_Web-1.png
END:VEVENT
BEGIN:VEVENT
DTSTART;TZID=America/New_York:20260509T200000
DTEND;TZID=America/New_York:20260509T210000
DTSTAMP:20260424T001950
CREATED:20240709T155532Z
LAST-MODIFIED:20260406T125645Z
UID:10003278-1778356800-1778360400@athensdeland.com
SUMMARY:ELVIS\, "The Show!"
DESCRIPTION:Ted Torres Martin’s Ultimate \nTRIBUTE TO ELVIS \nTed Torres Martin is a multi-talented actor/singer/songwriter/musician who has accomplished extensive touring around the world. This includes: USA\, Germany\, U.K\, Austria\, Italy\, Japan\, Norway\, Singapore\, Australia\, Canada to name a few. \nHe is the 2016 “Images Of The King” World CHAMPION His stage acting experience include shows like: “Biloxi Blues’\, “One Flew Over The Cuckoo’s Nest” & “Death Of A Salesman” to name a few… His portrayal of The King Of Rock N’ Roll is one of the Top Tributes in the world! He acquired this title in Memphis Tennessee as recognized by Elvis Presley Enterprises. Ted is the top Elvis vocal stylist in the world. His vocals are the closest to Elvis you will ever hear! \nThrough his world renowned portrayal of Elvis on stage\, He will bring back all the memories of the King. His goal is to always deliver to the fans through all his body of work. To keep doing what he loves. And hopefully\, make new fans along the way! \nHere’s what past guests have to say! \n“Ted Torres Martin was amazing last night! This is the third time we’ve come to see him—he never disappoints!”— Marsha D. \n“We enjoyed it very much! 20 stars out of 10. Ted is great! He looks and sounds like Elvis!”— Carlos V. \n“Elvis – Ted Torres Martin was outstanding. We rate him as a 9 and would certainly try to see him again!”— Eleanor J. \n“The Elvis tribute was surprisingly good! I would totally buy tickets to see the show again.”— Brian L. \n“It was awesome. On a scale of 1–10… it was a 10. If he’s coming back\, let us know!”— Gina S. \n“Ted Torres Martin sounds just like Elvis! My husband and I will come again next time for sure!”— Cheryl M. \n“Definitely a 10! We enjoyed it immensely!”— Tom B. \n“Outstanding. We loved it. Would love to see it return to the theater again next year!”— Nancy K. \n“Great show. Give it a 10!”— David R. \n“We had a great time and he’s such a great guy too!”— Shelley T. \nRESERVED SEATING\nPreferred Reserved Seating $40\n1st. 6 rows Orchestra & 2 Rows Center Balcony \nGeneral Reserved Seating $35 \nA $5.00 per ticket Processing charge is added to all purchases and we collect a 6.5% State and County Sales Tax \nDue to the fact that the Historic Athens Theatre does not have an elevator to the balcony. The balcony is not accessible to anyone with a wheelchair or walker. \nAll Patrons with special needs can contact the Box Office at 386-736-1500 for our wheelchair/walker accessible seating. \nSPECIAL BOX SEAT PACKAGE\nBOX SEATS AVAILABLE\n6 SEATS PER BOX SEAT AREA $300\nPLEASE CONTACT THE BOX OFFICE AT 386-736-1500
URL:https://athensdeland.com/event/tribute-to-elvis-2/2026-05-09/2/
LOCATION:Athens Theatre\, 124 N Florida Ave\, DeLand\, FL\, 32720\, United States
ATTACH;FMTTYPE=image/png:https://athensdeland.com/wp-content/uploads/2024/07/Elvis-Tribute-2026_Web-1.png
END:VEVENT
END:VCALENDAR