BEGIN:VCALENDAR
VERSION:2.0
PRODID:-//Athens Theatre | Deland, Florida - ECPv6.15.17.1//NONSGML v1.0//EN
CALSCALE:GREGORIAN
METHOD:PUBLISH
X-WR-CALNAME:Athens Theatre | Deland, Florida
X-ORIGINAL-URL:https://athensdeland.com
X-WR-CALDESC:Events for Athens Theatre | Deland, Florida
REFRESH-INTERVAL;VALUE=DURATION:PT1H
X-Robots-Tag:noindex
X-PUBLISHED-TTL:PT1H
BEGIN:VTIMEZONE
TZID:America/New_York
BEGIN:DAYLIGHT
TZOFFSETFROM:-0500
TZOFFSETTO:-0400
TZNAME:EDT
DTSTART:20250309T070000
END:DAYLIGHT
BEGIN:STANDARD
TZOFFSETFROM:-0400
TZOFFSETTO:-0500
TZNAME:EST
DTSTART:20251102T060000
END:STANDARD
BEGIN:DAYLIGHT
TZOFFSETFROM:-0500
TZOFFSETTO:-0400
TZNAME:EDT
DTSTART:20260308T070000
END:DAYLIGHT
BEGIN:STANDARD
TZOFFSETFROM:-0400
TZOFFSETTO:-0500
TZNAME:EST
DTSTART:20261101T060000
END:STANDARD
BEGIN:DAYLIGHT
TZOFFSETFROM:-0500
TZOFFSETTO:-0400
TZNAME:EDT
DTSTART:20270314T070000
END:DAYLIGHT
BEGIN:STANDARD
TZOFFSETFROM:-0400
TZOFFSETTO:-0500
TZNAME:EST
DTSTART:20271107T060000
END:STANDARD
END:VTIMEZONE
BEGIN:VEVENT
DTSTART;TZID=America/New_York:20260727T090000
DTEND;TZID=America/New_York:20260727T160000
DTSTAMP:20260424T051704
CREATED:20240215T213946Z
LAST-MODIFIED:20260223T132624Z
UID:10001342-1785142800-1785168000@athensdeland.com
SUMMARY:TEEN ANGST ON BROADWAY
DESCRIPTION:Rising 8 – 12th Grade \nJuly 27–31 | Mon – Thur: 9am – 4pm & Fri: 9am – 2:30pm \nBehind the Scenes – $285 before March 9 \nCenter Stage – $305 March 9 – April 27 \nCurtain Call – $325 after April 27 \nFor the mature student ready to perform at an adult level. \nMusicals such as Mean Girls\, Heathers\, Carrie\, The Prom\, Rent\, and Spring Awakening often have disclaimers due to adult themes and language. These are shows that many teenagers are listening to daily and want to perform. At this camp\, high school students will have the opportunity to work on the material they love and are ready to bring to the stage. \n*This camp will contain adult language and mature content. \nMore About Grades 6–12 Camps\nDesigned for teens who love performing—or want to try something new—our grades 6–12 camps offer deeper exploration of the performing arts in a supportive\, inspiring environment. Each week focuses on specific creative skills\, with professional teaching artists guiding students in acting\, music\, improv\, dance\, and even elements of design and production. Whether experienced or brand new to the stage\, every camper is welcomed\, challenged\, and encouraged to grow. \nWhat to Bring \n\nA water bottle\, non-perishable lunch\, and two snacks each day\nAll class materials\, including pencils\, music\, and scripts\, are provided\nDigital resources are shared for continued learning at home\n\nPresentations\nThe excitement builds all week toward a special final presentation on the historic Athens Theatre stage. Family and friends are invited to see what campers have created\, learned\, and accomplished together. Admission is free\, and donations are always welcome in support of youth arts education. \nPresentation will be held on the last day of camp at 2:00 pm. \n\nTO REGISTER-CLICK HERE
URL:https://athensdeland.com/event/teen-angst-on-broadway/
CATEGORIES:Summer Camps,Youth Activities
ATTACH;FMTTYPE=image/png:https://athensdeland.com/wp-content/uploads/2026/01/TeenAngst_2026Web.png
END:VEVENT
END:VCALENDAR