BEGIN:VCALENDAR
VERSION:2.0
PRODID:-//Athens Theatre | Deland, Florida - ECPv6.15.17.1//NONSGML v1.0//EN
CALSCALE:GREGORIAN
METHOD:PUBLISH
X-WR-CALNAME:Athens Theatre | Deland, Florida
X-ORIGINAL-URL:https://athensdeland.com
X-WR-CALDESC:Events for Athens Theatre | Deland, Florida
REFRESH-INTERVAL;VALUE=DURATION:PT1H
X-Robots-Tag:noindex
X-PUBLISHED-TTL:PT1H
BEGIN:VTIMEZONE
TZID:America/New_York
BEGIN:DAYLIGHT
TZOFFSETFROM:-0500
TZOFFSETTO:-0400
TZNAME:EDT
DTSTART:20250309T070000
END:DAYLIGHT
BEGIN:STANDARD
TZOFFSETFROM:-0400
TZOFFSETTO:-0500
TZNAME:EST
DTSTART:20251102T060000
END:STANDARD
BEGIN:DAYLIGHT
TZOFFSETFROM:-0500
TZOFFSETTO:-0400
TZNAME:EDT
DTSTART:20260308T070000
END:DAYLIGHT
BEGIN:STANDARD
TZOFFSETFROM:-0400
TZOFFSETTO:-0500
TZNAME:EST
DTSTART:20261101T060000
END:STANDARD
BEGIN:DAYLIGHT
TZOFFSETFROM:-0500
TZOFFSETTO:-0400
TZNAME:EDT
DTSTART:20270314T070000
END:DAYLIGHT
BEGIN:STANDARD
TZOFFSETFROM:-0400
TZOFFSETTO:-0500
TZNAME:EST
DTSTART:20271107T060000
END:STANDARD
END:VTIMEZONE
BEGIN:VEVENT
DTSTART;TZID=America/New_York:20260706T090000
DTEND;TZID=America/New_York:20260706T150000
DTSTAMP:20260424T020231
CREATED:20240216T180339Z
LAST-MODIFIED:20260223T180934Z
UID:10001589-1783328400-1783350000@athensdeland.com
SUMMARY:KIDS ON BROADWAY
DESCRIPTION:Rising 3 – 5th Grade \nJuly 6 – July 10 | Mon – Thurs. 9:00 am – 3: 00 pm | Fri. 9:00 am – 11:30 am \nBehind the Scenes – $260 before March 9 \nCenter Stage – $280 March 9 – April 27 \nCurtain Call – $300 after April 27 \nCome learn what it takes to be a Broadway star! This camp focuses on a variety of dance styles\, acting techniques\, and music\, making it perfect for students who love all things Broadway. Featuring music and choreography from some of your favorite musicals\, including Seussical\, The Music Man\, Bye Bye Birdie\, and Shrek. \nMore About Grades 3–5 Camps\nFor students ready to take the spotlight\, our grades 3–5 camps blend creativity\, confidence\, and collaboration. Inspired by each camp’s theme\, students learn songs\, dances\, and scenes while building strong foundations in theatre\, music\, and movement. Along the way\, they grow in confidence\, teamwork\, and self-expression—all while having an unforgettable summer experience. \nWhat to Bring \n\nA water bottle\, non-perishable lunch\, and one snack each day\nAll class materials\, including pencils\, music\, and scripts\, are provided\nDigital resources are shared to help campers practice and shine at home\n\nPresentations\nThe excitement builds all week toward a special final presentation on the historic Athens Theatre stage. Family and friends are invited to see what campers have created\, learned\, and accomplished together. Admission is free\, and donations are always welcome in support of youth arts education. \nPresentation will be held on the last day of camp at 11 AM.  \n\n\nTO REGISTER-CLICK HERE
URL:https://athensdeland.com/event/kids-on-broadway/
CATEGORIES:Summer Camps,Youth Activities
ATTACH;FMTTYPE=image/png:https://athensdeland.com/wp-content/uploads/2024/02/Kids-on-Broadway_2026Web.png
END:VEVENT
END:VCALENDAR