BEGIN:VCALENDAR
VERSION:2.0
PRODID:-//Athens Theatre | Deland, Florida - ECPv6.15.17.1//NONSGML v1.0//EN
CALSCALE:GREGORIAN
METHOD:PUBLISH
X-ORIGINAL-URL:https://athensdeland.com
X-WR-CALDESC:Events for Athens Theatre | Deland, Florida
REFRESH-INTERVAL;VALUE=DURATION:PT1H
X-Robots-Tag:noindex
X-PUBLISHED-TTL:PT1H
BEGIN:VTIMEZONE
TZID:America/New_York
BEGIN:DAYLIGHT
TZOFFSETFROM:-0500
TZOFFSETTO:-0400
TZNAME:EDT
DTSTART:20230312T070000
END:DAYLIGHT
BEGIN:STANDARD
TZOFFSETFROM:-0400
TZOFFSETTO:-0500
TZNAME:EST
DTSTART:20231105T060000
END:STANDARD
BEGIN:DAYLIGHT
TZOFFSETFROM:-0500
TZOFFSETTO:-0400
TZNAME:EDT
DTSTART:20240310T070000
END:DAYLIGHT
BEGIN:STANDARD
TZOFFSETFROM:-0400
TZOFFSETTO:-0500
TZNAME:EST
DTSTART:20241103T060000
END:STANDARD
BEGIN:DAYLIGHT
TZOFFSETFROM:-0500
TZOFFSETTO:-0400
TZNAME:EDT
DTSTART:20250309T070000
END:DAYLIGHT
BEGIN:STANDARD
TZOFFSETFROM:-0400
TZOFFSETTO:-0500
TZNAME:EST
DTSTART:20251102T060000
END:STANDARD
END:VTIMEZONE
BEGIN:VEVENT
DTSTART;TZID=America/New_York:20241221T190000
DTEND;TZID=America/New_York:20241221T210000
DTSTAMP:20260425T114848
CREATED:20241001T165313Z
LAST-MODIFIED:20241022T180133Z
UID:10002738-1734807600-1734814800@athensdeland.com
SUMMARY:A Very Merry Athens Holiday
DESCRIPTION:Get into the holiday spirit with A Very Merry Athens Holiday! On December 21 at 7:00 p.m.\, join us for an enchanting evening filled with festive cheer and heartwarming performances\, featuring the incredible talent from the Athens Theatre\, our Youth Academy\, and special guests. This holiday fundraiser will be packed with music\, laughter\, and joy for the whole family. All proceeds from the event will support the Athens Theatre’s recovery from Hurricane Milton\, which caused $65\,000 in damages and lost revenue. \n\nRESERVED SEATING\nMain Orchestra- $50\nBalcony and Side Orchestra – $35\n\nA $5.00 per ticket Processing charge is added to all purchases and we collect a 6.5% State and County Sales Tax \nDue to the fact that the Historic Athens Theatre does not have an elevator to the balcony. The balcony is not accessible to anyone with a wheelchair or walker. \nAll Patrons with special needs can contact the Box Office at 386-736-1500 for our wheelchair/walker accessible seating. \n\n\n\n\n\nSPECIAL BOX SEAT PACKAGE $1\,000 (11 Total Seats per Box Seat Area) \n\n11 Seats\n4 Bottles of Wine\nCharcuterie Board\nDeluxe Platter from Pat and Toni’s Sweet Things\nCookies from 3 Smart Cookies\n11 Athens Theatre Tote Bags\nSigned Poster from the cast of A Christmas Carol\nSpecial Surprise Appearance from a guest from the North Pole\nEarly access to the venue for a “Behind the Scenes” mic check\, plus a special greeting and photo op with the performers\n\nPLEASE CONTACT THE BOX OFFICE AT 386-736-1500
URL:https://athensdeland.com/event/a-very-merry-athens-holiday/
LOCATION:FL
ATTACH;FMTTYPE=image/png:https://athensdeland.com/wp-content/uploads/2024/10/AthensHolidayFundraiser_Web.png
END:VEVENT
END:VCALENDAR