BEGIN:VCALENDAR
VERSION:2.0
PRODID:-//Athens Theatre | Deland, Florida - ECPv6.15.17.1//NONSGML v1.0//EN
CALSCALE:GREGORIAN
METHOD:PUBLISH
X-WR-CALNAME:Athens Theatre | Deland, Florida
X-ORIGINAL-URL:https://athensdeland.com
X-WR-CALDESC:Events for Athens Theatre | Deland, Florida
REFRESH-INTERVAL;VALUE=DURATION:PT1H
X-Robots-Tag:noindex
X-PUBLISHED-TTL:PT1H
BEGIN:VTIMEZONE
TZID:America/New_York
BEGIN:DAYLIGHT
TZOFFSETFROM:-0500
TZOFFSETTO:-0400
TZNAME:EDT
DTSTART:20240310T070000
END:DAYLIGHT
BEGIN:STANDARD
TZOFFSETFROM:-0400
TZOFFSETTO:-0500
TZNAME:EST
DTSTART:20241103T060000
END:STANDARD
BEGIN:DAYLIGHT
TZOFFSETFROM:-0500
TZOFFSETTO:-0400
TZNAME:EDT
DTSTART:20250309T070000
END:DAYLIGHT
BEGIN:STANDARD
TZOFFSETFROM:-0400
TZOFFSETTO:-0500
TZNAME:EST
DTSTART:20251102T060000
END:STANDARD
BEGIN:DAYLIGHT
TZOFFSETFROM:-0500
TZOFFSETTO:-0400
TZNAME:EDT
DTSTART:20260308T070000
END:DAYLIGHT
BEGIN:STANDARD
TZOFFSETFROM:-0400
TZOFFSETTO:-0500
TZNAME:EST
DTSTART:20261101T060000
END:STANDARD
END:VTIMEZONE
BEGIN:VEVENT
DTSTART;TZID=America/New_York:20250131T193000
DTEND;TZID=America/New_York:20250131T210000
DTSTAMP:20260425T080815
CREATED:20240308T212947Z
LAST-MODIFIED:20250411T163811Z
UID:10002081-1738351800-1738357200@athensdeland.com
SUMMARY:Rodgers & Hammerstein’s Cinderella: Youth Edition
DESCRIPTION:Music by Richard Rodgers Book and Lyrics by Oscar Hammerstein II\n  \n“Losing a shoe can change your entire life ….”\nExplore the enchanting world of Rodgers & Hammerstein’s Cinderella: Youth Edition\, where the magic isn’t just in the ball gown! This reimagined fairy tale is a magical musical filled with charm\, laughter\, and timeless life lessons. Follow the journey of a passionate Cinderella as she navigates the challenges of self-discovery\, love\, and unexpected adventures. With beloved characters\, unforgettable tunes\, and a plot that sparkles with warmth and hilarity\, it’s a must-see for anyone seeking an escape into a world where dreams unfold\, lessons are embraced\, and enchantment reigns supreme. Brace yourself for a whirlwind of youthful exuberance and pure fun–Cinderella awaits with open arms\, ready to cast its spell on hearts of all ages. \nRodgers & Hammerstein’s Cinderella: Youth Edition is presented by arrangement with Concord Theatricals on behalf of The Rodgers & Hammerstein Organization. www.concordtheatricals.com \nSPECIAL AUDIO DESCRIBED PERFORMANCE ON SUNDAY 2/9\nSPECIAL ASL/ENGLISH INTERPRETED PERFORMANCE ON FRIDAY 2/7\nTO PURCHASE TICKETS IN THE SECTION WITH THE BEST SIGHT LINES TO THE INTERPRETERS\, PLEASE CONTACT THE BOX OFFICE EITHER AT 386-736-1500 OR EMAIL US AT BOXOFFICE@ATHENSDELAND.COM \n\nBUY TICKETS NOW\nBUY NOW AS PART OF A SEASON PACKAGE \n\nReserved Seating\nPreferred $35 (Row A-F\, Orchestra & CC-DD Center Balcony) \nAdult $30 – Senior $28\nStudent/Child $12 – Groups of 8 or more $25\nA $5.00 per ticket Processing charge is added to all purchases. \nAs the historic Athens Theatre does not have an elevator\, the balcony is not accessible to anyone with a wheelchair or walker. \nAll Patrons with special needs can contact the Box Office at 386-736-1500 for our wheelchair/walker accessible seating. \n\nSpecial Box Seat Package\nCatered exclusively by Joe Hearn Events\, The Elusive Grape\, Pat & Toni’s Sweet Things\, and 3 Smart Cookies. \n$475 – Price includes: \n\nUp to 11 seats in the Box Seat and Balcony area\nChoice of Red/White Wine\nCheese Platter\nChocolate Covered Strawberries\nCookies\n\nPlease contact the Box Office at 386-736-1500\, for this Package.\n(a $5 per seat processing fee is added to the cost of these packages)
URL:https://athensdeland.com/event/rodgers-hammersteins-cinderella-youth-edition/2025-01-31/
LOCATION:FL
ATTACH;FMTTYPE=image/png:https://athensdeland.com/wp-content/uploads/2024/03/Cinderella_Web_2.png
END:VEVENT
BEGIN:VEVENT
DTSTART;TZID=America/New_York:20250201T140000
DTEND;TZID=America/New_York:20250201T160000
DTSTAMP:20260425T080815
CREATED:20240308T212947Z
LAST-MODIFIED:20250411T163811Z
UID:10002082-1738418400-1738425600@athensdeland.com
SUMMARY:Rodgers & Hammerstein’s Cinderella: Youth Edition
DESCRIPTION:Music by Richard Rodgers Book and Lyrics by Oscar Hammerstein II\n  \n“Losing a shoe can change your entire life ….”\nExplore the enchanting world of Rodgers & Hammerstein’s Cinderella: Youth Edition\, where the magic isn’t just in the ball gown! This reimagined fairy tale is a magical musical filled with charm\, laughter\, and timeless life lessons. Follow the journey of a passionate Cinderella as she navigates the challenges of self-discovery\, love\, and unexpected adventures. With beloved characters\, unforgettable tunes\, and a plot that sparkles with warmth and hilarity\, it’s a must-see for anyone seeking an escape into a world where dreams unfold\, lessons are embraced\, and enchantment reigns supreme. Brace yourself for a whirlwind of youthful exuberance and pure fun–Cinderella awaits with open arms\, ready to cast its spell on hearts of all ages. \nRodgers & Hammerstein’s Cinderella: Youth Edition is presented by arrangement with Concord Theatricals on behalf of The Rodgers & Hammerstein Organization. www.concordtheatricals.com \nSPECIAL AUDIO DESCRIBED PERFORMANCE ON SUNDAY 2/9\nSPECIAL ASL/ENGLISH INTERPRETED PERFORMANCE ON FRIDAY 2/7\nTO PURCHASE TICKETS IN THE SECTION WITH THE BEST SIGHT LINES TO THE INTERPRETERS\, PLEASE CONTACT THE BOX OFFICE EITHER AT 386-736-1500 OR EMAIL US AT BOXOFFICE@ATHENSDELAND.COM \n\nBUY TICKETS NOW\nBUY NOW AS PART OF A SEASON PACKAGE \n\nReserved Seating\nPreferred $35 (Row A-F\, Orchestra & CC-DD Center Balcony) \nAdult $30 – Senior $28\nStudent/Child $12 – Groups of 8 or more $25\nA $5.00 per ticket Processing charge is added to all purchases. \nAs the historic Athens Theatre does not have an elevator\, the balcony is not accessible to anyone with a wheelchair or walker. \nAll Patrons with special needs can contact the Box Office at 386-736-1500 for our wheelchair/walker accessible seating. \n\nSpecial Box Seat Package\nCatered exclusively by Joe Hearn Events\, The Elusive Grape\, Pat & Toni’s Sweet Things\, and 3 Smart Cookies. \n$475 – Price includes: \n\nUp to 11 seats in the Box Seat and Balcony area\nChoice of Red/White Wine\nCheese Platter\nChocolate Covered Strawberries\nCookies\n\nPlease contact the Box Office at 386-736-1500\, for this Package.\n(a $5 per seat processing fee is added to the cost of these packages)
URL:https://athensdeland.com/event/rodgers-hammersteins-cinderella-youth-edition/2025-02-01/1/
LOCATION:FL
ATTACH;FMTTYPE=image/png:https://athensdeland.com/wp-content/uploads/2024/03/Cinderella_Web_2.png
END:VEVENT
BEGIN:VEVENT
DTSTART;TZID=America/New_York:20250201T193000
DTEND;TZID=America/New_York:20250201T210000
DTSTAMP:20260425T080815
CREATED:20240308T212947Z
LAST-MODIFIED:20250411T163811Z
UID:10002083-1738438200-1738443600@athensdeland.com
SUMMARY:Rodgers & Hammerstein’s Cinderella: Youth Edition
DESCRIPTION:Music by Richard Rodgers Book and Lyrics by Oscar Hammerstein II\n  \n“Losing a shoe can change your entire life ….”\nExplore the enchanting world of Rodgers & Hammerstein’s Cinderella: Youth Edition\, where the magic isn’t just in the ball gown! This reimagined fairy tale is a magical musical filled with charm\, laughter\, and timeless life lessons. Follow the journey of a passionate Cinderella as she navigates the challenges of self-discovery\, love\, and unexpected adventures. With beloved characters\, unforgettable tunes\, and a plot that sparkles with warmth and hilarity\, it’s a must-see for anyone seeking an escape into a world where dreams unfold\, lessons are embraced\, and enchantment reigns supreme. Brace yourself for a whirlwind of youthful exuberance and pure fun–Cinderella awaits with open arms\, ready to cast its spell on hearts of all ages. \nRodgers & Hammerstein’s Cinderella: Youth Edition is presented by arrangement with Concord Theatricals on behalf of The Rodgers & Hammerstein Organization. www.concordtheatricals.com \nSPECIAL AUDIO DESCRIBED PERFORMANCE ON SUNDAY 2/9\nSPECIAL ASL/ENGLISH INTERPRETED PERFORMANCE ON FRIDAY 2/7\nTO PURCHASE TICKETS IN THE SECTION WITH THE BEST SIGHT LINES TO THE INTERPRETERS\, PLEASE CONTACT THE BOX OFFICE EITHER AT 386-736-1500 OR EMAIL US AT BOXOFFICE@ATHENSDELAND.COM \n\nBUY TICKETS NOW\nBUY NOW AS PART OF A SEASON PACKAGE \n\nReserved Seating\nPreferred $35 (Row A-F\, Orchestra & CC-DD Center Balcony) \nAdult $30 – Senior $28\nStudent/Child $12 – Groups of 8 or more $25\nA $5.00 per ticket Processing charge is added to all purchases. \nAs the historic Athens Theatre does not have an elevator\, the balcony is not accessible to anyone with a wheelchair or walker. \nAll Patrons with special needs can contact the Box Office at 386-736-1500 for our wheelchair/walker accessible seating. \n\nSpecial Box Seat Package\nCatered exclusively by Joe Hearn Events\, The Elusive Grape\, Pat & Toni’s Sweet Things\, and 3 Smart Cookies. \n$475 – Price includes: \n\nUp to 11 seats in the Box Seat and Balcony area\nChoice of Red/White Wine\nCheese Platter\nChocolate Covered Strawberries\nCookies\n\nPlease contact the Box Office at 386-736-1500\, for this Package.\n(a $5 per seat processing fee is added to the cost of these packages)
URL:https://athensdeland.com/event/rodgers-hammersteins-cinderella-youth-edition/2025-02-01/2/
LOCATION:FL
ATTACH;FMTTYPE=image/png:https://athensdeland.com/wp-content/uploads/2024/03/Cinderella_Web_2.png
END:VEVENT
BEGIN:VEVENT
DTSTART;TZID=America/New_York:20250202T100000
DTEND;TZID=America/New_York:20250202T140000
DTSTAMP:20260425T080816
CREATED:20240814T203325Z
LAST-MODIFIED:20240821T211916Z
UID:10002719-1738490400-1738504800@athensdeland.com
SUMMARY:Young Company 2024-2025
DESCRIPTION:ATYA Young Company 2024-2025\nGrades 9 – 12 | Saturdays 10:00 a.m. – 2:00 p.m. | $125 per month\n\nRehearsal Schedule & Tuition\n\nClass meets 10:00 a.m. – 2:00 p.m. on Saturdays\, September 2024 – May 2024 (with the exception of holidays and select dates) plus additional rehearsals and community performances scheduled separately. There will be a final Showcase in May for the community to attend.\nStudents MUST commit to the full scheduled season of rehearsals September 2024 to May 2025\, with varying performance dates and times scheduled TBD.\nAll conflicts MUST be previously communicated and approved at least two weeks in advance.\nTuition for the Young Company is $125 per month ($1125 total).\nMonthly payment plans are processed in 9 installments (September–May).\nFor questions\, please reach out to Education@athensdeland.com.\n\nAuditions for the 2024/2025 ATYA Young Company will be held on the following dates: \n\nSaturday\, August 24\, 10:00am\nSunday\, August 25\, 2:00pm\n\nAuditions are held in person at the Athens Theatre Rehearsal Hall (108 N. Florida Ave. DeLand\, FL 32725). \nPlease prepare two (2) contrasting Musical Theatre songs\, 16 – 32 bars each. Optional – prepare a 1-minute monologue. \nAfter performing their pieces\, auditioners will stay for a dance call. \nPlease sign up for your audition slot HERE \nFor more information\, please contact Education@athensdeland.com. \n\nWHO IS IT FOR?  \n\nFor student performers entering 9-12 grade who wish to take their training to the next level.  *Current ATYA students in 8th grade will be considered.\n\nDO I NEED TO COMMIT FOR THE FULL YEAR?  \n\nYes. Students accepted into the ATYA Young Company must commit to the 2024/2025 school year. All conflicts MUST be approved two weeks in advance.\n\nHOW MUCH IS TUITION?  \n\nTuition is paid in 9 installments of $125 per month\, September – May. ($1125 in total)\n\nWHAT DO I NEED TO DO FOR THE AUDITION?  \n\nEach auditioner should sign up for an audition slot.
URL:https://athensdeland.com/event/youngcompany/2025-02-02/
LOCATION:FL
CATEGORIES:Classes,Youth Activities
ATTACH;FMTTYPE=image/png:https://athensdeland.com/wp-content/uploads/2024/08/YA_YoungCompany_LinkBanner.png
END:VEVENT
BEGIN:VEVENT
DTSTART;TZID=America/New_York:20250202T143000
DTEND;TZID=America/New_York:20250202T160000
DTSTAMP:20260425T080816
CREATED:20240308T212947Z
LAST-MODIFIED:20250411T163811Z
UID:10002084-1738506600-1738512000@athensdeland.com
SUMMARY:Rodgers & Hammerstein’s Cinderella: Youth Edition
DESCRIPTION:Music by Richard Rodgers Book and Lyrics by Oscar Hammerstein II\n  \n“Losing a shoe can change your entire life ….”\nExplore the enchanting world of Rodgers & Hammerstein’s Cinderella: Youth Edition\, where the magic isn’t just in the ball gown! This reimagined fairy tale is a magical musical filled with charm\, laughter\, and timeless life lessons. Follow the journey of a passionate Cinderella as she navigates the challenges of self-discovery\, love\, and unexpected adventures. With beloved characters\, unforgettable tunes\, and a plot that sparkles with warmth and hilarity\, it’s a must-see for anyone seeking an escape into a world where dreams unfold\, lessons are embraced\, and enchantment reigns supreme. Brace yourself for a whirlwind of youthful exuberance and pure fun–Cinderella awaits with open arms\, ready to cast its spell on hearts of all ages. \nRodgers & Hammerstein’s Cinderella: Youth Edition is presented by arrangement with Concord Theatricals on behalf of The Rodgers & Hammerstein Organization. www.concordtheatricals.com \nSPECIAL AUDIO DESCRIBED PERFORMANCE ON SUNDAY 2/9\nSPECIAL ASL/ENGLISH INTERPRETED PERFORMANCE ON FRIDAY 2/7\nTO PURCHASE TICKETS IN THE SECTION WITH THE BEST SIGHT LINES TO THE INTERPRETERS\, PLEASE CONTACT THE BOX OFFICE EITHER AT 386-736-1500 OR EMAIL US AT BOXOFFICE@ATHENSDELAND.COM \n\nBUY TICKETS NOW\nBUY NOW AS PART OF A SEASON PACKAGE \n\nReserved Seating\nPreferred $35 (Row A-F\, Orchestra & CC-DD Center Balcony) \nAdult $30 – Senior $28\nStudent/Child $12 – Groups of 8 or more $25\nA $5.00 per ticket Processing charge is added to all purchases. \nAs the historic Athens Theatre does not have an elevator\, the balcony is not accessible to anyone with a wheelchair or walker. \nAll Patrons with special needs can contact the Box Office at 386-736-1500 for our wheelchair/walker accessible seating. \n\nSpecial Box Seat Package\nCatered exclusively by Joe Hearn Events\, The Elusive Grape\, Pat & Toni’s Sweet Things\, and 3 Smart Cookies. \n$475 – Price includes: \n\nUp to 11 seats in the Box Seat and Balcony area\nChoice of Red/White Wine\nCheese Platter\nChocolate Covered Strawberries\nCookies\n\nPlease contact the Box Office at 386-736-1500\, for this Package.\n(a $5 per seat processing fee is added to the cost of these packages)
URL:https://athensdeland.com/event/rodgers-hammersteins-cinderella-youth-edition/2025-02-02/
LOCATION:FL
ATTACH;FMTTYPE=image/png:https://athensdeland.com/wp-content/uploads/2024/03/Cinderella_Web_2.png
END:VEVENT
END:VCALENDAR