BEGIN:VCALENDAR
VERSION:2.0
PRODID:-//Athens Theatre | Deland, Florida - ECPv6.15.17.1//NONSGML v1.0//EN
CALSCALE:GREGORIAN
METHOD:PUBLISH
X-ORIGINAL-URL:https://athensdeland.com
X-WR-CALDESC:Events for Athens Theatre | Deland, Florida
REFRESH-INTERVAL;VALUE=DURATION:PT1H
X-Robots-Tag:noindex
X-PUBLISHED-TTL:PT1H
BEGIN:VTIMEZONE
TZID:America/New_York
BEGIN:DAYLIGHT
TZOFFSETFROM:-0500
TZOFFSETTO:-0400
TZNAME:EDT
DTSTART:20240310T070000
END:DAYLIGHT
BEGIN:STANDARD
TZOFFSETFROM:-0400
TZOFFSETTO:-0500
TZNAME:EST
DTSTART:20241103T060000
END:STANDARD
BEGIN:DAYLIGHT
TZOFFSETFROM:-0500
TZOFFSETTO:-0400
TZNAME:EDT
DTSTART:20250309T070000
END:DAYLIGHT
BEGIN:STANDARD
TZOFFSETFROM:-0400
TZOFFSETTO:-0500
TZNAME:EST
DTSTART:20251102T060000
END:STANDARD
BEGIN:DAYLIGHT
TZOFFSETFROM:-0500
TZOFFSETTO:-0400
TZNAME:EDT
DTSTART:20260308T070000
END:DAYLIGHT
BEGIN:STANDARD
TZOFFSETFROM:-0400
TZOFFSETTO:-0500
TZNAME:EST
DTSTART:20261101T060000
END:STANDARD
END:VTIMEZONE
BEGIN:VEVENT
DTSTART;TZID=America/New_York:20250320T193000
DTEND;TZID=America/New_York:20250320T220000
DTSTAMP:20260425T064001
CREATED:20240308T214102Z
LAST-MODIFIED:20250411T163949Z
UID:10002524-1742499000-1742508000@athensdeland.com
SUMMARY:The Full Monty
DESCRIPTION:Book by Terrence McNally with music and lyrics by David Yazbek\n  \n“Sometimes\, you’ve just got to grin and bare it.”\nBuckle up for a hilarious and heartwarming joyride with The Full Monty – a show that strips away expectations and leaves audiences cheering for more! This ten-time Tony Award nominee\, born from the cult hit film\, is a raucous celebration of life\, friendship\, and the courage to strip away the ordinary for something extraordinary. With razor-sharp humor\, toe-tapping pizzazz\, and a closing number that will have you on your feet\, The Full Monty is a theatrical spectacle that proves life is better when you go all in–and sometimes\, that means baring it all. Brace yourself for a full-blown party that’ll not only have you on your feet but dancing in the aisles\, celebrating the beauty of embracing life’s unexpected twists! \nPresented through special arrangement with Music Theatre International (MTI) \nSPECIAL AUDIO DESCRIBED PERFORMANCE ON SUNDAY 3/16\nSPECIAL ASL/ENGLISH INTERPRETED PERFORMANCE ON FRIDAY 3/14\nTO PURCHASE TICKETS IN THE SECTION WITH THE BEST SIGHT LINES TO THE INTERPRETERS\, PLEASE CONTACT THE BOX OFFICE EITHER AT 386-736-1500 OR EMAIL US AT BOXOFFICE@ATHENSDELAND.COM \nThe Full Monty is rated R and features adult themes\, sensitive subject matter\, partial nudity\, strong language\, and plenty of BIG laughs!\n\n\nBUY TICKETS NOW \nBUY NOW AS PART OF A SEASON PACKAGE \n\nReserve Seating\nPreferred $35 (Row A-F\, Orchestra & CC-DD Center Balcony) \nAdult $30 – Senior $28\nStudent/Child $12 – Groups of 8 or more $25\nA $5.00 per ticket Processing charge is added to all purchases. \nAs the historic Athens Theatre does not have an elevator\, the balcony is not accessible to anyone with a wheelchair or walker. \nAll Patrons with special needs can contact the Box Office at 386-736-1500 for our wheelchair/walker accessible seating. \n\nSpecial Box Seat Package\nCatered exclusively by Joe Hearn Events\, The Elusive Grape\, Pat & Toni’s Sweet Things\, and 3 Smart Cookies. \n$475 – Price includes: \n\nUp to 11 seats in the Box Seat and Balcony area\nChoice of Red/White Wine\nCheese Platter\nChocolate Covered Strawberries\nCookies\n\nPlease contact the Box Office at 386-736-1500\, for this Package.\n(a $5 per seat processing fee is added to the cost of these packages)
URL:https://athensdeland.com/event/the-full-monty/2025-03-20/
LOCATION:FL
ATTACH;FMTTYPE=image/png:https://athensdeland.com/wp-content/uploads/2024/03/TheFullMonty_Web3.png
END:VEVENT
BEGIN:VEVENT
DTSTART;TZID=America/New_York:20250321T193000
DTEND;TZID=America/New_York:20250321T220000
DTSTAMP:20260425T064001
CREATED:20240308T214102Z
LAST-MODIFIED:20250411T163949Z
UID:10002525-1742585400-1742594400@athensdeland.com
SUMMARY:The Full Monty
DESCRIPTION:Book by Terrence McNally with music and lyrics by David Yazbek\n  \n“Sometimes\, you’ve just got to grin and bare it.”\nBuckle up for a hilarious and heartwarming joyride with The Full Monty – a show that strips away expectations and leaves audiences cheering for more! This ten-time Tony Award nominee\, born from the cult hit film\, is a raucous celebration of life\, friendship\, and the courage to strip away the ordinary for something extraordinary. With razor-sharp humor\, toe-tapping pizzazz\, and a closing number that will have you on your feet\, The Full Monty is a theatrical spectacle that proves life is better when you go all in–and sometimes\, that means baring it all. Brace yourself for a full-blown party that’ll not only have you on your feet but dancing in the aisles\, celebrating the beauty of embracing life’s unexpected twists! \nPresented through special arrangement with Music Theatre International (MTI) \nSPECIAL AUDIO DESCRIBED PERFORMANCE ON SUNDAY 3/16\nSPECIAL ASL/ENGLISH INTERPRETED PERFORMANCE ON FRIDAY 3/14\nTO PURCHASE TICKETS IN THE SECTION WITH THE BEST SIGHT LINES TO THE INTERPRETERS\, PLEASE CONTACT THE BOX OFFICE EITHER AT 386-736-1500 OR EMAIL US AT BOXOFFICE@ATHENSDELAND.COM \nThe Full Monty is rated R and features adult themes\, sensitive subject matter\, partial nudity\, strong language\, and plenty of BIG laughs!\n\n\nBUY TICKETS NOW \nBUY NOW AS PART OF A SEASON PACKAGE \n\nReserve Seating\nPreferred $35 (Row A-F\, Orchestra & CC-DD Center Balcony) \nAdult $30 – Senior $28\nStudent/Child $12 – Groups of 8 or more $25\nA $5.00 per ticket Processing charge is added to all purchases. \nAs the historic Athens Theatre does not have an elevator\, the balcony is not accessible to anyone with a wheelchair or walker. \nAll Patrons with special needs can contact the Box Office at 386-736-1500 for our wheelchair/walker accessible seating. \n\nSpecial Box Seat Package\nCatered exclusively by Joe Hearn Events\, The Elusive Grape\, Pat & Toni’s Sweet Things\, and 3 Smart Cookies. \n$475 – Price includes: \n\nUp to 11 seats in the Box Seat and Balcony area\nChoice of Red/White Wine\nCheese Platter\nChocolate Covered Strawberries\nCookies\n\nPlease contact the Box Office at 386-736-1500\, for this Package.\n(a $5 per seat processing fee is added to the cost of these packages)
URL:https://athensdeland.com/event/the-full-monty/2025-03-21/
LOCATION:FL
ATTACH;FMTTYPE=image/png:https://athensdeland.com/wp-content/uploads/2024/03/TheFullMonty_Web3.png
END:VEVENT
BEGIN:VEVENT
DTSTART;TZID=America/New_York:20250322T193000
DTEND;TZID=America/New_York:20250322T220000
DTSTAMP:20260425T064001
CREATED:20240308T214102Z
LAST-MODIFIED:20250411T163949Z
UID:10002526-1742671800-1742680800@athensdeland.com
SUMMARY:The Full Monty
DESCRIPTION:Book by Terrence McNally with music and lyrics by David Yazbek\n  \n“Sometimes\, you’ve just got to grin and bare it.”\nBuckle up for a hilarious and heartwarming joyride with The Full Monty – a show that strips away expectations and leaves audiences cheering for more! This ten-time Tony Award nominee\, born from the cult hit film\, is a raucous celebration of life\, friendship\, and the courage to strip away the ordinary for something extraordinary. With razor-sharp humor\, toe-tapping pizzazz\, and a closing number that will have you on your feet\, The Full Monty is a theatrical spectacle that proves life is better when you go all in–and sometimes\, that means baring it all. Brace yourself for a full-blown party that’ll not only have you on your feet but dancing in the aisles\, celebrating the beauty of embracing life’s unexpected twists! \nPresented through special arrangement with Music Theatre International (MTI) \nSPECIAL AUDIO DESCRIBED PERFORMANCE ON SUNDAY 3/16\nSPECIAL ASL/ENGLISH INTERPRETED PERFORMANCE ON FRIDAY 3/14\nTO PURCHASE TICKETS IN THE SECTION WITH THE BEST SIGHT LINES TO THE INTERPRETERS\, PLEASE CONTACT THE BOX OFFICE EITHER AT 386-736-1500 OR EMAIL US AT BOXOFFICE@ATHENSDELAND.COM \nThe Full Monty is rated R and features adult themes\, sensitive subject matter\, partial nudity\, strong language\, and plenty of BIG laughs!\n\n\nBUY TICKETS NOW \nBUY NOW AS PART OF A SEASON PACKAGE \n\nReserve Seating\nPreferred $35 (Row A-F\, Orchestra & CC-DD Center Balcony) \nAdult $30 – Senior $28\nStudent/Child $12 – Groups of 8 or more $25\nA $5.00 per ticket Processing charge is added to all purchases. \nAs the historic Athens Theatre does not have an elevator\, the balcony is not accessible to anyone with a wheelchair or walker. \nAll Patrons with special needs can contact the Box Office at 386-736-1500 for our wheelchair/walker accessible seating. \n\nSpecial Box Seat Package\nCatered exclusively by Joe Hearn Events\, The Elusive Grape\, Pat & Toni’s Sweet Things\, and 3 Smart Cookies. \n$475 – Price includes: \n\nUp to 11 seats in the Box Seat and Balcony area\nChoice of Red/White Wine\nCheese Platter\nChocolate Covered Strawberries\nCookies\n\nPlease contact the Box Office at 386-736-1500\, for this Package.\n(a $5 per seat processing fee is added to the cost of these packages)
URL:https://athensdeland.com/event/the-full-monty/2025-03-22/
LOCATION:FL
ATTACH;FMTTYPE=image/png:https://athensdeland.com/wp-content/uploads/2024/03/TheFullMonty_Web3.png
END:VEVENT
BEGIN:VEVENT
DTSTART;TZID=America/New_York:20250323T100000
DTEND;TZID=America/New_York:20250323T140000
DTSTAMP:20260425T064001
CREATED:20240814T203325Z
LAST-MODIFIED:20240821T211916Z
UID:10002726-1742724000-1742738400@athensdeland.com
SUMMARY:Young Company 2024-2025
DESCRIPTION:ATYA Young Company 2024-2025\nGrades 9 – 12 | Saturdays 10:00 a.m. – 2:00 p.m. | $125 per month\n\nRehearsal Schedule & Tuition\n\nClass meets 10:00 a.m. – 2:00 p.m. on Saturdays\, September 2024 – May 2024 (with the exception of holidays and select dates) plus additional rehearsals and community performances scheduled separately. There will be a final Showcase in May for the community to attend.\nStudents MUST commit to the full scheduled season of rehearsals September 2024 to May 2025\, with varying performance dates and times scheduled TBD.\nAll conflicts MUST be previously communicated and approved at least two weeks in advance.\nTuition for the Young Company is $125 per month ($1125 total).\nMonthly payment plans are processed in 9 installments (September–May).\nFor questions\, please reach out to Education@athensdeland.com.\n\nAuditions for the 2024/2025 ATYA Young Company will be held on the following dates: \n\nSaturday\, August 24\, 10:00am\nSunday\, August 25\, 2:00pm\n\nAuditions are held in person at the Athens Theatre Rehearsal Hall (108 N. Florida Ave. DeLand\, FL 32725). \nPlease prepare two (2) contrasting Musical Theatre songs\, 16 – 32 bars each. Optional – prepare a 1-minute monologue. \nAfter performing their pieces\, auditioners will stay for a dance call. \nPlease sign up for your audition slot HERE \nFor more information\, please contact Education@athensdeland.com. \n\nWHO IS IT FOR?  \n\nFor student performers entering 9-12 grade who wish to take their training to the next level.  *Current ATYA students in 8th grade will be considered.\n\nDO I NEED TO COMMIT FOR THE FULL YEAR?  \n\nYes. Students accepted into the ATYA Young Company must commit to the 2024/2025 school year. All conflicts MUST be approved two weeks in advance.\n\nHOW MUCH IS TUITION?  \n\nTuition is paid in 9 installments of $125 per month\, September – May. ($1125 in total)\n\nWHAT DO I NEED TO DO FOR THE AUDITION?  \n\nEach auditioner should sign up for an audition slot.
URL:https://athensdeland.com/event/youngcompany/2025-03-23/
LOCATION:FL
CATEGORIES:Classes,Youth Activities
ATTACH;FMTTYPE=image/png:https://athensdeland.com/wp-content/uploads/2024/08/YA_YoungCompany_LinkBanner.png
END:VEVENT
BEGIN:VEVENT
DTSTART;TZID=America/New_York:20250323T143000
DTEND;TZID=America/New_York:20250323T170000
DTSTAMP:20260425T064001
CREATED:20240308T214102Z
LAST-MODIFIED:20250411T163949Z
UID:10002527-1742740200-1742749200@athensdeland.com
SUMMARY:The Full Monty
DESCRIPTION:Book by Terrence McNally with music and lyrics by David Yazbek\n  \n“Sometimes\, you’ve just got to grin and bare it.”\nBuckle up for a hilarious and heartwarming joyride with The Full Monty – a show that strips away expectations and leaves audiences cheering for more! This ten-time Tony Award nominee\, born from the cult hit film\, is a raucous celebration of life\, friendship\, and the courage to strip away the ordinary for something extraordinary. With razor-sharp humor\, toe-tapping pizzazz\, and a closing number that will have you on your feet\, The Full Monty is a theatrical spectacle that proves life is better when you go all in–and sometimes\, that means baring it all. Brace yourself for a full-blown party that’ll not only have you on your feet but dancing in the aisles\, celebrating the beauty of embracing life’s unexpected twists! \nPresented through special arrangement with Music Theatre International (MTI) \nSPECIAL AUDIO DESCRIBED PERFORMANCE ON SUNDAY 3/16\nSPECIAL ASL/ENGLISH INTERPRETED PERFORMANCE ON FRIDAY 3/14\nTO PURCHASE TICKETS IN THE SECTION WITH THE BEST SIGHT LINES TO THE INTERPRETERS\, PLEASE CONTACT THE BOX OFFICE EITHER AT 386-736-1500 OR EMAIL US AT BOXOFFICE@ATHENSDELAND.COM \nThe Full Monty is rated R and features adult themes\, sensitive subject matter\, partial nudity\, strong language\, and plenty of BIG laughs!\n\n\nBUY TICKETS NOW \nBUY NOW AS PART OF A SEASON PACKAGE \n\nReserve Seating\nPreferred $35 (Row A-F\, Orchestra & CC-DD Center Balcony) \nAdult $30 – Senior $28\nStudent/Child $12 – Groups of 8 or more $25\nA $5.00 per ticket Processing charge is added to all purchases. \nAs the historic Athens Theatre does not have an elevator\, the balcony is not accessible to anyone with a wheelchair or walker. \nAll Patrons with special needs can contact the Box Office at 386-736-1500 for our wheelchair/walker accessible seating. \n\nSpecial Box Seat Package\nCatered exclusively by Joe Hearn Events\, The Elusive Grape\, Pat & Toni’s Sweet Things\, and 3 Smart Cookies. \n$475 – Price includes: \n\nUp to 11 seats in the Box Seat and Balcony area\nChoice of Red/White Wine\nCheese Platter\nChocolate Covered Strawberries\nCookies\n\nPlease contact the Box Office at 386-736-1500\, for this Package.\n(a $5 per seat processing fee is added to the cost of these packages)
URL:https://athensdeland.com/event/the-full-monty/2025-03-23/
LOCATION:FL
ATTACH;FMTTYPE=image/png:https://athensdeland.com/wp-content/uploads/2024/03/TheFullMonty_Web3.png
END:VEVENT
END:VCALENDAR