BEGIN:VCALENDAR
VERSION:2.0
PRODID:-//Athens Theatre | Deland, Florida - ECPv6.15.17.1//NONSGML v1.0//EN
CALSCALE:GREGORIAN
METHOD:PUBLISH
X-WR-CALNAME:Athens Theatre | Deland, Florida
X-ORIGINAL-URL:https://athensdeland.com
X-WR-CALDESC:Events for Athens Theatre | Deland, Florida
REFRESH-INTERVAL;VALUE=DURATION:PT1H
X-Robots-Tag:noindex
X-PUBLISHED-TTL:PT1H
BEGIN:VTIMEZONE
TZID:America/New_York
BEGIN:DAYLIGHT
TZOFFSETFROM:-0500
TZOFFSETTO:-0400
TZNAME:EDT
DTSTART:20240310T070000
END:DAYLIGHT
BEGIN:STANDARD
TZOFFSETFROM:-0400
TZOFFSETTO:-0500
TZNAME:EST
DTSTART:20241103T060000
END:STANDARD
BEGIN:DAYLIGHT
TZOFFSETFROM:-0500
TZOFFSETTO:-0400
TZNAME:EDT
DTSTART:20250309T070000
END:DAYLIGHT
BEGIN:STANDARD
TZOFFSETFROM:-0400
TZOFFSETTO:-0500
TZNAME:EST
DTSTART:20251102T060000
END:STANDARD
BEGIN:DAYLIGHT
TZOFFSETFROM:-0500
TZOFFSETTO:-0400
TZNAME:EDT
DTSTART:20260308T070000
END:DAYLIGHT
BEGIN:STANDARD
TZOFFSETFROM:-0400
TZOFFSETTO:-0500
TZNAME:EST
DTSTART:20261101T060000
END:STANDARD
END:VTIMEZONE
BEGIN:VEVENT
DTSTART;TZID=America/New_York:20250416T170000
DTEND;TZID=America/New_York:20250416T184500
DTSTAMP:20260424T230649
CREATED:20210723T195733Z
LAST-MODIFIED:20250407T212049Z
UID:10002556-1744822800-1744829100@athensdeland.com
SUMMARY:The Legendary Motown Soul Experience
DESCRIPTION:The Legendary Motown Soul Experience tribute band brings back the sounds of our greatest musical generation with songs from artists including The Temptations\, The Four Tops\, Smokey Robinson\, Sam Cooke\, Wilson Pickett\, Booker T & The MG’s\, Stevie Wonder and many more. This group features dynamic powerful vocalists and a tightly syncopated rhythm section\, along with elaborate stage outfits and classic choreography\, as they perform their captivating renditions from the Motown song book and classic soul music of the 60’s and 70’s. The Legendary Motown Soul Experience puts on a show that is guaranteed to entertain & delight music fans of all ages! \nHere’s what past guests have to say! \n“The Motown show was absolutely great! Enjoyed the atmosphere and the Motown group music. Got teary-eyed when they sang 2 songs that were my brother’s favorite\, he was always singing them. Outstanding program.” — Betty R. \n“What a fantastic show it was. You should have them there at least 2 or 3 times a year. What a great experience. P.S. Once a year is not enough for this band!!” — Greg P. \n\nRESERVE SEATING\nPreferred Reserved Seating $40\n1st. 6 rows Orchestra & 2 Rows Center Balcony \nGeneral Reserved Seating $35 \nA $5.00 per ticket Processing charge is added to all purchases and we collect a 6.5% State and County Sales Tax \nDue to the fact that the Historic Athens Theatre does not have an elevator to the balcony. The balcony is not accessible to anyone with a wheelchair or walker. \nAll Patrons with special needs can contact the Box Office at 386-736-1500 for our wheelchair/walker accessible seating. \n\nSPECIAL BOX SEAT PACKAGE\nBOX SEATS AVAILABLE\n6 SEATS PER BOX SEAT AREA $300\nPLEASE CONTACT THE BOX OFFICE AT 386-736-1500
URL:https://athensdeland.com/event/memphis-motown-soul-experience/2025-04-16/1/
LOCATION:Athens Theatre\, 124 N Florida Ave\, DeLand\, FL\, 32720\, United States
CATEGORIES:Concert/Performances/Events
ATTACH;FMTTYPE=image/png:https://athensdeland.com/wp-content/uploads/2021/07/MotownSoulExperience_2025_Web2.png
END:VEVENT
BEGIN:VEVENT
DTSTART;TZID=America/New_York:20250416T200000
DTEND;TZID=America/New_York:20250416T220000
DTSTAMP:20260424T230649
CREATED:20210723T195733Z
LAST-MODIFIED:20250407T212049Z
UID:10002557-1744833600-1744840800@athensdeland.com
SUMMARY:The Legendary Motown Soul Experience
DESCRIPTION:The Legendary Motown Soul Experience tribute band brings back the sounds of our greatest musical generation with songs from artists including The Temptations\, The Four Tops\, Smokey Robinson\, Sam Cooke\, Wilson Pickett\, Booker T & The MG’s\, Stevie Wonder and many more. This group features dynamic powerful vocalists and a tightly syncopated rhythm section\, along with elaborate stage outfits and classic choreography\, as they perform their captivating renditions from the Motown song book and classic soul music of the 60’s and 70’s. The Legendary Motown Soul Experience puts on a show that is guaranteed to entertain & delight music fans of all ages! \nHere’s what past guests have to say! \n“The Motown show was absolutely great! Enjoyed the atmosphere and the Motown group music. Got teary-eyed when they sang 2 songs that were my brother’s favorite\, he was always singing them. Outstanding program.” — Betty R. \n“What a fantastic show it was. You should have them there at least 2 or 3 times a year. What a great experience. P.S. Once a year is not enough for this band!!” — Greg P. \n\nRESERVE SEATING\nPreferred Reserved Seating $40\n1st. 6 rows Orchestra & 2 Rows Center Balcony \nGeneral Reserved Seating $35 \nA $5.00 per ticket Processing charge is added to all purchases and we collect a 6.5% State and County Sales Tax \nDue to the fact that the Historic Athens Theatre does not have an elevator to the balcony. The balcony is not accessible to anyone with a wheelchair or walker. \nAll Patrons with special needs can contact the Box Office at 386-736-1500 for our wheelchair/walker accessible seating. \n\nSPECIAL BOX SEAT PACKAGE\nBOX SEATS AVAILABLE\n6 SEATS PER BOX SEAT AREA $300\nPLEASE CONTACT THE BOX OFFICE AT 386-736-1500
URL:https://athensdeland.com/event/memphis-motown-soul-experience/2025-04-16/2/
LOCATION:Athens Theatre\, 124 N Florida Ave\, DeLand\, FL\, 32720\, United States
CATEGORIES:Concert/Performances/Events
ATTACH;FMTTYPE=image/png:https://athensdeland.com/wp-content/uploads/2021/07/MotownSoulExperience_2025_Web2.png
END:VEVENT
BEGIN:VEVENT
DTSTART;TZID=America/New_York:20250417T193000
DTEND;TZID=America/New_York:20250417T220000
DTSTAMP:20260424T230649
CREATED:20240308T214955Z
LAST-MODIFIED:20250411T164323Z
UID:10002531-1744918200-1744927200@athensdeland.com
SUMMARY:Grease
DESCRIPTION:Book\, Music and Lyrics by Jim Jacobs and Warren Casey\n  \n “It’s electrifying!”\nGet ready for a time-traveling\, hip-shaking\, heart-pounding extravaganza with Grease—where the ’50s come alive in a rollicking\, electrifying journey! Join the T-Birds and Pink Ladies in a musical celebration that defined a generation\, complete with cool cars\, slicked-back hair\, and the unforgettable magic of teenage love. With an eight-year Broadway run and revivals galore\, Grease is the ultimate rock ‘n’ roll party that’ll have you twisting and shouting. Buckle up for an experience that transcends eras\, leaving you singing and dancing long after the curtain falls. It’s the one that’ll have you saying\, “You’re the one that I want! \nGrease is presented by arrangement with Samuel French\, Inc.\, a Concord Theatricals Company. www.concordtheatricals.com \nSPECIAL AUDIO DESCRIBED PERFORMANCE ON SUNDAY 4/27\nSPECIAL ASL/ENGLISH INTERPRETED PERFORMANCE ON FRIDAY 4/25\nTO PURCHASE TICKETS IN THE SECTION WITH THE BEST SIGHT LINES TO THE INTERPRETERS\, PLEASE CONTACT THE BOX OFFICE EITHER AT 386-736-1500 OR EMAIL US AT BOXOFFICE@ATHENSDELAND.COM \nRated PG sexually suggestive moments and language.\n\nBUY TICKETS NOW \nBUY NOW AS PART OF A SEASON PACKAGE \n\nReserve Seating\nPreferred $35 (Row A-F\, Orchestra & CC-DD Center Balcony) \nAdult $30 – Senior $28\nStudent/Child $12 – Groups of 8 or more $25\nA $5.00 per ticket Processing charge is added to all purchases. \nAs the historic Athens Theatre does not have an elevator\, the balcony is not accessible to anyone with a wheelchair or walker. \nAll Patrons with special needs can contact the Box Office at 386-736-1500 for our wheelchair/walker accessible seating. \n\nSpecial Box Seat Package\nCatered exclusively by Joe Hearn Events\, The Elusive Grape\, Pat & Toni’s Sweet Things\, and 3 Smart Cookies. \n$475 – Price includes: \n\nUp to 11 seats in the Box Seat and Balcony area\nChoice of Red/White Wine\nCheese Platter\nChocolate Covered Strawberries\nCookies\n\nPlease contact the Box Office at 386-736-1500\, for this Package.\n(a $5 per seat processing fee is added to the cost of these packages))
URL:https://athensdeland.com/event/grease/2025-04-17/
LOCATION:FL
ATTACH;FMTTYPE=image/png:https://athensdeland.com/wp-content/uploads/2024/03/Grease_Web2.png
END:VEVENT
BEGIN:VEVENT
DTSTART;TZID=America/New_York:20250418T193000
DTEND;TZID=America/New_York:20250418T220000
DTSTAMP:20260424T230649
CREATED:20240308T214955Z
LAST-MODIFIED:20250411T164323Z
UID:10002532-1745004600-1745013600@athensdeland.com
SUMMARY:Grease
DESCRIPTION:Book\, Music and Lyrics by Jim Jacobs and Warren Casey\n  \n “It’s electrifying!”\nGet ready for a time-traveling\, hip-shaking\, heart-pounding extravaganza with Grease—where the ’50s come alive in a rollicking\, electrifying journey! Join the T-Birds and Pink Ladies in a musical celebration that defined a generation\, complete with cool cars\, slicked-back hair\, and the unforgettable magic of teenage love. With an eight-year Broadway run and revivals galore\, Grease is the ultimate rock ‘n’ roll party that’ll have you twisting and shouting. Buckle up for an experience that transcends eras\, leaving you singing and dancing long after the curtain falls. It’s the one that’ll have you saying\, “You’re the one that I want! \nGrease is presented by arrangement with Samuel French\, Inc.\, a Concord Theatricals Company. www.concordtheatricals.com \nSPECIAL AUDIO DESCRIBED PERFORMANCE ON SUNDAY 4/27\nSPECIAL ASL/ENGLISH INTERPRETED PERFORMANCE ON FRIDAY 4/25\nTO PURCHASE TICKETS IN THE SECTION WITH THE BEST SIGHT LINES TO THE INTERPRETERS\, PLEASE CONTACT THE BOX OFFICE EITHER AT 386-736-1500 OR EMAIL US AT BOXOFFICE@ATHENSDELAND.COM \nRated PG sexually suggestive moments and language.\n\nBUY TICKETS NOW \nBUY NOW AS PART OF A SEASON PACKAGE \n\nReserve Seating\nPreferred $35 (Row A-F\, Orchestra & CC-DD Center Balcony) \nAdult $30 – Senior $28\nStudent/Child $12 – Groups of 8 or more $25\nA $5.00 per ticket Processing charge is added to all purchases. \nAs the historic Athens Theatre does not have an elevator\, the balcony is not accessible to anyone with a wheelchair or walker. \nAll Patrons with special needs can contact the Box Office at 386-736-1500 for our wheelchair/walker accessible seating. \n\nSpecial Box Seat Package\nCatered exclusively by Joe Hearn Events\, The Elusive Grape\, Pat & Toni’s Sweet Things\, and 3 Smart Cookies. \n$475 – Price includes: \n\nUp to 11 seats in the Box Seat and Balcony area\nChoice of Red/White Wine\nCheese Platter\nChocolate Covered Strawberries\nCookies\n\nPlease contact the Box Office at 386-736-1500\, for this Package.\n(a $5 per seat processing fee is added to the cost of these packages))
URL:https://athensdeland.com/event/grease/2025-04-18/
LOCATION:FL
ATTACH;FMTTYPE=image/png:https://athensdeland.com/wp-content/uploads/2024/03/Grease_Web2.png
END:VEVENT
BEGIN:VEVENT
DTSTART;TZID=America/New_York:20250419T140000
DTEND;TZID=America/New_York:20250419T160000
DTSTAMP:20260424T230649
CREATED:20240308T214955Z
LAST-MODIFIED:20250411T164323Z
UID:10002550-1745071200-1745078400@athensdeland.com
SUMMARY:Grease
DESCRIPTION:Book\, Music and Lyrics by Jim Jacobs and Warren Casey\n  \n “It’s electrifying!”\nGet ready for a time-traveling\, hip-shaking\, heart-pounding extravaganza with Grease—where the ’50s come alive in a rollicking\, electrifying journey! Join the T-Birds and Pink Ladies in a musical celebration that defined a generation\, complete with cool cars\, slicked-back hair\, and the unforgettable magic of teenage love. With an eight-year Broadway run and revivals galore\, Grease is the ultimate rock ‘n’ roll party that’ll have you twisting and shouting. Buckle up for an experience that transcends eras\, leaving you singing and dancing long after the curtain falls. It’s the one that’ll have you saying\, “You’re the one that I want! \nGrease is presented by arrangement with Samuel French\, Inc.\, a Concord Theatricals Company. www.concordtheatricals.com \nSPECIAL AUDIO DESCRIBED PERFORMANCE ON SUNDAY 4/27\nSPECIAL ASL/ENGLISH INTERPRETED PERFORMANCE ON FRIDAY 4/25\nTO PURCHASE TICKETS IN THE SECTION WITH THE BEST SIGHT LINES TO THE INTERPRETERS\, PLEASE CONTACT THE BOX OFFICE EITHER AT 386-736-1500 OR EMAIL US AT BOXOFFICE@ATHENSDELAND.COM \nRated PG sexually suggestive moments and language.\n\nBUY TICKETS NOW \nBUY NOW AS PART OF A SEASON PACKAGE \n\nReserve Seating\nPreferred $35 (Row A-F\, Orchestra & CC-DD Center Balcony) \nAdult $30 – Senior $28\nStudent/Child $12 – Groups of 8 or more $25\nA $5.00 per ticket Processing charge is added to all purchases. \nAs the historic Athens Theatre does not have an elevator\, the balcony is not accessible to anyone with a wheelchair or walker. \nAll Patrons with special needs can contact the Box Office at 386-736-1500 for our wheelchair/walker accessible seating. \n\nSpecial Box Seat Package\nCatered exclusively by Joe Hearn Events\, The Elusive Grape\, Pat & Toni’s Sweet Things\, and 3 Smart Cookies. \n$475 – Price includes: \n\nUp to 11 seats in the Box Seat and Balcony area\nChoice of Red/White Wine\nCheese Platter\nChocolate Covered Strawberries\nCookies\n\nPlease contact the Box Office at 386-736-1500\, for this Package.\n(a $5 per seat processing fee is added to the cost of these packages))
URL:https://athensdeland.com/event/grease/2025-04-19/1/
LOCATION:FL
ATTACH;FMTTYPE=image/png:https://athensdeland.com/wp-content/uploads/2024/03/Grease_Web2.png
END:VEVENT
BEGIN:VEVENT
DTSTART;TZID=America/New_York:20250419T193000
DTEND;TZID=America/New_York:20250419T220000
DTSTAMP:20260424T230649
CREATED:20240308T214955Z
LAST-MODIFIED:20250411T164323Z
UID:10002533-1745091000-1745100000@athensdeland.com
SUMMARY:Grease
DESCRIPTION:Book\, Music and Lyrics by Jim Jacobs and Warren Casey\n  \n “It’s electrifying!”\nGet ready for a time-traveling\, hip-shaking\, heart-pounding extravaganza with Grease—where the ’50s come alive in a rollicking\, electrifying journey! Join the T-Birds and Pink Ladies in a musical celebration that defined a generation\, complete with cool cars\, slicked-back hair\, and the unforgettable magic of teenage love. With an eight-year Broadway run and revivals galore\, Grease is the ultimate rock ‘n’ roll party that’ll have you twisting and shouting. Buckle up for an experience that transcends eras\, leaving you singing and dancing long after the curtain falls. It’s the one that’ll have you saying\, “You’re the one that I want! \nGrease is presented by arrangement with Samuel French\, Inc.\, a Concord Theatricals Company. www.concordtheatricals.com \nSPECIAL AUDIO DESCRIBED PERFORMANCE ON SUNDAY 4/27\nSPECIAL ASL/ENGLISH INTERPRETED PERFORMANCE ON FRIDAY 4/25\nTO PURCHASE TICKETS IN THE SECTION WITH THE BEST SIGHT LINES TO THE INTERPRETERS\, PLEASE CONTACT THE BOX OFFICE EITHER AT 386-736-1500 OR EMAIL US AT BOXOFFICE@ATHENSDELAND.COM \nRated PG sexually suggestive moments and language.\n\nBUY TICKETS NOW \nBUY NOW AS PART OF A SEASON PACKAGE \n\nReserve Seating\nPreferred $35 (Row A-F\, Orchestra & CC-DD Center Balcony) \nAdult $30 – Senior $28\nStudent/Child $12 – Groups of 8 or more $25\nA $5.00 per ticket Processing charge is added to all purchases. \nAs the historic Athens Theatre does not have an elevator\, the balcony is not accessible to anyone with a wheelchair or walker. \nAll Patrons with special needs can contact the Box Office at 386-736-1500 for our wheelchair/walker accessible seating. \n\nSpecial Box Seat Package\nCatered exclusively by Joe Hearn Events\, The Elusive Grape\, Pat & Toni’s Sweet Things\, and 3 Smart Cookies. \n$475 – Price includes: \n\nUp to 11 seats in the Box Seat and Balcony area\nChoice of Red/White Wine\nCheese Platter\nChocolate Covered Strawberries\nCookies\n\nPlease contact the Box Office at 386-736-1500\, for this Package.\n(a $5 per seat processing fee is added to the cost of these packages))
URL:https://athensdeland.com/event/grease/2025-04-19/2/
LOCATION:FL
ATTACH;FMTTYPE=image/png:https://athensdeland.com/wp-content/uploads/2024/03/Grease_Web2.png
END:VEVENT
BEGIN:VEVENT
DTSTART;TZID=America/New_York:20250420T100000
DTEND;TZID=America/New_York:20250420T140000
DTSTAMP:20260424T230649
CREATED:20240814T203325Z
LAST-MODIFIED:20240821T211916Z
UID:10002730-1745143200-1745157600@athensdeland.com
SUMMARY:Young Company 2024-2025
DESCRIPTION:ATYA Young Company 2024-2025\nGrades 9 – 12 | Saturdays 10:00 a.m. – 2:00 p.m. | $125 per month\n\nRehearsal Schedule & Tuition\n\nClass meets 10:00 a.m. – 2:00 p.m. on Saturdays\, September 2024 – May 2024 (with the exception of holidays and select dates) plus additional rehearsals and community performances scheduled separately. There will be a final Showcase in May for the community to attend.\nStudents MUST commit to the full scheduled season of rehearsals September 2024 to May 2025\, with varying performance dates and times scheduled TBD.\nAll conflicts MUST be previously communicated and approved at least two weeks in advance.\nTuition for the Young Company is $125 per month ($1125 total).\nMonthly payment plans are processed in 9 installments (September–May).\nFor questions\, please reach out to Education@athensdeland.com.\n\nAuditions for the 2024/2025 ATYA Young Company will be held on the following dates: \n\nSaturday\, August 24\, 10:00am\nSunday\, August 25\, 2:00pm\n\nAuditions are held in person at the Athens Theatre Rehearsal Hall (108 N. Florida Ave. DeLand\, FL 32725). \nPlease prepare two (2) contrasting Musical Theatre songs\, 16 – 32 bars each. Optional – prepare a 1-minute monologue. \nAfter performing their pieces\, auditioners will stay for a dance call. \nPlease sign up for your audition slot HERE \nFor more information\, please contact Education@athensdeland.com. \n\nWHO IS IT FOR?  \n\nFor student performers entering 9-12 grade who wish to take their training to the next level.  *Current ATYA students in 8th grade will be considered.\n\nDO I NEED TO COMMIT FOR THE FULL YEAR?  \n\nYes. Students accepted into the ATYA Young Company must commit to the 2024/2025 school year. All conflicts MUST be approved two weeks in advance.\n\nHOW MUCH IS TUITION?  \n\nTuition is paid in 9 installments of $125 per month\, September – May. ($1125 in total)\n\nWHAT DO I NEED TO DO FOR THE AUDITION?  \n\nEach auditioner should sign up for an audition slot.
URL:https://athensdeland.com/event/youngcompany/2025-04-20/
LOCATION:FL
CATEGORIES:Classes,Youth Activities
ATTACH;FMTTYPE=image/png:https://athensdeland.com/wp-content/uploads/2024/08/YA_YoungCompany_LinkBanner.png
END:VEVENT
END:VCALENDAR