BEGIN:VCALENDAR
VERSION:2.0
PRODID:-//Athens Theatre | Deland, Florida - ECPv6.15.17.1//NONSGML v1.0//EN
CALSCALE:GREGORIAN
METHOD:PUBLISH
X-ORIGINAL-URL:https://athensdeland.com
X-WR-CALDESC:Events for Athens Theatre | Deland, Florida
REFRESH-INTERVAL;VALUE=DURATION:PT1H
X-Robots-Tag:noindex
X-PUBLISHED-TTL:PT1H
BEGIN:VTIMEZONE
TZID:America/New_York
BEGIN:DAYLIGHT
TZOFFSETFROM:-0500
TZOFFSETTO:-0400
TZNAME:EDT
DTSTART:20240310T070000
END:DAYLIGHT
BEGIN:STANDARD
TZOFFSETFROM:-0400
TZOFFSETTO:-0500
TZNAME:EST
DTSTART:20241103T060000
END:STANDARD
BEGIN:DAYLIGHT
TZOFFSETFROM:-0500
TZOFFSETTO:-0400
TZNAME:EDT
DTSTART:20250309T070000
END:DAYLIGHT
BEGIN:STANDARD
TZOFFSETFROM:-0400
TZOFFSETTO:-0500
TZNAME:EST
DTSTART:20251102T060000
END:STANDARD
BEGIN:DAYLIGHT
TZOFFSETFROM:-0500
TZOFFSETTO:-0400
TZNAME:EDT
DTSTART:20260308T070000
END:DAYLIGHT
BEGIN:STANDARD
TZOFFSETFROM:-0400
TZOFFSETTO:-0500
TZNAME:EST
DTSTART:20261101T060000
END:STANDARD
END:VTIMEZONE
BEGIN:VEVENT
DTSTART;TZID=America/New_York:20250509T193000
DTEND;TZID=America/New_York:20250509T213000
DTSTAMP:20260425T080940
CREATED:20211004T154404Z
LAST-MODIFIED:20250407T212251Z
UID:10000553-1746819000-1746826200@athensdeland.com
SUMMARY:Natural Woman
DESCRIPTION:The Athens Theatre invites you to come enjoy Natural Woman–a premier tribute to legendary singer/songwriter Carole King. Backed by a full\, all-female band\, Professional Orlando-based piano entertainer Katie Pinder Brown plays and sings live the iconic songs that defined a generation. \nThese are all the classic favorites you’ve loved since the ’60s and ’70s\, like the groundbreaking “Brill Building” chart-topping pop mega hits conceived in a tiny Times Square cubicle\, the timeless tunes you know by heart but possibly never knew Carole created\, and of course the masterpieces from the record-shattering phenomenon Tapestry\, the emblem of the singer/songwriter era that solidified Carole King’s position as a trailblazing woman to watch. The same music that electrifies the smash Broadway musical Beautiful: The Carole King Musical will invigorate and comfort Natural Woman audiences as if they were guests in the artist’s living room. \nExperience the thrill of being transported back in time by the authentic raw vocal purity\, dynamic soulful piano\, and genuine audience connection of a truly polished and emotionally intimate performance. With the power of a musical icon and the relatability of a friend\, Katie will bring the warmth and strength of Carole King’s compositions to life and the crowd to their feet\, dancing in the aisles and singing and clapping along to treasures like “I Feel the Earth Move\,” “It’s Too Late\,” “Tapestry\,” “(You Make Me Feel Like) A Natural Woman\,” “Will You Love Me Tomorrow\,” “You’ve Got a Friend\,” “Up on the Roof\,” “Jazzman\,” “Beautiful\,” and more! \n\nRESERVED SEATING \nPreferred Reserved Seating $401st. 6 rows Orchestra & 2 Rows Center Balcony \nGeneral Reserved Seating $35 \nA $5.00 per ticket Processing charge is added to all purchases and we collect a 6.5% State and County Sales Tax \nDue to the fact that the Historic Athens Theatre does not have an elevator to the balcony. The balcony is not accessible to anyone with a wheelchair or walker. \nAll Patrons with special needs can contact the Box Office at 386-736-1500 for our wheelchair/walker accessible seating. \n\n\n\n\n\nSPECIAL BOX SEAT PACKAGE \nBOX SEATS AVAILABLE6 SEATS PER BOX SEAT AREA $300PLEASE CONTACT THE BOX OFFICE AT 386-736-1500
URL:https://athensdeland.com/event/natural-woman/
LOCATION:FL
CATEGORIES:Concert/Performances/Events
ATTACH;FMTTYPE=image/png:https://athensdeland.com/wp-content/uploads/2021/10/Carole-King-Tribute_2025_Web.png
END:VEVENT
BEGIN:VEVENT
DTSTART;TZID=America/New_York:20250510T193000
DTEND;TZID=America/New_York:20250510T213000
DTSTAMP:20260425T080940
CREATED:20190702T163845Z
LAST-MODIFIED:20250407T212343Z
UID:10000036-1746905400-1746912600@athensdeland.com
SUMMARY:Let’s Hang on!
DESCRIPTION:Let’s Hang On has established itself as the preeminent Frankie Valli and The Four Seasons tribute group by combining spot-on vocals and crisp choreography with a genuine ability to entertain an audience. The seasoned performers respectfully pay tribute to all these classic “Four Seasons” details while also paying tribute to the Broadway show\, The Jersey Boys.  This powerhouse group will perform all of The Frankie Valli mega hits including: Sherry\, Big Girls Don’t Cry\, Walk Like A Man\, Can’t Take My Eyes Off of You\, December of 1963 and Who Loves You! \n  \nLet’s Hang On combines 6 amazing performers with an energized 4 piece band. They have been performing to sold out venues from coast to coast for more than a decade and have done 1\,000 plus shows from New York to Hawaii and from Florida to Canada. Many of these dates are return engagements and sell out again and again . . . including 6 sold out appearance in Las Vegas! \nLet’s Hang On consistently gets rave reviews from audiences and presenters\, alike.  Audience members are saying: \n  \n“This brought back so many great memories\,” \n“We saw the show on Broadway and enjoyed you just as much\,” \n“When are you coming back and where else can we see you?” \nPresenters’ comments are even better: \n  \n“This is more than a tribute to Frankie Valli.  It’s a brilliant piece of musical showmanship that will leave you breathless!”.  “Let’s Hang On had our audience singing along to all of their favorite songs\, and they screamed for an encore\,” and “They are phenomenal. We have been inundated with emails and phone calls on how much they loved them.  We were really blown away.” \n Let’s Hang On continues to work passionately on every show to live up to their title:  America’s #1 Frankie Valli and The Four Seasons tribute show! \nRESERVED SEATING \nPreferred Reserved Seating $401st. 6 rows Orchestra & 2 Rows Center Balcony \nGeneral Reserved Seating $35 \nA $5.00 per ticket Processing charge is added to all purchases and we collect a 6.5% State and County Sales Tax \nDue to the fact that the Historic Athens Theatre does not have an elevator to the balcony. The balcony is not accessible to anyone with a wheelchair or walker. \nAll Patrons with special needs can contact the Box Office at 386-736-1500 for our wheelchair/walker accessible seating. \n\n\n\n\n\nSPECIAL BOX SEAT PACKAGE \nBOX SEATS AVAILABLE6 SEATS PER BOX SEAT AREA $300PLEASE CONTACT THE BOX OFFICE AT 386-736-1500 \n 
URL:https://athensdeland.com/event/lets-hang-on/
LOCATION:Athens Theatre\, 124 N Florida Ave\, DeLand\, FL\, 32720\, United States
CATEGORIES:Concert/Performances/Events
ATTACH;FMTTYPE=image/png:https://athensdeland.com/wp-content/uploads/2019/07/LetsHangOn-2025_Web.png
END:VEVENT
BEGIN:VEVENT
DTSTART;TZID=America/New_York:20250511T100000
DTEND;TZID=America/New_York:20250511T140000
DTSTAMP:20260425T080940
CREATED:20240814T203325Z
LAST-MODIFIED:20240821T211916Z
UID:10002733-1746957600-1746972000@athensdeland.com
SUMMARY:Young Company 2024-2025
DESCRIPTION:ATYA Young Company 2024-2025\nGrades 9 – 12 | Saturdays 10:00 a.m. – 2:00 p.m. | $125 per month\n\nRehearsal Schedule & Tuition\n\nClass meets 10:00 a.m. – 2:00 p.m. on Saturdays\, September 2024 – May 2024 (with the exception of holidays and select dates) plus additional rehearsals and community performances scheduled separately. There will be a final Showcase in May for the community to attend.\nStudents MUST commit to the full scheduled season of rehearsals September 2024 to May 2025\, with varying performance dates and times scheduled TBD.\nAll conflicts MUST be previously communicated and approved at least two weeks in advance.\nTuition for the Young Company is $125 per month ($1125 total).\nMonthly payment plans are processed in 9 installments (September–May).\nFor questions\, please reach out to Education@athensdeland.com.\n\nAuditions for the 2024/2025 ATYA Young Company will be held on the following dates: \n\nSaturday\, August 24\, 10:00am\nSunday\, August 25\, 2:00pm\n\nAuditions are held in person at the Athens Theatre Rehearsal Hall (108 N. Florida Ave. DeLand\, FL 32725). \nPlease prepare two (2) contrasting Musical Theatre songs\, 16 – 32 bars each. Optional – prepare a 1-minute monologue. \nAfter performing their pieces\, auditioners will stay for a dance call. \nPlease sign up for your audition slot HERE \nFor more information\, please contact Education@athensdeland.com. \n\nWHO IS IT FOR?  \n\nFor student performers entering 9-12 grade who wish to take their training to the next level.  *Current ATYA students in 8th grade will be considered.\n\nDO I NEED TO COMMIT FOR THE FULL YEAR?  \n\nYes. Students accepted into the ATYA Young Company must commit to the 2024/2025 school year. All conflicts MUST be approved two weeks in advance.\n\nHOW MUCH IS TUITION?  \n\nTuition is paid in 9 installments of $125 per month\, September – May. ($1125 in total)\n\nWHAT DO I NEED TO DO FOR THE AUDITION?  \n\nEach auditioner should sign up for an audition slot.
URL:https://athensdeland.com/event/youngcompany/2025-05-11/
LOCATION:FL
CATEGORIES:Classes,Youth Activities
ATTACH;FMTTYPE=image/png:https://athensdeland.com/wp-content/uploads/2024/08/YA_YoungCompany_LinkBanner.png
END:VEVENT
END:VCALENDAR