BEGIN:VCALENDAR
VERSION:2.0
PRODID:-//Athens Theatre | Deland, Florida - ECPv6.15.17.1//NONSGML v1.0//EN
CALSCALE:GREGORIAN
METHOD:PUBLISH
X-ORIGINAL-URL:https://athensdeland.com
X-WR-CALDESC:Events for Athens Theatre | Deland, Florida
REFRESH-INTERVAL;VALUE=DURATION:PT1H
X-Robots-Tag:noindex
X-PUBLISHED-TTL:PT1H
BEGIN:VTIMEZONE
TZID:America/New_York
BEGIN:DAYLIGHT
TZOFFSETFROM:-0500
TZOFFSETTO:-0400
TZNAME:EDT
DTSTART:20240310T070000
END:DAYLIGHT
BEGIN:STANDARD
TZOFFSETFROM:-0400
TZOFFSETTO:-0500
TZNAME:EST
DTSTART:20241103T060000
END:STANDARD
BEGIN:DAYLIGHT
TZOFFSETFROM:-0500
TZOFFSETTO:-0400
TZNAME:EDT
DTSTART:20250309T070000
END:DAYLIGHT
BEGIN:STANDARD
TZOFFSETFROM:-0400
TZOFFSETTO:-0500
TZNAME:EST
DTSTART:20251102T060000
END:STANDARD
BEGIN:DAYLIGHT
TZOFFSETFROM:-0500
TZOFFSETTO:-0400
TZNAME:EDT
DTSTART:20260308T070000
END:DAYLIGHT
BEGIN:STANDARD
TZOFFSETFROM:-0400
TZOFFSETTO:-0500
TZNAME:EST
DTSTART:20261101T060000
END:STANDARD
END:VTIMEZONE
BEGIN:VEVENT
DTSTART;TZID=America/New_York:20250514T193000
DTEND;TZID=America/New_York:20250514T213000
DTSTAMP:20260425T102800
CREATED:20230313T175055Z
LAST-MODIFIED:20250407T212514Z
UID:10000597-1747251000-1747258200@athensdeland.com
SUMMARY:Slippery when Wet\, Jon Bon Jovi Tribute
DESCRIPTION:Bon Jovi’s career spans 30+ years and over 130 million albums sold worldwide. Another milestone that the band has achieved is that they have tracked 14 Billboard top ten singles of which 8 of those went straight to number 1. Slippery When Wet believes that Bon Jovi has the right kind of song catalog that really lends itself to being performed live as well as fitting into a broad age range that makes for the perfect club demographic. \nSlippery When Wet has played to many packed houses throughout the Southeast and has quickly become the top draw at many of their regularly scheduled clubs. The bands shows are the most attended and highest grossing of any Bon Jovi Tribute in the country.  In 2007\, the band was officially authorized by Bon Jovi to perform their highly entertaining show.  Their drive\, musical ability\, showmanship and dedication to duplicating the Bon Jovi live experience simply cannot be outdone! \n\nRESERVED SEATING \nPreferred Reserved Seating $401st. 6 rows Orchestra & 2 Rows Center Balcony \nGeneral Reserved Seating $35 \nA $5.00 per ticket Processing charge is added to all purchases and we collect a 6.5% State and County Sales Tax \nDue to the fact that the Historic Athens Theatre does not have an elevator to the balcony. The balcony is not accessible to anyone with a wheelchair or walker. \nAll Patrons with special needs can contact the Box Office at 386-736-1500 for our wheelchair/walker accessible seating. \n\n\n\n\n\nSPECIAL BOX SEAT PACKAGE \nBOX SEATS AVAILABLE6 SEATS PER BOX SEAT AREA $300PLEASE CONTACT THE BOX OFFICE AT 386-736-1500
URL:https://athensdeland.com/event/slippery-when-wet-the-ultimate-bon-jovi-tribute/
LOCATION:Athens Theatre\, 124 N Florida Ave\, DeLand\, FL\, 32720\, United States
CATEGORIES:Concert/Performances/Events
ATTACH;FMTTYPE=image/png:https://athensdeland.com/wp-content/uploads/2023/03/Bon-Jovi_2025_Web.png
END:VEVENT
BEGIN:VEVENT
DTSTART;TZID=America/New_York:20250518T100000
DTEND;TZID=America/New_York:20250518T140000
DTSTAMP:20260425T102800
CREATED:20240814T203325Z
LAST-MODIFIED:20240821T211916Z
UID:10002734-1747562400-1747576800@athensdeland.com
SUMMARY:Young Company 2024-2025
DESCRIPTION:ATYA Young Company 2024-2025\nGrades 9 – 12 | Saturdays 10:00 a.m. – 2:00 p.m. | $125 per month\n\nRehearsal Schedule & Tuition\n\nClass meets 10:00 a.m. – 2:00 p.m. on Saturdays\, September 2024 – May 2024 (with the exception of holidays and select dates) plus additional rehearsals and community performances scheduled separately. There will be a final Showcase in May for the community to attend.\nStudents MUST commit to the full scheduled season of rehearsals September 2024 to May 2025\, with varying performance dates and times scheduled TBD.\nAll conflicts MUST be previously communicated and approved at least two weeks in advance.\nTuition for the Young Company is $125 per month ($1125 total).\nMonthly payment plans are processed in 9 installments (September–May).\nFor questions\, please reach out to Education@athensdeland.com.\n\nAuditions for the 2024/2025 ATYA Young Company will be held on the following dates: \n\nSaturday\, August 24\, 10:00am\nSunday\, August 25\, 2:00pm\n\nAuditions are held in person at the Athens Theatre Rehearsal Hall (108 N. Florida Ave. DeLand\, FL 32725). \nPlease prepare two (2) contrasting Musical Theatre songs\, 16 – 32 bars each. Optional – prepare a 1-minute monologue. \nAfter performing their pieces\, auditioners will stay for a dance call. \nPlease sign up for your audition slot HERE \nFor more information\, please contact Education@athensdeland.com. \n\nWHO IS IT FOR?  \n\nFor student performers entering 9-12 grade who wish to take their training to the next level.  *Current ATYA students in 8th grade will be considered.\n\nDO I NEED TO COMMIT FOR THE FULL YEAR?  \n\nYes. Students accepted into the ATYA Young Company must commit to the 2024/2025 school year. All conflicts MUST be approved two weeks in advance.\n\nHOW MUCH IS TUITION?  \n\nTuition is paid in 9 installments of $125 per month\, September – May. ($1125 in total)\n\nWHAT DO I NEED TO DO FOR THE AUDITION?  \n\nEach auditioner should sign up for an audition slot.
URL:https://athensdeland.com/event/youngcompany/2025-05-18/
LOCATION:FL
CATEGORIES:Classes,Youth Activities
ATTACH;FMTTYPE=image/png:https://athensdeland.com/wp-content/uploads/2024/08/YA_YoungCompany_LinkBanner.png
END:VEVENT
BEGIN:VEVENT
DTSTART;TZID=America/New_York:20250518T143000
DTEND;TZID=America/New_York:20250518T163000
DTSTAMP:20260425T102800
CREATED:20250506T151547Z
LAST-MODIFIED:20250506T151547Z
UID:10003385-1747578600-1747585800@athensdeland.com
SUMMARY:COME ALIVE - Featuring the Young Company
DESCRIPTION:You’ve seen them lighting up stages around town all year… now catch them center stage at the historic Athens Theatre! This high-energy showcase features our premier performance troupe of talented high school students as they bring a year’s worth of training and passion to life in an unforgettable evening of song and dance. \nEnjoy show-stopping numbers from The Greatest Showman\, Finding Neverland\, Footloose\, She Loves Me\, Gypsy\, Ordinary Days\, Dear Evan Hansen\, and more! \nSunday\, May 18th at 2:30pm at the Athens Theatre\, 124 N Florida Ave\, DeLand\, FL 32720 \n \nPreferred Seating – $18 \nFirst 6 rows Orchestra & 2 Rows Center Balcony \nGeneral Seating – $15 \nDue to the fact that the Historic Athens Theatre does not have an elevator to the balcony. The balcony is not accessible to anyone with a wheelchair or walker. \nAll Patrons with special needs can contact the Box Office at 386-736-1500 for our wheelchair/walker accessible seating.
URL:https://athensdeland.com/event/come-alive-featuring-the-young-company/
LOCATION:FL
ATTACH;FMTTYPE=image/jpeg:https://athensdeland.com/wp-content/uploads/2025/05/ATYA_YC_ComeAlive_Web_compressed.jpg
END:VEVENT
END:VCALENDAR