BEGIN:VCALENDAR
VERSION:2.0
PRODID:-//Athens Theatre | Deland, Florida - ECPv6.15.17.1//NONSGML v1.0//EN
CALSCALE:GREGORIAN
METHOD:PUBLISH
X-ORIGINAL-URL:https://athensdeland.com
X-WR-CALDESC:Events for Athens Theatre | Deland, Florida
REFRESH-INTERVAL;VALUE=DURATION:PT1H
X-Robots-Tag:noindex
X-PUBLISHED-TTL:PT1H
BEGIN:VTIMEZONE
TZID:America/New_York
BEGIN:DAYLIGHT
TZOFFSETFROM:-0500
TZOFFSETTO:-0400
TZNAME:EDT
DTSTART:20240310T070000
END:DAYLIGHT
BEGIN:STANDARD
TZOFFSETFROM:-0400
TZOFFSETTO:-0500
TZNAME:EST
DTSTART:20241103T060000
END:STANDARD
BEGIN:DAYLIGHT
TZOFFSETFROM:-0500
TZOFFSETTO:-0400
TZNAME:EDT
DTSTART:20250309T070000
END:DAYLIGHT
BEGIN:STANDARD
TZOFFSETFROM:-0400
TZOFFSETTO:-0500
TZNAME:EST
DTSTART:20251102T060000
END:STANDARD
BEGIN:DAYLIGHT
TZOFFSETFROM:-0500
TZOFFSETTO:-0400
TZNAME:EDT
DTSTART:20260308T070000
END:DAYLIGHT
BEGIN:STANDARD
TZOFFSETFROM:-0400
TZOFFSETTO:-0500
TZNAME:EST
DTSTART:20261101T060000
END:STANDARD
END:VTIMEZONE
BEGIN:VEVENT
DTSTART;TZID=America/New_York:20250523T193000
DTEND;TZID=America/New_York:20250523T213000
DTSTAMP:20260425T120812
CREATED:20231024T220444Z
LAST-MODIFIED:20250407T212935Z
UID:10000810-1748028600-1748035800@athensdeland.com
SUMMARY:The Foreigner Experience\, A Tribute to Foreigner!
DESCRIPTION:With sales of more than 80 million albums\, including 39 singles\, 14 Top 20 hits\, and 4 gold records\, FOREIGNER is one of the best-loved musical acts of all time. \nThe Foreigner Experience brings their iconic hits to life with passion and reverence for one of the world’s greatest rock bands. \nComposed of national touring musicians\, the Foreigner Experience band has rocked audiences all over the southeast since 2012. Their high-energy shows always leave audiences wanting more. \nMembers have performed or shared the stage with Foreigner\, Bad Company\, ZZ Top\, Cheap Trick\, Poison\, Meatloaf\, KC and the Sunshine Band\, Saigon Kick\, Ohio Players\, Kool and the Gang\, Yngwie Malmsteen\, Zakk Wylde\, and many others. \nThe Foreigner Experience is a crowd-pleaser that never fails to electrify an audience. \nAll the hits! Including: \n\nCold As Ice\nJukebox Hero\nHot Blooded\nDouble Vision\nI Wanna Know What Love Is\nFeels Like The First Time\nUrgent\nLong\, Long Way From Home\n…and more!\n\n\nRESERVE SEATING\nPreferred Reserved Seating $401st. 6 rows Orchestra & 2 Rows Center Balcony \nGeneral Reserved Seating $35 \nA $5.00 per ticket Processing charge is added to all purchases and we collect a 6.5% State and County Sales Tax \nDue to the fact that the Historic Athens Theatre does not have an elevator to the balcony. The balcony is not accessible to anyone with a wheelchair or walker. \nAll Patrons with special needs can contact the Box Office at 386-736-1500 for our wheelchair/walker accessible seating. \n\n\n\n\n\nSPECIAL BOX SEAT PACKAGE \nBOX SEATS AVAILABLE6 SEATS PER BOX SEAT AREA $300PLEASE CONTACT THE BOX OFFICE AT 386-736-1500
URL:https://athensdeland.com/event/the-foreigner-experience-a-tribute-to-foreigner/
LOCATION:FL
CATEGORIES:Concert/Performances/Events
ATTACH;FMTTYPE=image/png:https://athensdeland.com/wp-content/uploads/2023/10/Foreigner_2025_Web.png
END:VEVENT
BEGIN:VEVENT
DTSTART;TZID=America/New_York:20250525T100000
DTEND;TZID=America/New_York:20250525T140000
DTSTAMP:20260425T120812
CREATED:20240814T203325Z
LAST-MODIFIED:20240821T211916Z
UID:10002735-1748167200-1748181600@athensdeland.com
SUMMARY:Young Company 2024-2025
DESCRIPTION:ATYA Young Company 2024-2025\nGrades 9 – 12 | Saturdays 10:00 a.m. – 2:00 p.m. | $125 per month\n\nRehearsal Schedule & Tuition\n\nClass meets 10:00 a.m. – 2:00 p.m. on Saturdays\, September 2024 – May 2024 (with the exception of holidays and select dates) plus additional rehearsals and community performances scheduled separately. There will be a final Showcase in May for the community to attend.\nStudents MUST commit to the full scheduled season of rehearsals September 2024 to May 2025\, with varying performance dates and times scheduled TBD.\nAll conflicts MUST be previously communicated and approved at least two weeks in advance.\nTuition for the Young Company is $125 per month ($1125 total).\nMonthly payment plans are processed in 9 installments (September–May).\nFor questions\, please reach out to Education@athensdeland.com.\n\nAuditions for the 2024/2025 ATYA Young Company will be held on the following dates: \n\nSaturday\, August 24\, 10:00am\nSunday\, August 25\, 2:00pm\n\nAuditions are held in person at the Athens Theatre Rehearsal Hall (108 N. Florida Ave. DeLand\, FL 32725). \nPlease prepare two (2) contrasting Musical Theatre songs\, 16 – 32 bars each. Optional – prepare a 1-minute monologue. \nAfter performing their pieces\, auditioners will stay for a dance call. \nPlease sign up for your audition slot HERE \nFor more information\, please contact Education@athensdeland.com. \n\nWHO IS IT FOR?  \n\nFor student performers entering 9-12 grade who wish to take their training to the next level.  *Current ATYA students in 8th grade will be considered.\n\nDO I NEED TO COMMIT FOR THE FULL YEAR?  \n\nYes. Students accepted into the ATYA Young Company must commit to the 2024/2025 school year. All conflicts MUST be approved two weeks in advance.\n\nHOW MUCH IS TUITION?  \n\nTuition is paid in 9 installments of $125 per month\, September – May. ($1125 in total)\n\nWHAT DO I NEED TO DO FOR THE AUDITION?  \n\nEach auditioner should sign up for an audition slot.
URL:https://athensdeland.com/event/youngcompany/2025-05-25/
LOCATION:FL
CATEGORIES:Classes,Youth Activities
ATTACH;FMTTYPE=image/png:https://athensdeland.com/wp-content/uploads/2024/08/YA_YoungCompany_LinkBanner.png
END:VEVENT
END:VCALENDAR