BEGIN:VCALENDAR
VERSION:2.0
PRODID:-//Athens Theatre | Deland, Florida - ECPv6.15.17.1//NONSGML v1.0//EN
CALSCALE:GREGORIAN
METHOD:PUBLISH
X-ORIGINAL-URL:https://athensdeland.com
X-WR-CALDESC:Events for Athens Theatre | Deland, Florida
REFRESH-INTERVAL;VALUE=DURATION:PT1H
X-Robots-Tag:noindex
X-PUBLISHED-TTL:PT1H
BEGIN:VTIMEZONE
TZID:America/New_York
BEGIN:DAYLIGHT
TZOFFSETFROM:-0500
TZOFFSETTO:-0400
TZNAME:EDT
DTSTART:20240310T070000
END:DAYLIGHT
BEGIN:STANDARD
TZOFFSETFROM:-0400
TZOFFSETTO:-0500
TZNAME:EST
DTSTART:20241103T060000
END:STANDARD
BEGIN:DAYLIGHT
TZOFFSETFROM:-0500
TZOFFSETTO:-0400
TZNAME:EDT
DTSTART:20250309T070000
END:DAYLIGHT
BEGIN:STANDARD
TZOFFSETFROM:-0400
TZOFFSETTO:-0500
TZNAME:EST
DTSTART:20251102T060000
END:STANDARD
BEGIN:DAYLIGHT
TZOFFSETFROM:-0500
TZOFFSETTO:-0400
TZNAME:EDT
DTSTART:20260308T070000
END:DAYLIGHT
BEGIN:STANDARD
TZOFFSETFROM:-0400
TZOFFSETTO:-0500
TZNAME:EST
DTSTART:20261101T060000
END:STANDARD
END:VTIMEZONE
BEGIN:VEVENT
DTSTART;TZID=America/New_York:20250728T090000
DTEND;TZID=America/New_York:20250728T120000
DTSTAMP:20260424T134811
CREATED:20240215T210411Z
LAST-MODIFIED:20250429T165055Z
UID:10001322-1753693200-1753704000@athensdeland.com
SUMMARY:INTO THE UNKNOWN (Waitlist Only)
DESCRIPTION:Rising K – 2nd Grade | 9am – 12pm | $210    \n \nJuly 28 – August 1 \nCome cool off from the summer heat at our FROZEN summer camp! Children will sing and dance to some of their favorite songs from Frozen and Frozen 2\, pretend to go ice skating\, have a snowball fight\, build a snowman\, and so much more. Join us for a week of frozen fun! \n\nAdd Your Name to the Waitlist? - Click Here
URL:https://athensdeland.com/event/into-the-unkown/
LOCATION:FL
CATEGORIES:Summer Camps,Youth Activities
ATTACH;FMTTYPE=image/png:https://athensdeland.com/wp-content/uploads/2024/02/IntoTheUnknown_K_2_WaitlistWeb.png
END:VEVENT
BEGIN:VEVENT
DTSTART;TZID=America/New_York:20250728T090000
DTEND;TZID=America/New_York:20250728T160000
DTSTAMP:20260424T134811
CREATED:20240215T221516Z
LAST-MODIFIED:20250514T204401Z
UID:10001579-1753693200-1753718400@athensdeland.com
SUMMARY:HAKUNA MATATA
DESCRIPTION:Rising 3 – 5th Grade | Mon – Thur: 9am – 3pm & Fri: 9am – 11:30am  | $260    \n \nJuly 28 – August 1 \nWhat a wonderful phrase! The world of The Lion King is filled with catchy music and memorable characters. During camp\, students will recreate some of their favorite scenes plus prepare musical numbers from the hit movie and Tony Award-winning musical. \n\nENROLL NOW
URL:https://athensdeland.com/event/hahuna-matata/
LOCATION:FL
CATEGORIES:Summer Camps,Youth Activities
ATTACH;FMTTYPE=image/webp:https://athensdeland.com/wp-content/uploads/2024/02/HakunaMatata_LimitedSpaceWeb.webp
END:VEVENT
BEGIN:VEVENT
DTSTART;TZID=America/New_York:20250731T193000
DTEND;TZID=America/New_York:20250731T213000
DTSTAMP:20260424T134811
CREATED:20250408T224319Z
LAST-MODIFIED:20250711T190024Z
UID:10003290-1753990200-1753997400@athensdeland.com
SUMMARY:LEGALLY BLONDE\, THE MUSICAL!
DESCRIPTION:Music and lyrics by Laurence O’Keefe and Nell Benjamin\, Book by Heather Hach \n“Brains\, beauty\, and Bruiser: Harvard has no idea what’s coming!” \nFasten your stilettos and get ready to snap and strut into Elle Woods’ world! This blonde dynamo is heading to Harvard Law with a lot of style\, a little pup named Bruiser\, and enough pink power suits to turn every courtroom into a Paris fashion show. With a dash of bling and a whole lot of sass\, Elle’s here to prove that she’s not just hair flips and heels—she’s got the brains\, heart\, and high-energy dance numbers to take on the Ivy League. This feel-good musical will have you cheering as Elle conquers law school\, smashes stereotypes\, and shows us that self-confidence is the ultimate accessory \nPresented through special arrangement with Music Theatre International (MTI) \nRated PG-13: Run time: 2 hours and 30 minutes with a 15-minute intermission \nBUY TICKETS NOW \nBUY NOW AS PART OF A SEASON PACKAGE \nSPECIAL ASL/ENGLISH INTERPRETED PERFORMANCE ON SATURDAY 7/26 \nSPECIAL AUDIO DESCRIBED PERFORMANCE ON SUNDAY 7/27 \nTO PURCHASE TICKETS IN THE SECTION WITH THE BEST SIGHT LINES TO THE INTERPRETERS\, PLEASE CONTACT THE BOX OFFICE EITHER AT 386-736-1500 OR EMAIL US AT BOXOFFICE@ATHENSDELAND.COM \n\nReserved Seating \nPreferred $37 (Row A-F\, Orchestra & CC-DD Center Balcony) \nAdult $32 – Senior $28\nStudent/Child $12 – Groups of 8 or more $25\nA $5.00 per ticket Processing charge is added to all purchases. \nAs the historic Athens Theatre does not have an elevator\, the balcony is not accessible to anyone with a wheelchair or walker. \nAll Patrons with special needs can contact the Box Office at 386-736-1500 for our wheelchair/walker accessible seating. \nSpecial Box Seat Package \nCatered exclusively by Joe Hearn Events\, The Elusive Grape\, Pat & Toni’s Sweet Things\, and 3 Smart Cookies. \n$500 – Price includes: \n\nUp to 11 seats in the Box Seat and Balcony area\nChoice of Red/White Wine\nCheese Platter\nChocolate Covered Strawberries\nCookies\n\nPlease contact the Box Office at 386-736-1500\, for this Package.\n(a $5 per seat processing fee is added to the cost of these packages)
URL:https://athensdeland.com/event/legally-blonde-the-musical/2025-07-31/
LOCATION:FL
CATEGORIES:Athens Theatre Company Productions,Our Season
ATTACH;FMTTYPE=image/png:https://athensdeland.com/wp-content/uploads/2025/04/LegallyBlonde_Web_2.png
END:VEVENT
BEGIN:VEVENT
DTSTART;TZID=America/New_York:20250801T193000
DTEND;TZID=America/New_York:20250801T213000
DTSTAMP:20260424T134811
CREATED:20250408T224319Z
LAST-MODIFIED:20250711T190024Z
UID:10003291-1754076600-1754083800@athensdeland.com
SUMMARY:LEGALLY BLONDE\, THE MUSICAL!
DESCRIPTION:Music and lyrics by Laurence O’Keefe and Nell Benjamin\, Book by Heather Hach \n“Brains\, beauty\, and Bruiser: Harvard has no idea what’s coming!” \nFasten your stilettos and get ready to snap and strut into Elle Woods’ world! This blonde dynamo is heading to Harvard Law with a lot of style\, a little pup named Bruiser\, and enough pink power suits to turn every courtroom into a Paris fashion show. With a dash of bling and a whole lot of sass\, Elle’s here to prove that she’s not just hair flips and heels—she’s got the brains\, heart\, and high-energy dance numbers to take on the Ivy League. This feel-good musical will have you cheering as Elle conquers law school\, smashes stereotypes\, and shows us that self-confidence is the ultimate accessory \nPresented through special arrangement with Music Theatre International (MTI) \nRated PG-13: Run time: 2 hours and 30 minutes with a 15-minute intermission \nBUY TICKETS NOW \nBUY NOW AS PART OF A SEASON PACKAGE \nSPECIAL ASL/ENGLISH INTERPRETED PERFORMANCE ON SATURDAY 7/26 \nSPECIAL AUDIO DESCRIBED PERFORMANCE ON SUNDAY 7/27 \nTO PURCHASE TICKETS IN THE SECTION WITH THE BEST SIGHT LINES TO THE INTERPRETERS\, PLEASE CONTACT THE BOX OFFICE EITHER AT 386-736-1500 OR EMAIL US AT BOXOFFICE@ATHENSDELAND.COM \n\nReserved Seating \nPreferred $37 (Row A-F\, Orchestra & CC-DD Center Balcony) \nAdult $32 – Senior $28\nStudent/Child $12 – Groups of 8 or more $25\nA $5.00 per ticket Processing charge is added to all purchases. \nAs the historic Athens Theatre does not have an elevator\, the balcony is not accessible to anyone with a wheelchair or walker. \nAll Patrons with special needs can contact the Box Office at 386-736-1500 for our wheelchair/walker accessible seating. \nSpecial Box Seat Package \nCatered exclusively by Joe Hearn Events\, The Elusive Grape\, Pat & Toni’s Sweet Things\, and 3 Smart Cookies. \n$500 – Price includes: \n\nUp to 11 seats in the Box Seat and Balcony area\nChoice of Red/White Wine\nCheese Platter\nChocolate Covered Strawberries\nCookies\n\nPlease contact the Box Office at 386-736-1500\, for this Package.\n(a $5 per seat processing fee is added to the cost of these packages)
URL:https://athensdeland.com/event/legally-blonde-the-musical/2025-08-01/
LOCATION:FL
CATEGORIES:Athens Theatre Company Productions,Our Season
ATTACH;FMTTYPE=image/png:https://athensdeland.com/wp-content/uploads/2025/04/LegallyBlonde_Web_2.png
END:VEVENT
BEGIN:VEVENT
DTSTART;TZID=America/New_York:20250802T193000
DTEND;TZID=America/New_York:20250802T213000
DTSTAMP:20260424T134811
CREATED:20250408T224319Z
LAST-MODIFIED:20250711T190024Z
UID:10003292-1754163000-1754170200@athensdeland.com
SUMMARY:LEGALLY BLONDE\, THE MUSICAL!
DESCRIPTION:Music and lyrics by Laurence O’Keefe and Nell Benjamin\, Book by Heather Hach \n“Brains\, beauty\, and Bruiser: Harvard has no idea what’s coming!” \nFasten your stilettos and get ready to snap and strut into Elle Woods’ world! This blonde dynamo is heading to Harvard Law with a lot of style\, a little pup named Bruiser\, and enough pink power suits to turn every courtroom into a Paris fashion show. With a dash of bling and a whole lot of sass\, Elle’s here to prove that she’s not just hair flips and heels—she’s got the brains\, heart\, and high-energy dance numbers to take on the Ivy League. This feel-good musical will have you cheering as Elle conquers law school\, smashes stereotypes\, and shows us that self-confidence is the ultimate accessory \nPresented through special arrangement with Music Theatre International (MTI) \nRated PG-13: Run time: 2 hours and 30 minutes with a 15-minute intermission \nBUY TICKETS NOW \nBUY NOW AS PART OF A SEASON PACKAGE \nSPECIAL ASL/ENGLISH INTERPRETED PERFORMANCE ON SATURDAY 7/26 \nSPECIAL AUDIO DESCRIBED PERFORMANCE ON SUNDAY 7/27 \nTO PURCHASE TICKETS IN THE SECTION WITH THE BEST SIGHT LINES TO THE INTERPRETERS\, PLEASE CONTACT THE BOX OFFICE EITHER AT 386-736-1500 OR EMAIL US AT BOXOFFICE@ATHENSDELAND.COM \n\nReserved Seating \nPreferred $37 (Row A-F\, Orchestra & CC-DD Center Balcony) \nAdult $32 – Senior $28\nStudent/Child $12 – Groups of 8 or more $25\nA $5.00 per ticket Processing charge is added to all purchases. \nAs the historic Athens Theatre does not have an elevator\, the balcony is not accessible to anyone with a wheelchair or walker. \nAll Patrons with special needs can contact the Box Office at 386-736-1500 for our wheelchair/walker accessible seating. \nSpecial Box Seat Package \nCatered exclusively by Joe Hearn Events\, The Elusive Grape\, Pat & Toni’s Sweet Things\, and 3 Smart Cookies. \n$500 – Price includes: \n\nUp to 11 seats in the Box Seat and Balcony area\nChoice of Red/White Wine\nCheese Platter\nChocolate Covered Strawberries\nCookies\n\nPlease contact the Box Office at 386-736-1500\, for this Package.\n(a $5 per seat processing fee is added to the cost of these packages)
URL:https://athensdeland.com/event/legally-blonde-the-musical/2025-08-02/
LOCATION:FL
CATEGORIES:Athens Theatre Company Productions,Our Season
ATTACH;FMTTYPE=image/png:https://athensdeland.com/wp-content/uploads/2025/04/LegallyBlonde_Web_2.png
END:VEVENT
BEGIN:VEVENT
DTSTART;TZID=America/New_York:20250803T143000
DTEND;TZID=America/New_York:20250803T163000
DTSTAMP:20260424T134811
CREATED:20250408T224319Z
LAST-MODIFIED:20250711T190024Z
UID:10003293-1754231400-1754238600@athensdeland.com
SUMMARY:LEGALLY BLONDE\, THE MUSICAL!
DESCRIPTION:Music and lyrics by Laurence O’Keefe and Nell Benjamin\, Book by Heather Hach \n“Brains\, beauty\, and Bruiser: Harvard has no idea what’s coming!” \nFasten your stilettos and get ready to snap and strut into Elle Woods’ world! This blonde dynamo is heading to Harvard Law with a lot of style\, a little pup named Bruiser\, and enough pink power suits to turn every courtroom into a Paris fashion show. With a dash of bling and a whole lot of sass\, Elle’s here to prove that she’s not just hair flips and heels—she’s got the brains\, heart\, and high-energy dance numbers to take on the Ivy League. This feel-good musical will have you cheering as Elle conquers law school\, smashes stereotypes\, and shows us that self-confidence is the ultimate accessory \nPresented through special arrangement with Music Theatre International (MTI) \nRated PG-13: Run time: 2 hours and 30 minutes with a 15-minute intermission \nBUY TICKETS NOW \nBUY NOW AS PART OF A SEASON PACKAGE \nSPECIAL ASL/ENGLISH INTERPRETED PERFORMANCE ON SATURDAY 7/26 \nSPECIAL AUDIO DESCRIBED PERFORMANCE ON SUNDAY 7/27 \nTO PURCHASE TICKETS IN THE SECTION WITH THE BEST SIGHT LINES TO THE INTERPRETERS\, PLEASE CONTACT THE BOX OFFICE EITHER AT 386-736-1500 OR EMAIL US AT BOXOFFICE@ATHENSDELAND.COM \n\nReserved Seating \nPreferred $37 (Row A-F\, Orchestra & CC-DD Center Balcony) \nAdult $32 – Senior $28\nStudent/Child $12 – Groups of 8 or more $25\nA $5.00 per ticket Processing charge is added to all purchases. \nAs the historic Athens Theatre does not have an elevator\, the balcony is not accessible to anyone with a wheelchair or walker. \nAll Patrons with special needs can contact the Box Office at 386-736-1500 for our wheelchair/walker accessible seating. \nSpecial Box Seat Package \nCatered exclusively by Joe Hearn Events\, The Elusive Grape\, Pat & Toni’s Sweet Things\, and 3 Smart Cookies. \n$500 – Price includes: \n\nUp to 11 seats in the Box Seat and Balcony area\nChoice of Red/White Wine\nCheese Platter\nChocolate Covered Strawberries\nCookies\n\nPlease contact the Box Office at 386-736-1500\, for this Package.\n(a $5 per seat processing fee is added to the cost of these packages)
URL:https://athensdeland.com/event/legally-blonde-the-musical/2025-08-03/
LOCATION:FL
CATEGORIES:Athens Theatre Company Productions,Our Season
ATTACH;FMTTYPE=image/png:https://athensdeland.com/wp-content/uploads/2025/04/LegallyBlonde_Web_2.png
END:VEVENT
END:VCALENDAR