BEGIN:VCALENDAR
VERSION:2.0
PRODID:-//Athens Theatre | Deland, Florida - ECPv6.15.17.1//NONSGML v1.0//EN
CALSCALE:GREGORIAN
METHOD:PUBLISH
X-WR-CALNAME:Athens Theatre | Deland, Florida
X-ORIGINAL-URL:https://athensdeland.com
X-WR-CALDESC:Events for Athens Theatre | Deland, Florida
REFRESH-INTERVAL;VALUE=DURATION:PT1H
X-Robots-Tag:noindex
X-PUBLISHED-TTL:PT1H
BEGIN:VTIMEZONE
TZID:America/New_York
BEGIN:DAYLIGHT
TZOFFSETFROM:-0500
TZOFFSETTO:-0400
TZNAME:EDT
DTSTART:20240310T070000
END:DAYLIGHT
BEGIN:STANDARD
TZOFFSETFROM:-0400
TZOFFSETTO:-0500
TZNAME:EST
DTSTART:20241103T060000
END:STANDARD
BEGIN:DAYLIGHT
TZOFFSETFROM:-0500
TZOFFSETTO:-0400
TZNAME:EDT
DTSTART:20250309T070000
END:DAYLIGHT
BEGIN:STANDARD
TZOFFSETFROM:-0400
TZOFFSETTO:-0500
TZNAME:EST
DTSTART:20251102T060000
END:STANDARD
BEGIN:DAYLIGHT
TZOFFSETFROM:-0500
TZOFFSETTO:-0400
TZNAME:EDT
DTSTART:20260308T070000
END:DAYLIGHT
BEGIN:STANDARD
TZOFFSETFROM:-0400
TZOFFSETTO:-0500
TZNAME:EST
DTSTART:20261101T060000
END:STANDARD
END:VTIMEZONE
BEGIN:VEVENT
DTSTART;TZID=America/New_York:20251210T193000
DTEND;TZID=America/New_York:20251210T213000
DTSTAMP:20260424T071126
CREATED:20250409T165854Z
LAST-MODIFIED:20251222T021643Z
UID:10003370-1765395000-1765402200@athensdeland.com
SUMMARY:IRVING BERLIN'S HOLIDAY INN
DESCRIPTION:Music and Lyrics by Irving Berlin\, Book by Gordon Greenberg and Chad Hodge \n“One farmhouse. A year of holidays. And a Christmas to remember.” \nCelebrate the magic of Christmas with Irving Berlin’s Holiday Inn—a heartwarming holiday treat packed with show-stopping dance numbers\, dazzling costumes\, and a treasure trove of timeless tunes. When Broadway performer Jim leaves the bright lights behind for a quiet Connecticut farmhouse\, he ends up transforming his home into a seasonal inn\, open only on the holidays. But with love in the air\, rivalries heating up\, and performances for every festivity\, the holidays get a lot more exciting than he ever imagined. Featuring 20 beloved Irving Berlin classics—including “White Christmas\,” “Happy Holiday\,” “Blue Skies\,” and “Cheek to Cheek”—this delightful musical delivers all the laughter\, romance\, and seasonal sparkle of a Christmas card come to life. \nPresented through special arrangement with Concord Theatricals \nRated G: Run time: 2 hours and 30 minutes with a 15-minute intermission \nBUY TICKETS NOW \nBUY NOW AS PART OF A SEASON PACKAGE \nSPECIAL ASL/ENGLISH INTERPRETED PERFORMANCE ON SATURDAY 12/6 \nSPECIAL AUDIO DESCRIBED PERFORMANCE ON SUNDAY 12/7 \nTO PURCHASE TICKETS IN THE SECTION WITH THE BEST SIGHT LINES TO THE INTERPRETERS\, PLEASE CONTACT THE BOX OFFICE EITHER AT 386-736-1500 OR EMAIL US AT BOXOFFICE@ATHENSDELAND.COM \n  \n\nReserved Seating \nPreferred $37 (Row A-F\, Orchestra & CC-DD Center Balcony) \nAdult $32 – Senior $28\nStudent/Child $12 – Groups of 8 or more $25\nA $5.00 per ticket Processing charge is added to all purchases. \nAs the historic Athens Theatre does not have an elevator\, the balcony is not accessible to anyone with a wheelchair or walker. \nAll Patrons with special needs can contact the Box Office at 386-736-1500 for our wheelchair/walker accessible seating. \nSpecial Box Seat Package \nCatered exclusively by Joe Hearn Events\, The Elusive Grape\, Pat & Toni’s Sweet Things\, and 3 Smart Cookies. \n$500 – Price includes: \n\nUp to 11 seats in the Box Seat and Balcony area\nChoice of Red/White Wine\nCheese Platter\nChocolate Covered Strawberries\nCookies\n\nPlease contact the Box Office at 386-736-1500\, for this Package.\n(a $5 per seat processing fee is added to the cost of these packages)
URL:https://athensdeland.com/event/irving-berlins-holiday-inn/2025-12-10/
LOCATION:FL
CATEGORIES:Athens Theatre Company Productions,Our Season
ATTACH;FMTTYPE=image/png:https://athensdeland.com/wp-content/uploads/2025/04/HolidayInn_Web_2.png
END:VEVENT
BEGIN:VEVENT
DTSTART;TZID=America/New_York:20251211T193000
DTEND;TZID=America/New_York:20251211T213000
DTSTAMP:20260424T071126
CREATED:20250409T165854Z
LAST-MODIFIED:20251222T021643Z
UID:10003334-1765481400-1765488600@athensdeland.com
SUMMARY:IRVING BERLIN'S HOLIDAY INN
DESCRIPTION:Music and Lyrics by Irving Berlin\, Book by Gordon Greenberg and Chad Hodge \n“One farmhouse. A year of holidays. And a Christmas to remember.” \nCelebrate the magic of Christmas with Irving Berlin’s Holiday Inn—a heartwarming holiday treat packed with show-stopping dance numbers\, dazzling costumes\, and a treasure trove of timeless tunes. When Broadway performer Jim leaves the bright lights behind for a quiet Connecticut farmhouse\, he ends up transforming his home into a seasonal inn\, open only on the holidays. But with love in the air\, rivalries heating up\, and performances for every festivity\, the holidays get a lot more exciting than he ever imagined. Featuring 20 beloved Irving Berlin classics—including “White Christmas\,” “Happy Holiday\,” “Blue Skies\,” and “Cheek to Cheek”—this delightful musical delivers all the laughter\, romance\, and seasonal sparkle of a Christmas card come to life. \nPresented through special arrangement with Concord Theatricals \nRated G: Run time: 2 hours and 30 minutes with a 15-minute intermission \nBUY TICKETS NOW \nBUY NOW AS PART OF A SEASON PACKAGE \nSPECIAL ASL/ENGLISH INTERPRETED PERFORMANCE ON SATURDAY 12/6 \nSPECIAL AUDIO DESCRIBED PERFORMANCE ON SUNDAY 12/7 \nTO PURCHASE TICKETS IN THE SECTION WITH THE BEST SIGHT LINES TO THE INTERPRETERS\, PLEASE CONTACT THE BOX OFFICE EITHER AT 386-736-1500 OR EMAIL US AT BOXOFFICE@ATHENSDELAND.COM \n  \n\nReserved Seating \nPreferred $37 (Row A-F\, Orchestra & CC-DD Center Balcony) \nAdult $32 – Senior $28\nStudent/Child $12 – Groups of 8 or more $25\nA $5.00 per ticket Processing charge is added to all purchases. \nAs the historic Athens Theatre does not have an elevator\, the balcony is not accessible to anyone with a wheelchair or walker. \nAll Patrons with special needs can contact the Box Office at 386-736-1500 for our wheelchair/walker accessible seating. \nSpecial Box Seat Package \nCatered exclusively by Joe Hearn Events\, The Elusive Grape\, Pat & Toni’s Sweet Things\, and 3 Smart Cookies. \n$500 – Price includes: \n\nUp to 11 seats in the Box Seat and Balcony area\nChoice of Red/White Wine\nCheese Platter\nChocolate Covered Strawberries\nCookies\n\nPlease contact the Box Office at 386-736-1500\, for this Package.\n(a $5 per seat processing fee is added to the cost of these packages)
URL:https://athensdeland.com/event/irving-berlins-holiday-inn/2025-12-11/
LOCATION:FL
CATEGORIES:Athens Theatre Company Productions,Our Season
ATTACH;FMTTYPE=image/png:https://athensdeland.com/wp-content/uploads/2025/04/HolidayInn_Web_2.png
END:VEVENT
BEGIN:VEVENT
DTSTART;TZID=America/New_York:20251212T193000
DTEND;TZID=America/New_York:20251212T213000
DTSTAMP:20260424T071126
CREATED:20250409T165854Z
LAST-MODIFIED:20251222T021643Z
UID:10003335-1765567800-1765575000@athensdeland.com
SUMMARY:IRVING BERLIN'S HOLIDAY INN
DESCRIPTION:Music and Lyrics by Irving Berlin\, Book by Gordon Greenberg and Chad Hodge \n“One farmhouse. A year of holidays. And a Christmas to remember.” \nCelebrate the magic of Christmas with Irving Berlin’s Holiday Inn—a heartwarming holiday treat packed with show-stopping dance numbers\, dazzling costumes\, and a treasure trove of timeless tunes. When Broadway performer Jim leaves the bright lights behind for a quiet Connecticut farmhouse\, he ends up transforming his home into a seasonal inn\, open only on the holidays. But with love in the air\, rivalries heating up\, and performances for every festivity\, the holidays get a lot more exciting than he ever imagined. Featuring 20 beloved Irving Berlin classics—including “White Christmas\,” “Happy Holiday\,” “Blue Skies\,” and “Cheek to Cheek”—this delightful musical delivers all the laughter\, romance\, and seasonal sparkle of a Christmas card come to life. \nPresented through special arrangement with Concord Theatricals \nRated G: Run time: 2 hours and 30 minutes with a 15-minute intermission \nBUY TICKETS NOW \nBUY NOW AS PART OF A SEASON PACKAGE \nSPECIAL ASL/ENGLISH INTERPRETED PERFORMANCE ON SATURDAY 12/6 \nSPECIAL AUDIO DESCRIBED PERFORMANCE ON SUNDAY 12/7 \nTO PURCHASE TICKETS IN THE SECTION WITH THE BEST SIGHT LINES TO THE INTERPRETERS\, PLEASE CONTACT THE BOX OFFICE EITHER AT 386-736-1500 OR EMAIL US AT BOXOFFICE@ATHENSDELAND.COM \n  \n\nReserved Seating \nPreferred $37 (Row A-F\, Orchestra & CC-DD Center Balcony) \nAdult $32 – Senior $28\nStudent/Child $12 – Groups of 8 or more $25\nA $5.00 per ticket Processing charge is added to all purchases. \nAs the historic Athens Theatre does not have an elevator\, the balcony is not accessible to anyone with a wheelchair or walker. \nAll Patrons with special needs can contact the Box Office at 386-736-1500 for our wheelchair/walker accessible seating. \nSpecial Box Seat Package \nCatered exclusively by Joe Hearn Events\, The Elusive Grape\, Pat & Toni’s Sweet Things\, and 3 Smart Cookies. \n$500 – Price includes: \n\nUp to 11 seats in the Box Seat and Balcony area\nChoice of Red/White Wine\nCheese Platter\nChocolate Covered Strawberries\nCookies\n\nPlease contact the Box Office at 386-736-1500\, for this Package.\n(a $5 per seat processing fee is added to the cost of these packages)
URL:https://athensdeland.com/event/irving-berlins-holiday-inn/2025-12-12/
LOCATION:FL
CATEGORIES:Athens Theatre Company Productions,Our Season
ATTACH;FMTTYPE=image/png:https://athensdeland.com/wp-content/uploads/2025/04/HolidayInn_Web_2.png
END:VEVENT
BEGIN:VEVENT
DTSTART;TZID=America/New_York:20251213T110000
DTEND;TZID=America/New_York:20251213T123000
DTSTAMP:20260424T071126
CREATED:20211130T211043Z
LAST-MODIFIED:20251201T134213Z
UID:10003707-1765623600-1765629000@athensdeland.com
SUMMARY:WINTER RECITAL 2025
DESCRIPTION:It’s time for a night of music and merriment! Our voice\, acting\, and dance students at the Athens Theatre Youth Academy have been working hard and are ready to perform for you. Join us as we celebrate their accomplishments! \nSaturday\, December 13th at the Athens Theatre\, 124 N Florida Ave\, DeLand\, FL 32720. \n\nBUY TICKETS FOR 10 AM RECITAL HERE \nBUY TICKETS FOR 12:15 PM RECITAL HERE \n\nRESERVED SEATING\nPreferred Seating – $18 \nGeneral Seating – $15 \nA $5.00 per ticket Processing charge is added to all purchases. \nAs the historic Athens Theatre does not have an elevator\, the balcony is not accessible to anyone with a wheelchair or walker. \nAll Patrons with special needs can contact the Box Office at 386-736-1500 for our wheelchair/walker accessible seating. \nContact our box office at 386-736-1500 to reserve your seats today!
URL:https://athensdeland.com/event/winter-recital-2023/2025-12-13/1/
LOCATION:FL
CATEGORIES:Concert/Performances/Events,Youth Activities
ATTACH;FMTTYPE=image/png:https://athensdeland.com/wp-content/uploads/2021/11/YA_WinterRecital_2025_Web-1.png
END:VEVENT
BEGIN:VEVENT
DTSTART;TZID=America/New_York:20251213T121500
DTEND;TZID=America/New_York:20251213T134500
DTSTAMP:20260424T071126
CREATED:20211130T211043Z
LAST-MODIFIED:20251201T134213Z
UID:10003708-1765628100-1765633500@athensdeland.com
SUMMARY:WINTER RECITAL 2025
DESCRIPTION:It’s time for a night of music and merriment! Our voice\, acting\, and dance students at the Athens Theatre Youth Academy have been working hard and are ready to perform for you. Join us as we celebrate their accomplishments! \nSaturday\, December 13th at the Athens Theatre\, 124 N Florida Ave\, DeLand\, FL 32720. \n\nBUY TICKETS FOR 10 AM RECITAL HERE \nBUY TICKETS FOR 12:15 PM RECITAL HERE \n\nRESERVED SEATING\nPreferred Seating – $18 \nGeneral Seating – $15 \nA $5.00 per ticket Processing charge is added to all purchases. \nAs the historic Athens Theatre does not have an elevator\, the balcony is not accessible to anyone with a wheelchair or walker. \nAll Patrons with special needs can contact the Box Office at 386-736-1500 for our wheelchair/walker accessible seating. \nContact our box office at 386-736-1500 to reserve your seats today!
URL:https://athensdeland.com/event/winter-recital-2023/2025-12-13/2/
LOCATION:FL
CATEGORIES:Concert/Performances/Events,Youth Activities
ATTACH;FMTTYPE=image/png:https://athensdeland.com/wp-content/uploads/2021/11/YA_WinterRecital_2025_Web-1.png
END:VEVENT
BEGIN:VEVENT
DTSTART;TZID=America/New_York:20251213T150000
DTEND;TZID=America/New_York:20251213T163000
DTSTAMP:20260424T071126
CREATED:20231117T173706Z
LAST-MODIFIED:20251201T134109Z
UID:10003705-1765638000-1765643400@athensdeland.com
SUMMARY:Winter Showcase (K-2) & (3-12)!
DESCRIPTION:WINTER SHOWCASE 2025: Grades K – 2 (Saturday\, December 13th at 3:00pm) \nIt’s the most festive time of year! Our youngest Athens Theatre Youth Academy students will be coming together to show you what they’ve been working on in class this semester! Featuring students from the following classes: \n\nKids Music Time\nKids Dance\n\nWINTER SHOWCASE 2025: Grades 3 – 12 (Tuesday\, December 16th at 7:00pm) \nAll Athens Theatre Youth Academy students in grades 3 through 12 will be coming together to show you what they’ve been working on in class this semester! Featuring students from the following classes: \n\nCreative Drama\nBeginning Improvisation\nAdvanced Improvisation\nMusical Theatre 1\nMusical Theatre 2\nActing & Public Speaking\n\n\nBUY TICKETS FOR GRADES K-2 SHOWCASE HERE \nBUY TICKETS FOR GRADES 3-12 SHOWCASE HERE \n\n(K-2) RESERVED SEATING\nPreferred Seating – $15 \nGeneral Seating – $12 \n(3-12) RESERVED SEATING\nPreferred Seating – $18 \nGeneral Seating – $15 \nA $5.00 per ticket Processing charge is added to all purchases. \nAs the historic Athens Theatre does not have an elevator\, the balcony is not accessible to anyone with a wheelchair or walker. \nAll Patrons with special needs can contact the Box Office at 386-736-1500 for our wheelchair/walker accessible seating. \nContact our box office at 386-736-1500 to reserve your seats today!
URL:https://athensdeland.com/event/winter-showcase-k-2-3-12/2025-12-13/
LOCATION:Athens Theatre\, 124 N Florida Ave\, DeLand\, FL\, 32720\, United States
CATEGORIES:Concert/Performances/Events,Youth Activities
ATTACH;FMTTYPE=image/png:https://athensdeland.com/wp-content/uploads/2023/11/YA_WinterShowcaseCombo_2025_Web.png
END:VEVENT
BEGIN:VEVENT
DTSTART;TZID=America/New_York:20251213T193000
DTEND;TZID=America/New_York:20251213T213000
DTSTAMP:20260424T071126
CREATED:20250409T165854Z
LAST-MODIFIED:20251222T021643Z
UID:10003375-1765654200-1765661400@athensdeland.com
SUMMARY:IRVING BERLIN'S HOLIDAY INN
DESCRIPTION:Music and Lyrics by Irving Berlin\, Book by Gordon Greenberg and Chad Hodge \n“One farmhouse. A year of holidays. And a Christmas to remember.” \nCelebrate the magic of Christmas with Irving Berlin’s Holiday Inn—a heartwarming holiday treat packed with show-stopping dance numbers\, dazzling costumes\, and a treasure trove of timeless tunes. When Broadway performer Jim leaves the bright lights behind for a quiet Connecticut farmhouse\, he ends up transforming his home into a seasonal inn\, open only on the holidays. But with love in the air\, rivalries heating up\, and performances for every festivity\, the holidays get a lot more exciting than he ever imagined. Featuring 20 beloved Irving Berlin classics—including “White Christmas\,” “Happy Holiday\,” “Blue Skies\,” and “Cheek to Cheek”—this delightful musical delivers all the laughter\, romance\, and seasonal sparkle of a Christmas card come to life. \nPresented through special arrangement with Concord Theatricals \nRated G: Run time: 2 hours and 30 minutes with a 15-minute intermission \nBUY TICKETS NOW \nBUY NOW AS PART OF A SEASON PACKAGE \nSPECIAL ASL/ENGLISH INTERPRETED PERFORMANCE ON SATURDAY 12/6 \nSPECIAL AUDIO DESCRIBED PERFORMANCE ON SUNDAY 12/7 \nTO PURCHASE TICKETS IN THE SECTION WITH THE BEST SIGHT LINES TO THE INTERPRETERS\, PLEASE CONTACT THE BOX OFFICE EITHER AT 386-736-1500 OR EMAIL US AT BOXOFFICE@ATHENSDELAND.COM \n  \n\nReserved Seating \nPreferred $37 (Row A-F\, Orchestra & CC-DD Center Balcony) \nAdult $32 – Senior $28\nStudent/Child $12 – Groups of 8 or more $25\nA $5.00 per ticket Processing charge is added to all purchases. \nAs the historic Athens Theatre does not have an elevator\, the balcony is not accessible to anyone with a wheelchair or walker. \nAll Patrons with special needs can contact the Box Office at 386-736-1500 for our wheelchair/walker accessible seating. \nSpecial Box Seat Package \nCatered exclusively by Joe Hearn Events\, The Elusive Grape\, Pat & Toni’s Sweet Things\, and 3 Smart Cookies. \n$500 – Price includes: \n\nUp to 11 seats in the Box Seat and Balcony area\nChoice of Red/White Wine\nCheese Platter\nChocolate Covered Strawberries\nCookies\n\nPlease contact the Box Office at 386-736-1500\, for this Package.\n(a $5 per seat processing fee is added to the cost of these packages)
URL:https://athensdeland.com/event/irving-berlins-holiday-inn/2025-12-13/
LOCATION:FL
CATEGORIES:Athens Theatre Company Productions,Our Season
ATTACH;FMTTYPE=image/png:https://athensdeland.com/wp-content/uploads/2025/04/HolidayInn_Web_2.png
END:VEVENT
BEGIN:VEVENT
DTSTART;TZID=America/New_York:20251214T143000
DTEND;TZID=America/New_York:20251214T163000
DTSTAMP:20260424T071126
CREATED:20250409T165854Z
LAST-MODIFIED:20251222T021643Z
UID:10003337-1765722600-1765729800@athensdeland.com
SUMMARY:IRVING BERLIN'S HOLIDAY INN
DESCRIPTION:Music and Lyrics by Irving Berlin\, Book by Gordon Greenberg and Chad Hodge \n“One farmhouse. A year of holidays. And a Christmas to remember.” \nCelebrate the magic of Christmas with Irving Berlin’s Holiday Inn—a heartwarming holiday treat packed with show-stopping dance numbers\, dazzling costumes\, and a treasure trove of timeless tunes. When Broadway performer Jim leaves the bright lights behind for a quiet Connecticut farmhouse\, he ends up transforming his home into a seasonal inn\, open only on the holidays. But with love in the air\, rivalries heating up\, and performances for every festivity\, the holidays get a lot more exciting than he ever imagined. Featuring 20 beloved Irving Berlin classics—including “White Christmas\,” “Happy Holiday\,” “Blue Skies\,” and “Cheek to Cheek”—this delightful musical delivers all the laughter\, romance\, and seasonal sparkle of a Christmas card come to life. \nPresented through special arrangement with Concord Theatricals \nRated G: Run time: 2 hours and 30 minutes with a 15-minute intermission \nBUY TICKETS NOW \nBUY NOW AS PART OF A SEASON PACKAGE \nSPECIAL ASL/ENGLISH INTERPRETED PERFORMANCE ON SATURDAY 12/6 \nSPECIAL AUDIO DESCRIBED PERFORMANCE ON SUNDAY 12/7 \nTO PURCHASE TICKETS IN THE SECTION WITH THE BEST SIGHT LINES TO THE INTERPRETERS\, PLEASE CONTACT THE BOX OFFICE EITHER AT 386-736-1500 OR EMAIL US AT BOXOFFICE@ATHENSDELAND.COM \n  \n\nReserved Seating \nPreferred $37 (Row A-F\, Orchestra & CC-DD Center Balcony) \nAdult $32 – Senior $28\nStudent/Child $12 – Groups of 8 or more $25\nA $5.00 per ticket Processing charge is added to all purchases. \nAs the historic Athens Theatre does not have an elevator\, the balcony is not accessible to anyone with a wheelchair or walker. \nAll Patrons with special needs can contact the Box Office at 386-736-1500 for our wheelchair/walker accessible seating. \nSpecial Box Seat Package \nCatered exclusively by Joe Hearn Events\, The Elusive Grape\, Pat & Toni’s Sweet Things\, and 3 Smart Cookies. \n$500 – Price includes: \n\nUp to 11 seats in the Box Seat and Balcony area\nChoice of Red/White Wine\nCheese Platter\nChocolate Covered Strawberries\nCookies\n\nPlease contact the Box Office at 386-736-1500\, for this Package.\n(a $5 per seat processing fee is added to the cost of these packages)
URL:https://athensdeland.com/event/irving-berlins-holiday-inn/2025-12-14/
LOCATION:FL
CATEGORIES:Athens Theatre Company Productions,Our Season
ATTACH;FMTTYPE=image/png:https://athensdeland.com/wp-content/uploads/2025/04/HolidayInn_Web_2.png
END:VEVENT
END:VCALENDAR