BEGIN:VCALENDAR
VERSION:2.0
PRODID:-//Athens Theatre | Deland, Florida - ECPv6.15.17.1//NONSGML v1.0//EN
CALSCALE:GREGORIAN
METHOD:PUBLISH
X-WR-CALNAME:Athens Theatre | Deland, Florida
X-ORIGINAL-URL:https://athensdeland.com
X-WR-CALDESC:Events for Athens Theatre | Deland, Florida
REFRESH-INTERVAL;VALUE=DURATION:PT1H
X-Robots-Tag:noindex
X-PUBLISHED-TTL:PT1H
BEGIN:VTIMEZONE
TZID:America/New_York
BEGIN:DAYLIGHT
TZOFFSETFROM:-0500
TZOFFSETTO:-0400
TZNAME:EDT
DTSTART:20250309T070000
END:DAYLIGHT
BEGIN:STANDARD
TZOFFSETFROM:-0400
TZOFFSETTO:-0500
TZNAME:EST
DTSTART:20251102T060000
END:STANDARD
BEGIN:DAYLIGHT
TZOFFSETFROM:-0500
TZOFFSETTO:-0400
TZNAME:EDT
DTSTART:20260308T070000
END:DAYLIGHT
BEGIN:STANDARD
TZOFFSETFROM:-0400
TZOFFSETTO:-0500
TZNAME:EST
DTSTART:20261101T060000
END:STANDARD
BEGIN:DAYLIGHT
TZOFFSETFROM:-0500
TZOFFSETTO:-0400
TZNAME:EDT
DTSTART:20270314T070000
END:DAYLIGHT
BEGIN:STANDARD
TZOFFSETFROM:-0400
TZOFFSETTO:-0500
TZNAME:EST
DTSTART:20271107T060000
END:STANDARD
END:VTIMEZONE
BEGIN:VEVENT
DTSTART;TZID=America/New_York:20260126T153000
DTEND;TZID=America/New_York:20260427T163000
DTSTAMP:20260424T065029
CREATED:20251201T180601Z
LAST-MODIFIED:20251212T150038Z
UID:10003775-1769441400-1777307400@athensdeland.com
SUMMARY:KIDS DANCE II
DESCRIPTION:Kids Dance II\nGrades 3 – 5 | Mondays 3:30pm – 4:30pm | $260\n\nThis class is designed for students who are ready to develop basic movement skills through dance. Using techniques found in ballet\, hip-hop\, jazz\, and more\, your child will focus on understanding rhythm\, form\, and terminology in dance. This class will be a well-rounded introduction to dance for our youngest performers. \nGrades 3 – 5\, Mondays\, 3:30pm – 4:30pm \nSPRING 2026: January 26 – April 27  (No class on Monday\, March 16th) \nShowcase for Grades 3-12 will take place on Tuesday\, May 5th at 7:00 pm with a mandatory rehearsal on Monday\, May 4th. \nTuition: One-time $260 payment in full \nREGISTER HERE
URL:https://athensdeland.com/event/kids-dance-ii/
LOCATION:FL
CATEGORIES:Classes,Youth Activities
ATTACH;FMTTYPE=image/png:https://athensdeland.com/wp-content/uploads/2025/12/YASpring_KidsDance2_LinkBanner.png
END:VEVENT
BEGIN:VEVENT
DTSTART;TZID=America/New_York:20260126T164500
DTEND;TZID=America/New_York:20260427T174500
DTSTAMP:20260424T065029
CREATED:20251201T170042Z
LAST-MODIFIED:20251201T175756Z
UID:10003400-1769445900-1777311900@athensdeland.com
SUMMARY:ACTING & PUBLIC SPEAKING
DESCRIPTION:Grades 6 – 12 | Mondays 4:45pm – 5:45pm | $260\n\nFor the teenager that wants to perform on stage and become a more confident communicator and public speaker. During class\, students will learn about vocal projection\, articulation\, character analysis\, memorization\, speech preparation\, and more through a variety of exercises and vocal training. Students will apply these skills to scene work\, mock interviews\, and speeches. \nClasses take place weekly on Mondays. \nSPRING 2026: January 26 – April 27 (No class on Monday\, March 16th) \nShowcase for Grades 3-12 will be held on Tuesday\, May 5th at 7:00 pm with a mandatory rehearsal on Monday\, May 4th. \nTuition: One time $260 payment in full \nREGISTER HERE \n 
URL:https://athensdeland.com/event/acting-public-speaking-2/
LOCATION:FL
CATEGORIES:Classes,Youth Activities
ATTACH;FMTTYPE=image/png:https://athensdeland.com/wp-content/uploads/2023/06/YA_ActingPublicSpeak_LinkBanner.png
END:VEVENT
BEGIN:VEVENT
DTSTART;TZID=America/New_York:20260127T153000
DTEND;TZID=America/New_York:20260428T163000
DTSTAMP:20260424T065029
CREATED:20251201T173034Z
LAST-MODIFIED:20251201T175847Z
UID:10003397-1769527800-1777393800@athensdeland.com
SUMMARY:CREATIVE DRAMA
DESCRIPTION:Grades 3-5 | Tuesdays 3:30pm – 4:30pm | $260\n\n\n\n\nUnleash your child’s creativity and imagination! In creative drama\, students will learn to tell stories through acting improvisation\, movement\, and scene work. They will learn basic theatre terms and techniques while developing skills in public speaking\, leadership\, creative thinking\, and improve self-confidence. This will culminate in an end of semester showcase where they will perform what they learned in front of an audience\, building your child’s social\, emotional\, and cognitive skills\, setting them up for success. \nClasses take place weekly on Tuesdays. \nSPRING 2026: January 27th – April 28th (No class on March 17th) \nShowcase for Grades 3-12 will be held on Tuesday\, May 5th at 7:00 pm with a mandatory rehearsal on Monday\, May 4th. \nTuition: One-time $260 payment in full \nREGISTER HERE \n 
URL:https://athensdeland.com/event/creative-drama-2-2/
LOCATION:FL
CATEGORIES:Classes,Youth Activities
ATTACH;FMTTYPE=image/png:https://athensdeland.com/wp-content/uploads/2019/10/YA_CreativeDrama_LinkBanner.png
END:VEVENT
BEGIN:VEVENT
DTSTART;TZID=America/New_York:20260127T164500
DTEND;TZID=America/New_York:20260428T174500
DTSTAMP:20260424T065029
CREATED:20251201T173347Z
LAST-MODIFIED:20251209T211322Z
UID:10003677-1769532300-1777398300@athensdeland.com
SUMMARY:IMPROVISATION
DESCRIPTION:BEGINNING\nGrades 6 – 12 | Tuesdays 4:45pm – 5:45pm | $260\nADVANCED\nGrades 8 – 12 | Tuesdays 6:00pm – 7:00pm | $260 (minimum 3 semesters of beginner required)\n\nFor the teen that wants to expand their performance skills! Students will learn core fundamentals of improvisation\, pantomime and acting: focusing on games and exercises that encourage trust\, communication\, active listening\, character development\, and more!  The perfect class for your teen to explore their craft and work on every aspect of the arts\, making them a well rounded performer. \nClasses take place weekly on Tuesdays. \nSPRING 2026: January 27th – April 28th (No class on Tuesday\, March 17th)  \n\n\nShowcase for Grades 3 – 12 will be held on Tuesday\, May 5th at 7:00 pm with a mandatory rehearsal on Monday\, May 4th.  \n\n\nTuition: One time $260 payment in full \nREGISTER HERE\n  \n  \n  \n 
URL:https://athensdeland.com/event/improv/
LOCATION:FL
CATEGORIES:Classes
ATTACH;FMTTYPE=image/png:https://athensdeland.com/wp-content/uploads/2025/12/YASpring_Improvisation_LinkBanner.png
END:VEVENT
BEGIN:VEVENT
DTSTART;TZID=America/New_York:20260128T164500
DTEND;TZID=America/New_York:20260429T174500
DTSTAMP:20260424T065029
CREATED:20250711T190136Z
LAST-MODIFIED:20251201T180032Z
UID:10003692-1769618700-1777484700@athensdeland.com
SUMMARY:MUSICAL THEATRE
DESCRIPTION:MUSICAL THEATER 1\nGrades 3-5 | Wednesdays 3:30pm – 4:30pm | $260\n  \nMUSICAL THEATER 2\nGrades 6-12 | Wednesdays 4:45pm – 5:45pm | $260\n\nThis class is for students who enjoy all aspects of performing. With a focus on a variety of dance styles\, acting and music\, these classes are curated to expose and enrich students new to the performing arts and challenge those more experienced. These classes will feature music and choreography from some of our favorite musicals and some new ones as well! \nClasses take place weekly on Wednesdays. \n\n\nSPRING 2026: January 28 – April 29  (No class on Wednesday\, March 18th)  \nShowcase for Grades 3 – 12 will be held on Tuesday\, May 5th at 7:00 pm with a mandatory rehearsal on Monday\, May 4th.  \nTuition: One time $260 payment in full \nREGISTER HERE \n  \n\n\n  \n  \n 
URL:https://athensdeland.com/event/musical-theatre-2/
LOCATION:FL
CATEGORIES:Classes,Youth Activities
ATTACH;FMTTYPE=image/jpeg:https://athensdeland.com/wp-content/uploads/2019/10/YA_MusicTheatre_LinkBanner-copy.jpg
END:VEVENT
BEGIN:VEVENT
DTSTART;TZID=America/New_York:20260129T154500
DTEND;TZID=America/New_York:20260430T163000
DTSTAMP:20260424T065029
CREATED:20251201T165740Z
LAST-MODIFIED:20251201T175431Z
UID:10003399-1769701500-1777566600@athensdeland.com
SUMMARY:KIDS DANCE
DESCRIPTION:Kids Dance I\nGrades K – 2 | Thursdays 3:45pm – 4:30pm | $210\n\nThis class is designed for students who are ready to develop basic movement skills through dance. Using techniques found in ballet\, hip-hop\, jazz\, and more\, your child will focus on understanding rhythm\, form\, and terminology in dance. This class will be a well-rounded introduction to dance for our youngest performers. \nGrades K – 2\, Thursdays\, 3:45pm – 4:30pm \nSPRING 2026: January 29 – April 30  (No class on Thursday\, March 19th) \nShowcase for Grades K-2 will take place on Saturday\, May 2nd at 3:00 pm \nTuition: One-time $210 payment in full \nREGISTER HERE
URL:https://athensdeland.com/event/dance-classes-2/
LOCATION:FL
CATEGORIES:Classes,Youth Activities
ATTACH;FMTTYPE=image/png:https://athensdeland.com/wp-content/uploads/2021/09/YA_KidsK2Dance_LinkBanner.png
END:VEVENT
BEGIN:VEVENT
DTSTART;TZID=America/New_York:20260318T170000
DTEND;TZID=America/New_York:20260318T184500
DTSTAMP:20260424T065029
CREATED:20190829T144823Z
LAST-MODIFIED:20250910T230827Z
UID:10003697-1773853200-1773859500@athensdeland.com
SUMMARY:Forever ABBA Canada!
DESCRIPTION:ABBA is one of the most popular groups in the world today. Their record-breaking hits continue to thrill music lovers of all ages. Since their first triumph at Eurovision in 1974\, ABBA has sold over 400 million copies of their albums. Furthermore\, new renditions of popular ABBA songs now permeate modern musicals and media\, stimulating a new generation of ABBA fans! \nForever ABBA Canada is North America’s #1 tribute to ABBA and its members have been dazzling audiences across the globe for many years. Forever ABBA Canada recreates the magic of ABBA with authentic costumes\, spectacular harmonies and note-perfect musicianship taking their audience on a musical journey back in time! \nHere’s what past guests have to say! \n“The show was excellent! Had attended last year\, and that experience was excellent as well. Hope ABBA Canada continues as a fixture on the Athens schedule for years to come.” – Amanda F. \n“10/10! This was my second time seeing ABBA Forever Canada at the Athens! They were amazing\, and I hope they return every year!!” – Jessica M. \n“A big 10! My granddaughter and I attended the ABBA concert and were delighted by the show. She still talks about it and wants to see another show. Good time had! We saw them the last time they were in town.” – Linda K. \n“A ten! For the ABBA show!” – Steve T. \n“Outstanding concert! Loved the music\, costumes\, engaging singers\, and incredible musicians! We just loved the whole Athens experience!” — Rebecca L. \n“Fantastic show! The energy was off the charts\, and the harmonies were spot on. It felt like a real ABBA concert\, and we couldn’t stop dancing. Can’t wait for the next one!” — Sarah M. \n“What a night! The costumes were perfect\, and the music transported us back in time. The whole audience was singing along\, and the band was amazing. Definitely one of the best shows we’ve seen at Athens!” — Mark T.. \n\nRESERVED SEATING \nPreferred Reserved Seating $401st. 6 rows Orchestra & 2 Rows Center Balcony \nGeneral Reserved Seating $35 \nA $5.00 per ticket Processing charge is added to all purchases and we collect a 6.5% State and County Sales Tax \nDue to the fact that the Historic Athens Theatre does not have an elevator to the balcony. The balcony is not accessible to anyone with a wheelchair or walker. \nAll Patrons with special needs can contact the Box Office at 386-736-1500 for our wheelchair/walker accessible seating. \n\n\n\n\n\nSPECIAL BOX SEAT PACKAGE \nBOX SEATS AVAILABLE6 SEATS PER BOX SEAT AREA $300PLEASE CONTACT THE BOX OFFICE AT 386-736-1500
URL:https://athensdeland.com/event/foreverabbacanada/2026-03-18/1/
LOCATION:FL
CATEGORIES:Concert/Performances/Events
ATTACH;FMTTYPE=image/webp:https://athensdeland.com/wp-content/uploads/2021/07/ForeverABBACanada_2026_Web.webp
END:VEVENT
BEGIN:VEVENT
DTSTART;TZID=America/New_York:20260318T200000
DTEND;TZID=America/New_York:20260318T214500
DTSTAMP:20260424T065029
CREATED:20190829T144823Z
LAST-MODIFIED:20250910T230827Z
UID:10003698-1773864000-1773870300@athensdeland.com
SUMMARY:Forever ABBA Canada!
DESCRIPTION:ABBA is one of the most popular groups in the world today. Their record-breaking hits continue to thrill music lovers of all ages. Since their first triumph at Eurovision in 1974\, ABBA has sold over 400 million copies of their albums. Furthermore\, new renditions of popular ABBA songs now permeate modern musicals and media\, stimulating a new generation of ABBA fans! \nForever ABBA Canada is North America’s #1 tribute to ABBA and its members have been dazzling audiences across the globe for many years. Forever ABBA Canada recreates the magic of ABBA with authentic costumes\, spectacular harmonies and note-perfect musicianship taking their audience on a musical journey back in time! \nHere’s what past guests have to say! \n“The show was excellent! Had attended last year\, and that experience was excellent as well. Hope ABBA Canada continues as a fixture on the Athens schedule for years to come.” – Amanda F. \n“10/10! This was my second time seeing ABBA Forever Canada at the Athens! They were amazing\, and I hope they return every year!!” – Jessica M. \n“A big 10! My granddaughter and I attended the ABBA concert and were delighted by the show. She still talks about it and wants to see another show. Good time had! We saw them the last time they were in town.” – Linda K. \n“A ten! For the ABBA show!” – Steve T. \n“Outstanding concert! Loved the music\, costumes\, engaging singers\, and incredible musicians! We just loved the whole Athens experience!” — Rebecca L. \n“Fantastic show! The energy was off the charts\, and the harmonies were spot on. It felt like a real ABBA concert\, and we couldn’t stop dancing. Can’t wait for the next one!” — Sarah M. \n“What a night! The costumes were perfect\, and the music transported us back in time. The whole audience was singing along\, and the band was amazing. Definitely one of the best shows we’ve seen at Athens!” — Mark T.. \n\nRESERVED SEATING \nPreferred Reserved Seating $401st. 6 rows Orchestra & 2 Rows Center Balcony \nGeneral Reserved Seating $35 \nA $5.00 per ticket Processing charge is added to all purchases and we collect a 6.5% State and County Sales Tax \nDue to the fact that the Historic Athens Theatre does not have an elevator to the balcony. The balcony is not accessible to anyone with a wheelchair or walker. \nAll Patrons with special needs can contact the Box Office at 386-736-1500 for our wheelchair/walker accessible seating. \n\n\n\n\n\nSPECIAL BOX SEAT PACKAGE \nBOX SEATS AVAILABLE6 SEATS PER BOX SEAT AREA $300PLEASE CONTACT THE BOX OFFICE AT 386-736-1500
URL:https://athensdeland.com/event/foreverabbacanada/2026-03-18/2/
LOCATION:FL
CATEGORIES:Concert/Performances/Events
ATTACH;FMTTYPE=image/webp:https://athensdeland.com/wp-content/uploads/2021/07/ForeverABBACanada_2026_Web.webp
END:VEVENT
BEGIN:VEVENT
DTSTART;TZID=America/New_York:20260319T193000
DTEND;TZID=America/New_York:20260319T213000
DTSTAMP:20260424T065029
CREATED:20250409T172159Z
LAST-MODIFIED:20260303T202612Z
UID:10003349-1773948600-1773955800@athensdeland.com
SUMMARY:STEEL MAGNOLIAS
DESCRIPTION:A Play by Robert Harling \n“Big hair\, big laughs\, big love—bless your heart.” \nTruvy’s beauty salon is where life happens. It’s where women gather to laugh\, cry\, share stories\, and carry one another through everything life throws their way. Steel Magnolias is a funny\, deeply moving story about friendship—the kind that’s loud\, loyal\, and shows up when it counts. It’s about finding strength in the people who know you best\, and love you anyway. This heartfelt comedy-drama is as sweet and soulful as Southern tea—and proves that “laughter through tears” just might be the finest emotion of all. \nPresented through special arrangement with Concord Theatricals\, Broadway Licensing\, LLC\, serving the Dramatists Play Service Collection. \nRated PG: Run time: 2 hours and 30 minutes with a 15-minute intermission \nBUY TICKETS NOW \nSPECIAL ASL/ENGLISH INTERPRETED PERFORMANCE ON SATURDAY 3/14 \nSPECIAL AUDIO DESCRIBED PERFORMANCE ON SUNDAY 3/15 \nTO PURCHASE TICKETS IN THE SECTION WITH THE BEST SIGHT LINES TO THE INTERPRETERS\, PLEASE CONTACT THE BOX OFFICE EITHER AT 386-736-1500 OR EMAIL US AT BOXOFFICE@ATHENSDELAND.COM \n  \n\nReserved Seating\nPreferred $37 (Row A-F\, Orchestra & CC-DD Center Balcony) \nAdult $32 – Senior $28\nStudent/Child $12 – Groups of 8 or more $25\nA $5.00 per ticket Processing charge is added to all purchases. \nAs the historic Athens Theatre does not have an elevator\, the balcony is not accessible to anyone with a wheelchair or walker. \nAll Patrons with special needs can contact the Box Office at 386-736-1500 for our wheelchair/walker accessible seating. \nSpecial Box Seat Package \nCatered exclusively by Joe Hearn Events\, The Elusive Grape\, Pat & Toni’s Sweet Things\, and 3 Smart Cookies. \n$500 – Price includes: \n\nUp to 11 seats in the Box Seat and Balcony area\nChoice of Red/White Wine\nCheese Platter\nChocolate Covered Strawberries\nCookies\n\nPlease contact the Box Office at 386-736-1500\, for this Package.\n(a $5 per seat processing fee is added to the cost of these packages)
URL:https://athensdeland.com/event/steel-magnolias/2026-03-19/
LOCATION:FL
CATEGORIES:Athens Theatre Company Productions,Our Season
ATTACH;FMTTYPE=image/png:https://athensdeland.com/wp-content/uploads/2025/04/Steel-Magnolias_Web3.png
END:VEVENT
BEGIN:VEVENT
DTSTART;TZID=America/New_York:20260320T193000
DTEND;TZID=America/New_York:20260320T213000
DTSTAMP:20260424T065029
CREATED:20250409T172159Z
LAST-MODIFIED:20260303T202612Z
UID:10003350-1774035000-1774042200@athensdeland.com
SUMMARY:STEEL MAGNOLIAS
DESCRIPTION:A Play by Robert Harling \n“Big hair\, big laughs\, big love—bless your heart.” \nTruvy’s beauty salon is where life happens. It’s where women gather to laugh\, cry\, share stories\, and carry one another through everything life throws their way. Steel Magnolias is a funny\, deeply moving story about friendship—the kind that’s loud\, loyal\, and shows up when it counts. It’s about finding strength in the people who know you best\, and love you anyway. This heartfelt comedy-drama is as sweet and soulful as Southern tea—and proves that “laughter through tears” just might be the finest emotion of all. \nPresented through special arrangement with Concord Theatricals\, Broadway Licensing\, LLC\, serving the Dramatists Play Service Collection. \nRated PG: Run time: 2 hours and 30 minutes with a 15-minute intermission \nBUY TICKETS NOW \nSPECIAL ASL/ENGLISH INTERPRETED PERFORMANCE ON SATURDAY 3/14 \nSPECIAL AUDIO DESCRIBED PERFORMANCE ON SUNDAY 3/15 \nTO PURCHASE TICKETS IN THE SECTION WITH THE BEST SIGHT LINES TO THE INTERPRETERS\, PLEASE CONTACT THE BOX OFFICE EITHER AT 386-736-1500 OR EMAIL US AT BOXOFFICE@ATHENSDELAND.COM \n  \n\nReserved Seating\nPreferred $37 (Row A-F\, Orchestra & CC-DD Center Balcony) \nAdult $32 – Senior $28\nStudent/Child $12 – Groups of 8 or more $25\nA $5.00 per ticket Processing charge is added to all purchases. \nAs the historic Athens Theatre does not have an elevator\, the balcony is not accessible to anyone with a wheelchair or walker. \nAll Patrons with special needs can contact the Box Office at 386-736-1500 for our wheelchair/walker accessible seating. \nSpecial Box Seat Package \nCatered exclusively by Joe Hearn Events\, The Elusive Grape\, Pat & Toni’s Sweet Things\, and 3 Smart Cookies. \n$500 – Price includes: \n\nUp to 11 seats in the Box Seat and Balcony area\nChoice of Red/White Wine\nCheese Platter\nChocolate Covered Strawberries\nCookies\n\nPlease contact the Box Office at 386-736-1500\, for this Package.\n(a $5 per seat processing fee is added to the cost of these packages)
URL:https://athensdeland.com/event/steel-magnolias/2026-03-20/
LOCATION:FL
CATEGORIES:Athens Theatre Company Productions,Our Season
ATTACH;FMTTYPE=image/png:https://athensdeland.com/wp-content/uploads/2025/04/Steel-Magnolias_Web3.png
END:VEVENT
BEGIN:VEVENT
DTSTART;TZID=America/New_York:20260321T193000
DTEND;TZID=America/New_York:20260321T213000
DTSTAMP:20260424T065029
CREATED:20250409T172159Z
LAST-MODIFIED:20260303T202612Z
UID:10003351-1774121400-1774128600@athensdeland.com
SUMMARY:STEEL MAGNOLIAS
DESCRIPTION:A Play by Robert Harling \n“Big hair\, big laughs\, big love—bless your heart.” \nTruvy’s beauty salon is where life happens. It’s where women gather to laugh\, cry\, share stories\, and carry one another through everything life throws their way. Steel Magnolias is a funny\, deeply moving story about friendship—the kind that’s loud\, loyal\, and shows up when it counts. It’s about finding strength in the people who know you best\, and love you anyway. This heartfelt comedy-drama is as sweet and soulful as Southern tea—and proves that “laughter through tears” just might be the finest emotion of all. \nPresented through special arrangement with Concord Theatricals\, Broadway Licensing\, LLC\, serving the Dramatists Play Service Collection. \nRated PG: Run time: 2 hours and 30 minutes with a 15-minute intermission \nBUY TICKETS NOW \nSPECIAL ASL/ENGLISH INTERPRETED PERFORMANCE ON SATURDAY 3/14 \nSPECIAL AUDIO DESCRIBED PERFORMANCE ON SUNDAY 3/15 \nTO PURCHASE TICKETS IN THE SECTION WITH THE BEST SIGHT LINES TO THE INTERPRETERS\, PLEASE CONTACT THE BOX OFFICE EITHER AT 386-736-1500 OR EMAIL US AT BOXOFFICE@ATHENSDELAND.COM \n  \n\nReserved Seating\nPreferred $37 (Row A-F\, Orchestra & CC-DD Center Balcony) \nAdult $32 – Senior $28\nStudent/Child $12 – Groups of 8 or more $25\nA $5.00 per ticket Processing charge is added to all purchases. \nAs the historic Athens Theatre does not have an elevator\, the balcony is not accessible to anyone with a wheelchair or walker. \nAll Patrons with special needs can contact the Box Office at 386-736-1500 for our wheelchair/walker accessible seating. \nSpecial Box Seat Package \nCatered exclusively by Joe Hearn Events\, The Elusive Grape\, Pat & Toni’s Sweet Things\, and 3 Smart Cookies. \n$500 – Price includes: \n\nUp to 11 seats in the Box Seat and Balcony area\nChoice of Red/White Wine\nCheese Platter\nChocolate Covered Strawberries\nCookies\n\nPlease contact the Box Office at 386-736-1500\, for this Package.\n(a $5 per seat processing fee is added to the cost of these packages)
URL:https://athensdeland.com/event/steel-magnolias/2026-03-21/
LOCATION:FL
CATEGORIES:Athens Theatre Company Productions,Our Season
ATTACH;FMTTYPE=image/png:https://athensdeland.com/wp-content/uploads/2025/04/Steel-Magnolias_Web3.png
END:VEVENT
BEGIN:VEVENT
DTSTART;TZID=America/New_York:20260322T143000
DTEND;TZID=America/New_York:20260322T163000
DTSTAMP:20260424T065029
CREATED:20250409T172159Z
LAST-MODIFIED:20260303T202612Z
UID:10003352-1774189800-1774197000@athensdeland.com
SUMMARY:STEEL MAGNOLIAS
DESCRIPTION:A Play by Robert Harling \n“Big hair\, big laughs\, big love—bless your heart.” \nTruvy’s beauty salon is where life happens. It’s where women gather to laugh\, cry\, share stories\, and carry one another through everything life throws their way. Steel Magnolias is a funny\, deeply moving story about friendship—the kind that’s loud\, loyal\, and shows up when it counts. It’s about finding strength in the people who know you best\, and love you anyway. This heartfelt comedy-drama is as sweet and soulful as Southern tea—and proves that “laughter through tears” just might be the finest emotion of all. \nPresented through special arrangement with Concord Theatricals\, Broadway Licensing\, LLC\, serving the Dramatists Play Service Collection. \nRated PG: Run time: 2 hours and 30 minutes with a 15-minute intermission \nBUY TICKETS NOW \nSPECIAL ASL/ENGLISH INTERPRETED PERFORMANCE ON SATURDAY 3/14 \nSPECIAL AUDIO DESCRIBED PERFORMANCE ON SUNDAY 3/15 \nTO PURCHASE TICKETS IN THE SECTION WITH THE BEST SIGHT LINES TO THE INTERPRETERS\, PLEASE CONTACT THE BOX OFFICE EITHER AT 386-736-1500 OR EMAIL US AT BOXOFFICE@ATHENSDELAND.COM \n  \n\nReserved Seating\nPreferred $37 (Row A-F\, Orchestra & CC-DD Center Balcony) \nAdult $32 – Senior $28\nStudent/Child $12 – Groups of 8 or more $25\nA $5.00 per ticket Processing charge is added to all purchases. \nAs the historic Athens Theatre does not have an elevator\, the balcony is not accessible to anyone with a wheelchair or walker. \nAll Patrons with special needs can contact the Box Office at 386-736-1500 for our wheelchair/walker accessible seating. \nSpecial Box Seat Package \nCatered exclusively by Joe Hearn Events\, The Elusive Grape\, Pat & Toni’s Sweet Things\, and 3 Smart Cookies. \n$500 – Price includes: \n\nUp to 11 seats in the Box Seat and Balcony area\nChoice of Red/White Wine\nCheese Platter\nChocolate Covered Strawberries\nCookies\n\nPlease contact the Box Office at 386-736-1500\, for this Package.\n(a $5 per seat processing fee is added to the cost of these packages)
URL:https://athensdeland.com/event/steel-magnolias/2026-03-22/
LOCATION:FL
CATEGORIES:Athens Theatre Company Productions,Our Season
ATTACH;FMTTYPE=image/png:https://athensdeland.com/wp-content/uploads/2025/04/Steel-Magnolias_Web3.png
END:VEVENT
END:VCALENDAR