BEGIN:VCALENDAR
VERSION:2.0
PRODID:-//Athens Theatre | Deland, Florida - ECPv6.15.17.1//NONSGML v1.0//EN
CALSCALE:GREGORIAN
METHOD:PUBLISH
X-ORIGINAL-URL:https://athensdeland.com
X-WR-CALDESC:Events for Athens Theatre | Deland, Florida
REFRESH-INTERVAL;VALUE=DURATION:PT1H
X-Robots-Tag:noindex
X-PUBLISHED-TTL:PT1H
BEGIN:VTIMEZONE
TZID:America/New_York
BEGIN:DAYLIGHT
TZOFFSETFROM:-0500
TZOFFSETTO:-0400
TZNAME:EDT
DTSTART:20250309T070000
END:DAYLIGHT
BEGIN:STANDARD
TZOFFSETFROM:-0400
TZOFFSETTO:-0500
TZNAME:EST
DTSTART:20251102T060000
END:STANDARD
BEGIN:DAYLIGHT
TZOFFSETFROM:-0500
TZOFFSETTO:-0400
TZNAME:EDT
DTSTART:20260308T070000
END:DAYLIGHT
BEGIN:STANDARD
TZOFFSETFROM:-0400
TZOFFSETTO:-0500
TZNAME:EST
DTSTART:20261101T060000
END:STANDARD
BEGIN:DAYLIGHT
TZOFFSETFROM:-0500
TZOFFSETTO:-0400
TZNAME:EDT
DTSTART:20270314T070000
END:DAYLIGHT
BEGIN:STANDARD
TZOFFSETFROM:-0400
TZOFFSETTO:-0500
TZNAME:EST
DTSTART:20271107T060000
END:STANDARD
END:VTIMEZONE
BEGIN:VEVENT
DTSTART;TZID=America/New_York:20260515T193000
DTEND;TZID=America/New_York:20260515T210000
DTSTAMP:20260424T101649
CREATED:20260217T144841Z
LAST-MODIFIED:20260415T202708Z
UID:10004984-1778873400-1778878800@athensdeland.com
SUMMARY:Love Story: An Unofficial Tribute to Taylor Swift
DESCRIPTION:Experience an electrifying performance with Rikki Lee Wilson as she delivers the finest Taylor Swift musical tribute you have ever seen. \nKnown as the pinnacle of Taylor Swift tributes\, Love Story has captivated audiences across the United States and beyond. This show offers an impeccable homage to the global pop sensation. Crafted with meticulous care\, Rikki Lee Wilson embodies an unforgettable performance that mirrors the spirit of Taylor Swift herself. Backed by an exceptional live band\, every moment radiates authenticity\, complete with multiple costume changes and a passionate stage presence that creates a thrilling experience for fans of all ages. \nWith a striking resemblance to Taylor Swift\, Rikki captivates Swifties throughout the performance\, transporting them into the excitement of a live Taylor Swift concert. The show features chart-topping hits including “Shake It Off\,” “Blank Space\,” “Love Story\,” and many more\, delivering an evening filled with infectious energy that leaves audiences in awe of her remarkable talent and passion. \nJoin us for a memorable celebration of pop magic\, endless energy\, and pure joy as you sing along and dance the night away. \n  \n\nRESERVED SEATING\nPreferred Reserved Seating $40\n1st. 6 rows Orchestra & 2 Rows Center Balcony \nGeneral Reserved Seating $35 \nStudent Pricing $25 \nA $5.00 per ticket Processing charge is added to all purchases and we collect a 6.5% State and County Sales Tax \nDue to the fact that the Historic Athens Theatre does not have an elevator to the balcony. The balcony is not accessible to anyone with a wheelchair or walker. \nAll Patrons with special needs can contact the Box Office at 386-736-1500 for our wheelchair/walker accessible seating. \n\nSPECIAL BOX SEAT PACKAGE\nBOX SEATS AVAILABLE\n6 SEATS PER BOX SEAT AREA $300\nPLEASE CONTACT THE BOX OFFICE AT 386-736-1500
URL:https://athensdeland.com/event/love-story-an-unofficial-tribute-to-taylor-swift/
LOCATION:FL
ATTACH;FMTTYPE=image/webp:https://athensdeland.com/wp-content/uploads/2026/02/TaylorSwift_2026_Web-2.webp
END:VEVENT
BEGIN:VEVENT
DTSTART;TZID=America/New_York:20260516T193000
DTEND;TZID=America/New_York:20260516T213000
DTSTAMP:20260424T101649
CREATED:20250220T182524Z
LAST-MODIFIED:20250910T224206Z
UID:10003256-1778959800-1778967000@athensdeland.com
SUMMARY:DAYBREAK: The Music & Passion of Barry Manilow
DESCRIPTION:Get ready to experience one of the most authentic tribute acts to ever hit the music scene as DAYBREAK: The Music & Passion of Barry Manilow takes you on a nostalgic journey back to the ‘70s. Fans will relive Barry Manilow’s greatest hits just the way they remember them. \nWidely regarded as one of the most successful pop artists of all time\, Manilow became an international star with a string of hits that blended heartfelt sentiment with masterful lyricism and lush\, orchestrated production. Over his career\, he recorded and released 51 Top 40 singles\, including 13 that reached number one. \nLed by veteran musician and accomplished pianist Joe Hite\, DAYBREAK brings timeless classics to life\, from the heartfelt ballad “Mandy” to the sing-along favorite “Can’t Smile Without You” and the infectious\, foot-stomping rhythm of “Copacabana.” With an eight-piece ensemble delivering pitch-perfect performances\, this tribute captures the music and passion of Barry Manilow with stunning authenticity\, ensuring his legendary songs continue to inspire for generations to come. \n\nRESERVED SEATING\nPreferred Reserved Seating $40\n1st. 6 rows Orchestra & 2 Rows Center Balcony \nGeneral Reserved Seating $37 \nA $5.00 per ticket Processing charge is added to all purchases and we collect a 6.5% State and County Sales Tax \nDue to the fact that the Historic Athens Theatre does not have an elevator to the balcony. The balcony is not accessible to anyone with a wheelchair or walker. \nAll Patrons with special needs can contact the Box Office at 386-736-1500 for our wheelchair/walker accessible seating. \n\nSPECIAL BOX SEAT PACKAGE\nBOX SEATS AVAILABLE\n6 SEATS PER BOX SEAT AREA $300\nPLEASE CONTACT THE BOX OFFICE AT 386-736-1500
URL:https://athensdeland.com/event/daybreak-the-music-passion-of-barry-manilow/
LOCATION:FL
ATTACH;FMTTYPE=image/png:https://athensdeland.com/wp-content/uploads/2025/02/BarryManilowTribute_2026_Web.png
END:VEVENT
END:VCALENDAR