BEGIN:VCALENDAR
VERSION:2.0
PRODID:-//Athens Theatre | Deland, Florida - ECPv6.15.17.1//NONSGML v1.0//EN
CALSCALE:GREGORIAN
METHOD:PUBLISH
X-WR-CALNAME:Athens Theatre | Deland, Florida
X-ORIGINAL-URL:https://athensdeland.com
X-WR-CALDESC:Events for Athens Theatre | Deland, Florida
REFRESH-INTERVAL;VALUE=DURATION:PT1H
X-Robots-Tag:noindex
X-PUBLISHED-TTL:PT1H
BEGIN:VTIMEZONE
TZID:America/New_York
BEGIN:DAYLIGHT
TZOFFSETFROM:-0500
TZOFFSETTO:-0400
TZNAME:EDT
DTSTART:20250309T070000
END:DAYLIGHT
BEGIN:STANDARD
TZOFFSETFROM:-0400
TZOFFSETTO:-0500
TZNAME:EST
DTSTART:20251102T060000
END:STANDARD
BEGIN:DAYLIGHT
TZOFFSETFROM:-0500
TZOFFSETTO:-0400
TZNAME:EDT
DTSTART:20260308T070000
END:DAYLIGHT
BEGIN:STANDARD
TZOFFSETFROM:-0400
TZOFFSETTO:-0500
TZNAME:EST
DTSTART:20261101T060000
END:STANDARD
BEGIN:DAYLIGHT
TZOFFSETFROM:-0500
TZOFFSETTO:-0400
TZNAME:EDT
DTSTART:20270314T070000
END:DAYLIGHT
BEGIN:STANDARD
TZOFFSETFROM:-0400
TZOFFSETTO:-0500
TZNAME:EST
DTSTART:20271107T060000
END:STANDARD
END:VTIMEZONE
BEGIN:VEVENT
DTSTART;TZID=America/New_York:20260713T090000
DTEND;TZID=America/New_York:20260713T120000
DTSTAMP:20260424T101420
CREATED:20260128T151953Z
LAST-MODIFIED:20260223T175308Z
UID:10004970-1783933200-1783944000@athensdeland.com
SUMMARY:YOU'VE GOT A FRIEND IN ME
DESCRIPTION:Rising K – 2nd Grade \n\nJuly 13–17  | 9am – 12pm \nBehind the Scenes – $210 before March 9 \nCenter Stage – $230 March 9 – April 27 \nCurtain Call – $250 after April 27 \nLet’s explore the world of Toy Story with Woody\, Buzz\, and the rest of the gang. Dance at Woody’s Round Up. Blast off to infinity and beyond with Buzz Lightyear. Attend Sarge’s Boot Camp. Make a toy\, like Forky\, out of trash — all while enjoying music from this beloved franchise. \nMore About Grades K–2 Camps\nPerfect for our youngest performers\, K–2 camps are a joyful first step into the world of theatre. Campers spend their days singing\, dancing\, playing pretend\, exploring instruments\, and discovering the fun of creative expression in a nurturing\, age-appropriate environment. Every activity is designed to keep little imaginations active and big smiles shining. No reading skills or theatre experience are needed—just curiosity\, creativity\, and a love of fun. \nWhat to Bring \n\nA water bottle and a non-perishable lunch each day\nAll class materials are provided by the theatre\n\nPresentations\nThe excitement builds all week toward a special final presentation on the historic Athens Theatre stage. Family and friends are invited to see what campers have created\, learned\, and accomplished together. Admission is free\, and donations are always welcome in support of youth arts education. \nPresentation will be held on the last day of camp at 10:30 AM. \n\nTO REGISTER-CLICK HERE
URL:https://athensdeland.com/event/youve-got-a-friend-in-me/
LOCATION:FL
CATEGORIES:Summer Camps,Youth Activities
ATTACH;FMTTYPE=image/png:https://athensdeland.com/wp-content/uploads/2026/01/ToyStory_2026Web.png
END:VEVENT
BEGIN:VEVENT
DTSTART;TZID=America/New_York:20260713T090000
DTEND;TZID=America/New_York:20260713T150000
DTSTAMP:20260424T101420
CREATED:20260128T154231Z
LAST-MODIFIED:20260422T000711Z
UID:10004972-1783933200-1783954800@athensdeland.com
SUMMARY:HUNTR/X UNPLUGGED (Waitlist Only!)
DESCRIPTION:Rising 3 – 5th Grade \n\nJuly 13–17 | Mon – Thurs. 9am – 3pm | Fri. 9am – 11:30am \nBehind the Scenes – $260 before March 9 \nCenter Stage – $280 March 9 – April 27 \nCurtain Call – $300 after April 27 \nCalling all K-pop fans and demon-slaying stars — it’s YOUR moment to be GOLDEN! In this high-energy camp\, students will reenact some of their favorite scenes and learn songs and dances inspired by the hit movie KPop Demon Hunters. \nMore About Grades 3–5 Camps\nFor students ready to take the spotlight\, our grades 3–5 camps blend creativity\, confidence\, and collaboration. Inspired by each camp’s theme\, students learn songs\, dances\, and scenes while building strong foundations in theatre\, music\, and movement. Along the way\, they grow in confidence\, teamwork\, and self-expression—all while having an unforgettable summer experience. \nWhat to Bring \n\nA water bottle\, non-perishable lunch\, and one snack each day\nAll class materials\, including pencils\, music\, and scripts\, are provided\nDigital resources are shared to help campers practice and shine at home\n\nPresentations\nThe excitement builds all week toward a special final presentation on the historic Athens Theatre stage. Family and friends are invited to see what campers have created\, learned\, and accomplished together. Admission is free\, and donations are always welcome in support of youth arts education. \nPresentation will be held on the last day of camp at 10:30 AM.  \nADD YOUR NAME TO THE WAITLIST? - CLICK HERE
URL:https://athensdeland.com/event/huntr-x-unplugged/
LOCATION:FL
CATEGORIES:Summer Camps,Youth Activities
ATTACH;FMTTYPE=image/png:https://athensdeland.com/wp-content/uploads/2026/01/KPop-Huntrix_2026WaitlistWeb-1.png
END:VEVENT
BEGIN:VEVENT
DTSTART;TZID=America/New_York:20260713T090000
DTEND;TZID=America/New_York:20260713T160000
DTSTAMP:20260424T101420
CREATED:20260128T162352Z
LAST-MODIFIED:20260422T000908Z
UID:10004975-1783933200-1783958400@athensdeland.com
SUMMARY:THE ROOM WHERE IT HAPPENED (Waitlist Only!)
DESCRIPTION:Rising 6 – 12th Grade \n\n\nJuly 13–17 | Mon – Thur: 9am – 4pm & Fri: 9am – 2:30pm \nBehind the Scenes – $285 before March 9 \nCenter Stage – $305 March 9 – April 27 \nCurtain Call – $325 after April 27 \nIt’s time to “Rise Up!” This week-long camp will focus on all things Hamilton. Campers will learn about the Founding Fathers through hip-hop\, R&B\, and rap while performing their favorite songs from the Tony Award-winning show by Lin-Manuel Miranda. Don’t throw away your shot! \nMore About Grades 6–12 Camps\nDesigned for teens who love performing—or want to try something new—our grades 6–12 camps offer deeper exploration of the performing arts in a supportive\, inspiring environment. Each week focuses on specific creative skills\, with professional teaching artists guiding students in acting\, music\, improv\, dance\, and even elements of design and production. Whether experienced or brand new to the stage\, every camper is welcomed\, challenged\, and encouraged to grow. \nWhat to Bring \n\nA water bottle\, non-perishable lunch\, and two snacks each day\nAll class materials\, including pencils\, music\, and scripts\, are provided\nDigital resources are shared for continued learning at home\n\nPresentations\nThe excitement builds all week toward a special final presentation on the historic Athens Theatre stage. Family and friends are invited to see what campers have created\, learned\, and accomplished together. Admission is free\, and donations are always welcome in support of youth arts education. \nPresentation will be held on the last day of camp at 2:00 pm. \nADD YOUR NAME TO THE WAITLIST? - CLICK HERE
URL:https://athensdeland.com/event/the-room-where-it-happens/
LOCATION:FL
CATEGORIES:Summer Camps,Youth Activities
ATTACH;FMTTYPE=image/png:https://athensdeland.com/wp-content/uploads/2026/01/Hamilton_2026WaitlistWeb-1.png
END:VEVENT
BEGIN:VEVENT
DTSTART;TZID=America/New_York:20260716T193000
DTEND;TZID=America/New_York:20260716T220000
DTSTAMP:20260424T101420
CREATED:20260113T195415Z
LAST-MODIFIED:20260410T131146Z
UID:10003912-1784230200-1784239200@athensdeland.com
SUMMARY:Sister Act
DESCRIPTION:Music by Alan Menken\nLyrics by Glenn Slater\nBook by Cheri Steinkellner & Bill Steinkellner \nAdditional Book Material by Douglas Carte Beane \nBased on the Touchstone Pictures Motion Picture “Sister Act” written by Joseph Howard \nFrom Disco to Divine. \nWhen disco diva Deloris Van Cartier witnesses a crime\, she is placed in protective custody in the one place no one would think to look: a convent. Forced to trade sequins for a habit\, Deloris struggles to adapt to the strict routine and clashes with the no-nonsense Mother Superior. But when she’s asked to help the struggling choir\, Deloris brings her own flair\, confidence\, and powerhouse vocals to the group—revitalizing the church and energizing the community around her. As the choir’s popularity grows\, so does the danger\, leading to a joyful\, high-stakes finale that celebrates friendship\, courage\, and “sisterhood.” \nBased on the hit 1992 film\, Sister Act is a high-energy musical comedy that combines infectious music\, big laughs\, and an uplifting story about finding your voice in unexpected places. \nPresented through special arrangement with Music Theatre International (MTI). All Authorized performance materials are also supplied by MTI. www.mtishows.com \nRating: PG (thematic elements and mild language)\nRun time: Approximately 2 hours and 30 minutes\, including a 15-minute intermission \nBUY TICKETS NOW \nSPECIAL ASL/ENGLISH INTERPRETED PERFORMANCE ON  SATURDAY 7/25 at 7:30 PM \nSPECIAL AUDIO DESCRIBED PERFORMANCE ON SUNDAY 7/26 at 2:30 PM \nTO PURCHASE TICKETS IN THE SECTION WITH THE BEST SIGHT LINES TO THE INTERPRETERS\, PLEASE CONTACT THE BOX OFFICE EITHER AT 386-736-1500 OR EMAIL US AT BOXOFFICE@ATHENSDELAND.COM \n  \n\nReserved Seating\nPreferred $38 (Row A-F\, Orchestra & CC-DD Center Balcony) \nAdult $33 – Senior $29\nStudent/Child $12 – Groups of 8 or more $26\nA $5.00 per ticket Processing charge is added to all purchases. \nAs the historic Athens Theatre does not have an elevator\, the balcony is not accessible to anyone with a wheelchair or walker. \nAll Patrons with special needs can contact the Box Office at 386-736-1500 for our wheelchair/walker accessible seating. \nSpecial Box Seat Package \nCatered exclusively by Joe Hearn Events\, The Elusive Grape\, Pat & Toni’s Sweet Things\, and 3 Smart Cookies. \n$500 – Price includes: \n\nUp to 11 seats in the Box Seat and Balcony area\nChoice of Red/White Wine\nCheese Platter\nChocolate Covered Strawberries\nCookies\n\nPlease contact the Box Office at 386-736-1500\, for this Package.\n(a $5 per seat processing fee is added to the cost of these packages) \n  \n 
URL:https://athensdeland.com/event/sister-act/2026-07-16/
LOCATION:Athens Theatre\, 124 N Florida Ave\, DeLand\, FL\, 32720\, United States
CATEGORIES:Athens Theatre Company Productions
ATTACH;FMTTYPE=image/png:https://athensdeland.com/wp-content/uploads/2026/01/SisterAct_Web.png
END:VEVENT
BEGIN:VEVENT
DTSTART;TZID=America/New_York:20260717T193000
DTEND;TZID=America/New_York:20260717T220000
DTSTAMP:20260424T101420
CREATED:20260113T195415Z
LAST-MODIFIED:20260410T131146Z
UID:10003913-1784316600-1784325600@athensdeland.com
SUMMARY:Sister Act
DESCRIPTION:Music by Alan Menken\nLyrics by Glenn Slater\nBook by Cheri Steinkellner & Bill Steinkellner \nAdditional Book Material by Douglas Carte Beane \nBased on the Touchstone Pictures Motion Picture “Sister Act” written by Joseph Howard \nFrom Disco to Divine. \nWhen disco diva Deloris Van Cartier witnesses a crime\, she is placed in protective custody in the one place no one would think to look: a convent. Forced to trade sequins for a habit\, Deloris struggles to adapt to the strict routine and clashes with the no-nonsense Mother Superior. But when she’s asked to help the struggling choir\, Deloris brings her own flair\, confidence\, and powerhouse vocals to the group—revitalizing the church and energizing the community around her. As the choir’s popularity grows\, so does the danger\, leading to a joyful\, high-stakes finale that celebrates friendship\, courage\, and “sisterhood.” \nBased on the hit 1992 film\, Sister Act is a high-energy musical comedy that combines infectious music\, big laughs\, and an uplifting story about finding your voice in unexpected places. \nPresented through special arrangement with Music Theatre International (MTI). All Authorized performance materials are also supplied by MTI. www.mtishows.com \nRating: PG (thematic elements and mild language)\nRun time: Approximately 2 hours and 30 minutes\, including a 15-minute intermission \nBUY TICKETS NOW \nSPECIAL ASL/ENGLISH INTERPRETED PERFORMANCE ON  SATURDAY 7/25 at 7:30 PM \nSPECIAL AUDIO DESCRIBED PERFORMANCE ON SUNDAY 7/26 at 2:30 PM \nTO PURCHASE TICKETS IN THE SECTION WITH THE BEST SIGHT LINES TO THE INTERPRETERS\, PLEASE CONTACT THE BOX OFFICE EITHER AT 386-736-1500 OR EMAIL US AT BOXOFFICE@ATHENSDELAND.COM \n  \n\nReserved Seating\nPreferred $38 (Row A-F\, Orchestra & CC-DD Center Balcony) \nAdult $33 – Senior $29\nStudent/Child $12 – Groups of 8 or more $26\nA $5.00 per ticket Processing charge is added to all purchases. \nAs the historic Athens Theatre does not have an elevator\, the balcony is not accessible to anyone with a wheelchair or walker. \nAll Patrons with special needs can contact the Box Office at 386-736-1500 for our wheelchair/walker accessible seating. \nSpecial Box Seat Package \nCatered exclusively by Joe Hearn Events\, The Elusive Grape\, Pat & Toni’s Sweet Things\, and 3 Smart Cookies. \n$500 – Price includes: \n\nUp to 11 seats in the Box Seat and Balcony area\nChoice of Red/White Wine\nCheese Platter\nChocolate Covered Strawberries\nCookies\n\nPlease contact the Box Office at 386-736-1500\, for this Package.\n(a $5 per seat processing fee is added to the cost of these packages) \n  \n 
URL:https://athensdeland.com/event/sister-act/2026-07-17/
LOCATION:Athens Theatre\, 124 N Florida Ave\, DeLand\, FL\, 32720\, United States
CATEGORIES:Athens Theatre Company Productions
ATTACH;FMTTYPE=image/png:https://athensdeland.com/wp-content/uploads/2026/01/SisterAct_Web.png
END:VEVENT
BEGIN:VEVENT
DTSTART;TZID=America/New_York:20260718T193000
DTEND;TZID=America/New_York:20260718T220000
DTSTAMP:20260424T101420
CREATED:20260113T195415Z
LAST-MODIFIED:20260410T131146Z
UID:10003914-1784403000-1784412000@athensdeland.com
SUMMARY:Sister Act
DESCRIPTION:Music by Alan Menken\nLyrics by Glenn Slater\nBook by Cheri Steinkellner & Bill Steinkellner \nAdditional Book Material by Douglas Carte Beane \nBased on the Touchstone Pictures Motion Picture “Sister Act” written by Joseph Howard \nFrom Disco to Divine. \nWhen disco diva Deloris Van Cartier witnesses a crime\, she is placed in protective custody in the one place no one would think to look: a convent. Forced to trade sequins for a habit\, Deloris struggles to adapt to the strict routine and clashes with the no-nonsense Mother Superior. But when she’s asked to help the struggling choir\, Deloris brings her own flair\, confidence\, and powerhouse vocals to the group—revitalizing the church and energizing the community around her. As the choir’s popularity grows\, so does the danger\, leading to a joyful\, high-stakes finale that celebrates friendship\, courage\, and “sisterhood.” \nBased on the hit 1992 film\, Sister Act is a high-energy musical comedy that combines infectious music\, big laughs\, and an uplifting story about finding your voice in unexpected places. \nPresented through special arrangement with Music Theatre International (MTI). All Authorized performance materials are also supplied by MTI. www.mtishows.com \nRating: PG (thematic elements and mild language)\nRun time: Approximately 2 hours and 30 minutes\, including a 15-minute intermission \nBUY TICKETS NOW \nSPECIAL ASL/ENGLISH INTERPRETED PERFORMANCE ON  SATURDAY 7/25 at 7:30 PM \nSPECIAL AUDIO DESCRIBED PERFORMANCE ON SUNDAY 7/26 at 2:30 PM \nTO PURCHASE TICKETS IN THE SECTION WITH THE BEST SIGHT LINES TO THE INTERPRETERS\, PLEASE CONTACT THE BOX OFFICE EITHER AT 386-736-1500 OR EMAIL US AT BOXOFFICE@ATHENSDELAND.COM \n  \n\nReserved Seating\nPreferred $38 (Row A-F\, Orchestra & CC-DD Center Balcony) \nAdult $33 – Senior $29\nStudent/Child $12 – Groups of 8 or more $26\nA $5.00 per ticket Processing charge is added to all purchases. \nAs the historic Athens Theatre does not have an elevator\, the balcony is not accessible to anyone with a wheelchair or walker. \nAll Patrons with special needs can contact the Box Office at 386-736-1500 for our wheelchair/walker accessible seating. \nSpecial Box Seat Package \nCatered exclusively by Joe Hearn Events\, The Elusive Grape\, Pat & Toni’s Sweet Things\, and 3 Smart Cookies. \n$500 – Price includes: \n\nUp to 11 seats in the Box Seat and Balcony area\nChoice of Red/White Wine\nCheese Platter\nChocolate Covered Strawberries\nCookies\n\nPlease contact the Box Office at 386-736-1500\, for this Package.\n(a $5 per seat processing fee is added to the cost of these packages) \n  \n 
URL:https://athensdeland.com/event/sister-act/2026-07-18/
LOCATION:Athens Theatre\, 124 N Florida Ave\, DeLand\, FL\, 32720\, United States
CATEGORIES:Athens Theatre Company Productions
ATTACH;FMTTYPE=image/png:https://athensdeland.com/wp-content/uploads/2026/01/SisterAct_Web.png
END:VEVENT
BEGIN:VEVENT
DTSTART;TZID=America/New_York:20260719T143000
DTEND;TZID=America/New_York:20260719T170000
DTSTAMP:20260424T101420
CREATED:20260113T195415Z
LAST-MODIFIED:20260410T131146Z
UID:10003915-1784471400-1784480400@athensdeland.com
SUMMARY:Sister Act
DESCRIPTION:Music by Alan Menken\nLyrics by Glenn Slater\nBook by Cheri Steinkellner & Bill Steinkellner \nAdditional Book Material by Douglas Carte Beane \nBased on the Touchstone Pictures Motion Picture “Sister Act” written by Joseph Howard \nFrom Disco to Divine. \nWhen disco diva Deloris Van Cartier witnesses a crime\, she is placed in protective custody in the one place no one would think to look: a convent. Forced to trade sequins for a habit\, Deloris struggles to adapt to the strict routine and clashes with the no-nonsense Mother Superior. But when she’s asked to help the struggling choir\, Deloris brings her own flair\, confidence\, and powerhouse vocals to the group—revitalizing the church and energizing the community around her. As the choir’s popularity grows\, so does the danger\, leading to a joyful\, high-stakes finale that celebrates friendship\, courage\, and “sisterhood.” \nBased on the hit 1992 film\, Sister Act is a high-energy musical comedy that combines infectious music\, big laughs\, and an uplifting story about finding your voice in unexpected places. \nPresented through special arrangement with Music Theatre International (MTI). All Authorized performance materials are also supplied by MTI. www.mtishows.com \nRating: PG (thematic elements and mild language)\nRun time: Approximately 2 hours and 30 minutes\, including a 15-minute intermission \nBUY TICKETS NOW \nSPECIAL ASL/ENGLISH INTERPRETED PERFORMANCE ON  SATURDAY 7/25 at 7:30 PM \nSPECIAL AUDIO DESCRIBED PERFORMANCE ON SUNDAY 7/26 at 2:30 PM \nTO PURCHASE TICKETS IN THE SECTION WITH THE BEST SIGHT LINES TO THE INTERPRETERS\, PLEASE CONTACT THE BOX OFFICE EITHER AT 386-736-1500 OR EMAIL US AT BOXOFFICE@ATHENSDELAND.COM \n  \n\nReserved Seating\nPreferred $38 (Row A-F\, Orchestra & CC-DD Center Balcony) \nAdult $33 – Senior $29\nStudent/Child $12 – Groups of 8 or more $26\nA $5.00 per ticket Processing charge is added to all purchases. \nAs the historic Athens Theatre does not have an elevator\, the balcony is not accessible to anyone with a wheelchair or walker. \nAll Patrons with special needs can contact the Box Office at 386-736-1500 for our wheelchair/walker accessible seating. \nSpecial Box Seat Package \nCatered exclusively by Joe Hearn Events\, The Elusive Grape\, Pat & Toni’s Sweet Things\, and 3 Smart Cookies. \n$500 – Price includes: \n\nUp to 11 seats in the Box Seat and Balcony area\nChoice of Red/White Wine\nCheese Platter\nChocolate Covered Strawberries\nCookies\n\nPlease contact the Box Office at 386-736-1500\, for this Package.\n(a $5 per seat processing fee is added to the cost of these packages) \n  \n 
URL:https://athensdeland.com/event/sister-act/2026-07-19/
LOCATION:Athens Theatre\, 124 N Florida Ave\, DeLand\, FL\, 32720\, United States
CATEGORIES:Athens Theatre Company Productions
ATTACH;FMTTYPE=image/png:https://athensdeland.com/wp-content/uploads/2026/01/SisterAct_Web.png
END:VEVENT
END:VCALENDAR