BEGIN:VCALENDAR
VERSION:2.0
PRODID:-//Athens Theatre | Deland, Florida - ECPv6.15.17.1//NONSGML v1.0//EN
CALSCALE:GREGORIAN
METHOD:PUBLISH
X-ORIGINAL-URL:https://athensdeland.com
X-WR-CALDESC:Events for Athens Theatre | Deland, Florida
REFRESH-INTERVAL;VALUE=DURATION:PT1H
X-Robots-Tag:noindex
X-PUBLISHED-TTL:PT1H
BEGIN:VTIMEZONE
TZID:America/New_York
BEGIN:DAYLIGHT
TZOFFSETFROM:-0500
TZOFFSETTO:-0400
TZNAME:EDT
DTSTART:20250309T070000
END:DAYLIGHT
BEGIN:STANDARD
TZOFFSETFROM:-0400
TZOFFSETTO:-0500
TZNAME:EST
DTSTART:20251102T060000
END:STANDARD
BEGIN:DAYLIGHT
TZOFFSETFROM:-0500
TZOFFSETTO:-0400
TZNAME:EDT
DTSTART:20260308T070000
END:DAYLIGHT
BEGIN:STANDARD
TZOFFSETFROM:-0400
TZOFFSETTO:-0500
TZNAME:EST
DTSTART:20261101T060000
END:STANDARD
BEGIN:DAYLIGHT
TZOFFSETFROM:-0500
TZOFFSETTO:-0400
TZNAME:EDT
DTSTART:20270314T070000
END:DAYLIGHT
BEGIN:STANDARD
TZOFFSETFROM:-0400
TZOFFSETTO:-0500
TZNAME:EST
DTSTART:20271107T060000
END:STANDARD
END:VTIMEZONE
BEGIN:VEVENT
DTSTART;TZID=America/New_York:20260720T090000
DTEND;TZID=America/New_York:20260720T120000
DTSTAMP:20260424T101708
CREATED:20260128T152431Z
LAST-MODIFIED:20260223T175754Z
UID:10004971-1784538000-1784548800@athensdeland.com
SUMMARY:KPOP DANCE PARTY
DESCRIPTION:Rising K – 2nd Grade \n\nJuly 20–24 | 9am – 12pm  \nBehind the Scenes – $210 before March 9 \nCenter Stage – $230 March 9 – April 27 \nCurtain Call – $250 after April 27 \nGet ready to sing\, dance\, and act your way through an epic adventure inspired by the hit movie KPop Demon Hunters! In this high-energy camp\, students will sing along to their favorite songs\, explore different characters with magical powers\, and learn fun Kpop–inspired dance moves. \nMore About Grades K–2 Camps\nPerfect for our youngest performers\, K–2 camps are a joyful first step into the world of theatre. Campers spend their days singing\, dancing\, playing pretend\, exploring instruments\, and discovering the fun of creative expression in a nurturing\, age-appropriate environment. Every activity is designed to keep little imaginations active and big smiles shining. No reading skills or theatre experience are needed—just curiosity\, creativity\, and a love of fun. \nWhat to Bring \n\nA water bottle and a non-perishable lunch each day\nAll class materials are provided by the theatre\n\nPresentations\nThe excitement builds all week toward a special final presentation on the historic Athens Theatre stage. Family and friends are invited to see what campers have created\, learned\, and accomplished together. Admission is free\, and donations are always welcome in support of youth arts education. \nPresentation will be held on the last day of camp at 10:30 AM. \n\nTO REGISTER-CLICK HERE
URL:https://athensdeland.com/event/k-pop-dance-party/
LOCATION:FL
CATEGORIES:Summer Camps,Youth Activities
ATTACH;FMTTYPE=image/png:https://athensdeland.com/wp-content/uploads/2026/01/KPOPDanceParty_2026Web-1.png
END:VEVENT
BEGIN:VEVENT
DTSTART;TZID=America/New_York:20260720T090000
DTEND;TZID=America/New_York:20260720T150000
DTSTAMP:20260424T101708
CREATED:20260128T155813Z
LAST-MODIFIED:20260311T201814Z
UID:10004973-1784538000-1784559600@athensdeland.com
SUMMARY:THE WORLD OF WICKED (FULL!)
DESCRIPTION:Rising 3 – 5th Grade \n\nJuly 20–24 | Mon – Thurs. 9am – 3pm | Fri. 9am – 11:30am \nBehind the Scenes – $260 before March 9 \nCenter Stage – $280 March 9 – April 27 \nCurtain Call – $300 after April 27 \nGood news! We couldn’t be happier to offer this thrillifying camp for young performers\, featuring songs\, scenes\, and choreography from the hit movie and Tony Award-winning musical Wicked. Rejoicify\, fellow Ozmaniacs\, and join us. We know it’s gonna be popular! \nMore About Grades 3–5 Camps\nFor students ready to take the spotlight\, our grades 3–5 camps blend creativity\, confidence\, and collaboration. Inspired by each camp’s theme\, students learn songs\, dances\, and scenes while building strong foundations in theatre\, music\, and movement. Along the way\, they grow in confidence\, teamwork\, and self-expression—all while having an unforgettable summer experience. \nWhat to Bring \n\nA water bottle\, non-perishable lunch\, and one snack each day\nAll class materials\, including pencils\, music\, and scripts\, are provided\nDigital resources are shared to help campers practice and shine at home\n\nPresentations\nThe excitement builds all week toward a special final presentation on the historic Athens Theatre stage. Family and friends are invited to see what campers have created\, learned\, and accomplished together. Admission is free\, and donations are always welcome in support of youth arts education. \nPresentation will be held on the last day of camp at 10:30 AM. 
URL:https://athensdeland.com/event/the-world-of-wicked/
LOCATION:FL
CATEGORIES:Summer Camps,Youth Activities
ATTACH;FMTTYPE=image/png:https://athensdeland.com/wp-content/uploads/2026/01/WorldofWicked_2026Web_Waitlist.png
END:VEVENT
BEGIN:VEVENT
DTSTART;TZID=America/New_York:20260720T090000
DTEND;TZID=America/New_York:20260720T160000
DTSTAMP:20260424T101708
CREATED:20260128T165037Z
LAST-MODIFIED:20260223T132541Z
UID:10004976-1784538000-1784563200@athensdeland.com
SUMMARY:HOORAY FOR HOLLYWOOD
DESCRIPTION:Rising 6 – 12th Grade \n\n\nJuly 20–24 | Mon – Thur: 9am – 4pm & Fri: 9am – 2:30pm \nBehind the Scenes – $285 before March 9 \nCenter Stage – $305 March 9 – April 27 \nCurtain Call – $325 after April 27 \nThe Greatest Showman\, Grease\, Singin’ in the Rain\, Pitch Perfect\, Newsies\, and more! From the golden age to modern classics\, campers will sing and dance to their favorite musical numbers from these and other musical movies. \nMore About Grades 6–12 Camps\nDesigned for teens who love performing—or want to try something new—our grades 6–12 camps offer deeper exploration of the performing arts in a supportive\, inspiring environment. Each week focuses on specific creative skills\, with professional teaching artists guiding students in acting\, music\, improv\, dance\, and even elements of design and production. Whether experienced or brand new to the stage\, every camper is welcomed\, challenged\, and encouraged to grow. \nWhat to Bring \n\nA water bottle\, non-perishable lunch\, and two snacks each day\nAll class materials\, including pencils\, music\, and scripts\, are provided\nDigital resources are shared for continued learning at home\n\nPresentations\nThe excitement builds all week toward a special final presentation on the historic Athens Theatre stage. Family and friends are invited to see what campers have created\, learned\, and accomplished together. Admission is free\, and donations are always welcome in support of youth arts education. \nPresentation will be held on the last day of camp at 2:00 pm. \n\nTO REGISTER-CLICK HERE
URL:https://athensdeland.com/event/hooray-for-hollywood/
LOCATION:FL
CATEGORIES:Summer Camps,Youth Activities
ATTACH;FMTTYPE=image/png:https://athensdeland.com/wp-content/uploads/2026/01/HoorayforHollywood_2026Web.png
END:VEVENT
BEGIN:VEVENT
DTSTART;TZID=America/New_York:20260723T193000
DTEND;TZID=America/New_York:20260723T220000
DTSTAMP:20260424T101709
CREATED:20260113T195415Z
LAST-MODIFIED:20260410T131146Z
UID:10003916-1784835000-1784844000@athensdeland.com
SUMMARY:Sister Act
DESCRIPTION:Music by Alan Menken\nLyrics by Glenn Slater\nBook by Cheri Steinkellner & Bill Steinkellner \nAdditional Book Material by Douglas Carte Beane \nBased on the Touchstone Pictures Motion Picture “Sister Act” written by Joseph Howard \nFrom Disco to Divine. \nWhen disco diva Deloris Van Cartier witnesses a crime\, she is placed in protective custody in the one place no one would think to look: a convent. Forced to trade sequins for a habit\, Deloris struggles to adapt to the strict routine and clashes with the no-nonsense Mother Superior. But when she’s asked to help the struggling choir\, Deloris brings her own flair\, confidence\, and powerhouse vocals to the group—revitalizing the church and energizing the community around her. As the choir’s popularity grows\, so does the danger\, leading to a joyful\, high-stakes finale that celebrates friendship\, courage\, and “sisterhood.” \nBased on the hit 1992 film\, Sister Act is a high-energy musical comedy that combines infectious music\, big laughs\, and an uplifting story about finding your voice in unexpected places. \nPresented through special arrangement with Music Theatre International (MTI). All Authorized performance materials are also supplied by MTI. www.mtishows.com \nRating: PG (thematic elements and mild language)\nRun time: Approximately 2 hours and 30 minutes\, including a 15-minute intermission \nBUY TICKETS NOW \nSPECIAL ASL/ENGLISH INTERPRETED PERFORMANCE ON  SATURDAY 7/25 at 7:30 PM \nSPECIAL AUDIO DESCRIBED PERFORMANCE ON SUNDAY 7/26 at 2:30 PM \nTO PURCHASE TICKETS IN THE SECTION WITH THE BEST SIGHT LINES TO THE INTERPRETERS\, PLEASE CONTACT THE BOX OFFICE EITHER AT 386-736-1500 OR EMAIL US AT BOXOFFICE@ATHENSDELAND.COM \n  \n\nReserved Seating\nPreferred $38 (Row A-F\, Orchestra & CC-DD Center Balcony) \nAdult $33 – Senior $29\nStudent/Child $12 – Groups of 8 or more $26\nA $5.00 per ticket Processing charge is added to all purchases. \nAs the historic Athens Theatre does not have an elevator\, the balcony is not accessible to anyone with a wheelchair or walker. \nAll Patrons with special needs can contact the Box Office at 386-736-1500 for our wheelchair/walker accessible seating. \nSpecial Box Seat Package \nCatered exclusively by Joe Hearn Events\, The Elusive Grape\, Pat & Toni’s Sweet Things\, and 3 Smart Cookies. \n$500 – Price includes: \n\nUp to 11 seats in the Box Seat and Balcony area\nChoice of Red/White Wine\nCheese Platter\nChocolate Covered Strawberries\nCookies\n\nPlease contact the Box Office at 386-736-1500\, for this Package.\n(a $5 per seat processing fee is added to the cost of these packages) \n  \n 
URL:https://athensdeland.com/event/sister-act/2026-07-23/
LOCATION:Athens Theatre\, 124 N Florida Ave\, DeLand\, FL\, 32720\, United States
CATEGORIES:Athens Theatre Company Productions
ATTACH;FMTTYPE=image/png:https://athensdeland.com/wp-content/uploads/2026/01/SisterAct_Web.png
END:VEVENT
BEGIN:VEVENT
DTSTART;TZID=America/New_York:20260724T193000
DTEND;TZID=America/New_York:20260724T220000
DTSTAMP:20260424T101709
CREATED:20260113T195415Z
LAST-MODIFIED:20260410T131146Z
UID:10003917-1784921400-1784930400@athensdeland.com
SUMMARY:Sister Act
DESCRIPTION:Music by Alan Menken\nLyrics by Glenn Slater\nBook by Cheri Steinkellner & Bill Steinkellner \nAdditional Book Material by Douglas Carte Beane \nBased on the Touchstone Pictures Motion Picture “Sister Act” written by Joseph Howard \nFrom Disco to Divine. \nWhen disco diva Deloris Van Cartier witnesses a crime\, she is placed in protective custody in the one place no one would think to look: a convent. Forced to trade sequins for a habit\, Deloris struggles to adapt to the strict routine and clashes with the no-nonsense Mother Superior. But when she’s asked to help the struggling choir\, Deloris brings her own flair\, confidence\, and powerhouse vocals to the group—revitalizing the church and energizing the community around her. As the choir’s popularity grows\, so does the danger\, leading to a joyful\, high-stakes finale that celebrates friendship\, courage\, and “sisterhood.” \nBased on the hit 1992 film\, Sister Act is a high-energy musical comedy that combines infectious music\, big laughs\, and an uplifting story about finding your voice in unexpected places. \nPresented through special arrangement with Music Theatre International (MTI). All Authorized performance materials are also supplied by MTI. www.mtishows.com \nRating: PG (thematic elements and mild language)\nRun time: Approximately 2 hours and 30 minutes\, including a 15-minute intermission \nBUY TICKETS NOW \nSPECIAL ASL/ENGLISH INTERPRETED PERFORMANCE ON  SATURDAY 7/25 at 7:30 PM \nSPECIAL AUDIO DESCRIBED PERFORMANCE ON SUNDAY 7/26 at 2:30 PM \nTO PURCHASE TICKETS IN THE SECTION WITH THE BEST SIGHT LINES TO THE INTERPRETERS\, PLEASE CONTACT THE BOX OFFICE EITHER AT 386-736-1500 OR EMAIL US AT BOXOFFICE@ATHENSDELAND.COM \n  \n\nReserved Seating\nPreferred $38 (Row A-F\, Orchestra & CC-DD Center Balcony) \nAdult $33 – Senior $29\nStudent/Child $12 – Groups of 8 or more $26\nA $5.00 per ticket Processing charge is added to all purchases. \nAs the historic Athens Theatre does not have an elevator\, the balcony is not accessible to anyone with a wheelchair or walker. \nAll Patrons with special needs can contact the Box Office at 386-736-1500 for our wheelchair/walker accessible seating. \nSpecial Box Seat Package \nCatered exclusively by Joe Hearn Events\, The Elusive Grape\, Pat & Toni’s Sweet Things\, and 3 Smart Cookies. \n$500 – Price includes: \n\nUp to 11 seats in the Box Seat and Balcony area\nChoice of Red/White Wine\nCheese Platter\nChocolate Covered Strawberries\nCookies\n\nPlease contact the Box Office at 386-736-1500\, for this Package.\n(a $5 per seat processing fee is added to the cost of these packages) \n  \n 
URL:https://athensdeland.com/event/sister-act/2026-07-24/
LOCATION:Athens Theatre\, 124 N Florida Ave\, DeLand\, FL\, 32720\, United States
CATEGORIES:Athens Theatre Company Productions
ATTACH;FMTTYPE=image/png:https://athensdeland.com/wp-content/uploads/2026/01/SisterAct_Web.png
END:VEVENT
BEGIN:VEVENT
DTSTART;TZID=America/New_York:20260725T193000
DTEND;TZID=America/New_York:20260725T220000
DTSTAMP:20260424T101709
CREATED:20260113T195415Z
LAST-MODIFIED:20260410T131146Z
UID:10003918-1785007800-1785016800@athensdeland.com
SUMMARY:Sister Act
DESCRIPTION:Music by Alan Menken\nLyrics by Glenn Slater\nBook by Cheri Steinkellner & Bill Steinkellner \nAdditional Book Material by Douglas Carte Beane \nBased on the Touchstone Pictures Motion Picture “Sister Act” written by Joseph Howard \nFrom Disco to Divine. \nWhen disco diva Deloris Van Cartier witnesses a crime\, she is placed in protective custody in the one place no one would think to look: a convent. Forced to trade sequins for a habit\, Deloris struggles to adapt to the strict routine and clashes with the no-nonsense Mother Superior. But when she’s asked to help the struggling choir\, Deloris brings her own flair\, confidence\, and powerhouse vocals to the group—revitalizing the church and energizing the community around her. As the choir’s popularity grows\, so does the danger\, leading to a joyful\, high-stakes finale that celebrates friendship\, courage\, and “sisterhood.” \nBased on the hit 1992 film\, Sister Act is a high-energy musical comedy that combines infectious music\, big laughs\, and an uplifting story about finding your voice in unexpected places. \nPresented through special arrangement with Music Theatre International (MTI). All Authorized performance materials are also supplied by MTI. www.mtishows.com \nRating: PG (thematic elements and mild language)\nRun time: Approximately 2 hours and 30 minutes\, including a 15-minute intermission \nBUY TICKETS NOW \nSPECIAL ASL/ENGLISH INTERPRETED PERFORMANCE ON  SATURDAY 7/25 at 7:30 PM \nSPECIAL AUDIO DESCRIBED PERFORMANCE ON SUNDAY 7/26 at 2:30 PM \nTO PURCHASE TICKETS IN THE SECTION WITH THE BEST SIGHT LINES TO THE INTERPRETERS\, PLEASE CONTACT THE BOX OFFICE EITHER AT 386-736-1500 OR EMAIL US AT BOXOFFICE@ATHENSDELAND.COM \n  \n\nReserved Seating\nPreferred $38 (Row A-F\, Orchestra & CC-DD Center Balcony) \nAdult $33 – Senior $29\nStudent/Child $12 – Groups of 8 or more $26\nA $5.00 per ticket Processing charge is added to all purchases. \nAs the historic Athens Theatre does not have an elevator\, the balcony is not accessible to anyone with a wheelchair or walker. \nAll Patrons with special needs can contact the Box Office at 386-736-1500 for our wheelchair/walker accessible seating. \nSpecial Box Seat Package \nCatered exclusively by Joe Hearn Events\, The Elusive Grape\, Pat & Toni’s Sweet Things\, and 3 Smart Cookies. \n$500 – Price includes: \n\nUp to 11 seats in the Box Seat and Balcony area\nChoice of Red/White Wine\nCheese Platter\nChocolate Covered Strawberries\nCookies\n\nPlease contact the Box Office at 386-736-1500\, for this Package.\n(a $5 per seat processing fee is added to the cost of these packages) \n  \n 
URL:https://athensdeland.com/event/sister-act/2026-07-25/
LOCATION:Athens Theatre\, 124 N Florida Ave\, DeLand\, FL\, 32720\, United States
CATEGORIES:Athens Theatre Company Productions
ATTACH;FMTTYPE=image/png:https://athensdeland.com/wp-content/uploads/2026/01/SisterAct_Web.png
END:VEVENT
BEGIN:VEVENT
DTSTART;TZID=America/New_York:20260726T143000
DTEND;TZID=America/New_York:20260726T170000
DTSTAMP:20260424T101709
CREATED:20260113T195415Z
LAST-MODIFIED:20260410T131146Z
UID:10003919-1785076200-1785085200@athensdeland.com
SUMMARY:Sister Act
DESCRIPTION:Music by Alan Menken\nLyrics by Glenn Slater\nBook by Cheri Steinkellner & Bill Steinkellner \nAdditional Book Material by Douglas Carte Beane \nBased on the Touchstone Pictures Motion Picture “Sister Act” written by Joseph Howard \nFrom Disco to Divine. \nWhen disco diva Deloris Van Cartier witnesses a crime\, she is placed in protective custody in the one place no one would think to look: a convent. Forced to trade sequins for a habit\, Deloris struggles to adapt to the strict routine and clashes with the no-nonsense Mother Superior. But when she’s asked to help the struggling choir\, Deloris brings her own flair\, confidence\, and powerhouse vocals to the group—revitalizing the church and energizing the community around her. As the choir’s popularity grows\, so does the danger\, leading to a joyful\, high-stakes finale that celebrates friendship\, courage\, and “sisterhood.” \nBased on the hit 1992 film\, Sister Act is a high-energy musical comedy that combines infectious music\, big laughs\, and an uplifting story about finding your voice in unexpected places. \nPresented through special arrangement with Music Theatre International (MTI). All Authorized performance materials are also supplied by MTI. www.mtishows.com \nRating: PG (thematic elements and mild language)\nRun time: Approximately 2 hours and 30 minutes\, including a 15-minute intermission \nBUY TICKETS NOW \nSPECIAL ASL/ENGLISH INTERPRETED PERFORMANCE ON  SATURDAY 7/25 at 7:30 PM \nSPECIAL AUDIO DESCRIBED PERFORMANCE ON SUNDAY 7/26 at 2:30 PM \nTO PURCHASE TICKETS IN THE SECTION WITH THE BEST SIGHT LINES TO THE INTERPRETERS\, PLEASE CONTACT THE BOX OFFICE EITHER AT 386-736-1500 OR EMAIL US AT BOXOFFICE@ATHENSDELAND.COM \n  \n\nReserved Seating\nPreferred $38 (Row A-F\, Orchestra & CC-DD Center Balcony) \nAdult $33 – Senior $29\nStudent/Child $12 – Groups of 8 or more $26\nA $5.00 per ticket Processing charge is added to all purchases. \nAs the historic Athens Theatre does not have an elevator\, the balcony is not accessible to anyone with a wheelchair or walker. \nAll Patrons with special needs can contact the Box Office at 386-736-1500 for our wheelchair/walker accessible seating. \nSpecial Box Seat Package \nCatered exclusively by Joe Hearn Events\, The Elusive Grape\, Pat & Toni’s Sweet Things\, and 3 Smart Cookies. \n$500 – Price includes: \n\nUp to 11 seats in the Box Seat and Balcony area\nChoice of Red/White Wine\nCheese Platter\nChocolate Covered Strawberries\nCookies\n\nPlease contact the Box Office at 386-736-1500\, for this Package.\n(a $5 per seat processing fee is added to the cost of these packages) \n  \n 
URL:https://athensdeland.com/event/sister-act/2026-07-26/
LOCATION:Athens Theatre\, 124 N Florida Ave\, DeLand\, FL\, 32720\, United States
CATEGORIES:Athens Theatre Company Productions
ATTACH;FMTTYPE=image/png:https://athensdeland.com/wp-content/uploads/2026/01/SisterAct_Web.png
END:VEVENT
END:VCALENDAR