BEGIN:VCALENDAR
VERSION:2.0
PRODID:-//Athens Theatre | Deland, Florida - ECPv6.15.17.1//NONSGML v1.0//EN
CALSCALE:GREGORIAN
METHOD:PUBLISH
X-ORIGINAL-URL:https://athensdeland.com
X-WR-CALDESC:Events for Athens Theatre | Deland, Florida
REFRESH-INTERVAL;VALUE=DURATION:PT1H
X-Robots-Tag:noindex
X-PUBLISHED-TTL:PT1H
BEGIN:VTIMEZONE
TZID:America/New_York
BEGIN:DAYLIGHT
TZOFFSETFROM:-0500
TZOFFSETTO:-0400
TZNAME:EDT
DTSTART:20250309T070000
END:DAYLIGHT
BEGIN:STANDARD
TZOFFSETFROM:-0400
TZOFFSETTO:-0500
TZNAME:EST
DTSTART:20251102T060000
END:STANDARD
BEGIN:DAYLIGHT
TZOFFSETFROM:-0500
TZOFFSETTO:-0400
TZNAME:EDT
DTSTART:20260308T070000
END:DAYLIGHT
BEGIN:STANDARD
TZOFFSETFROM:-0400
TZOFFSETTO:-0500
TZNAME:EST
DTSTART:20261101T060000
END:STANDARD
BEGIN:DAYLIGHT
TZOFFSETFROM:-0500
TZOFFSETTO:-0400
TZNAME:EDT
DTSTART:20270314T070000
END:DAYLIGHT
BEGIN:STANDARD
TZOFFSETFROM:-0400
TZOFFSETTO:-0500
TZNAME:EST
DTSTART:20271107T060000
END:STANDARD
END:VTIMEZONE
BEGIN:VEVENT
DTSTART;TZID=America/New_York:20260904T193000
DTEND;TZID=America/New_York:20260904T213000
DTSTAMP:20260424T153429
CREATED:20190829T194438Z
LAST-MODIFIED:20260211T204223Z
UID:10000179-1788550200-1788557400@athensdeland.com
SUMMARY:PURE ZEPPELIN EXPERIENCE (A Tribute to Led Zeppelin)
DESCRIPTION:Anyone lucky enough to see Led Zeppelin in concert in the ‘70s came away changed – visceral and tough\, the music entered your body\, through bone and muscle\, and shook you to the very core. The Hammer of the Gods has been passed to The Pure Zeppelin Experience\, a band that reproduces a full Zeppelin concert\, the madness and the majesty\, to thrilling\, chest-pounding effect. \nIt’s an explosive rock ‘n’ roll event! From “Dazed and Confused” and “Ramble On” to “Over the Hills and Far Away” and “Kashmir\,” The Pure Zeppelin Experience is the musical\, physical and spiritual manifestation of the great Led Zeppelin\, for our times. \n\nRESERVE SEATING\nPreferred Reserved Seating $40\n1st. 6 rows Orchestra & 2 Rows Center Balcony \nGeneral Reserved Seating $37 \nA $5.00 per ticket Processing charge is added to all purchases and we collect a 6.5% State and County Sales Tax \nDue to the fact that the Historic Athens Theatre does not have an elevator to the balcony. The balcony is not accessible to anyone with a wheelchair or walker. \nAll Patrons with special needs can contact the Box Office at 386-736-1500 for our wheelchair/walker accessible seating. \n\nSPECIAL BOX SEAT PACKAGE\nBOX SEATS AVAILABLE\n6 SEATS PER BOX SEAT AREA $300\nPLEASE CONTACT THE BOX OFFICE AT 386-736-1500
URL:https://athensdeland.com/event/a-tribute-to-led-zeppelin/
LOCATION:FL
CATEGORIES:Concert/Performances/Events
ATTACH;FMTTYPE=image/png:https://athensdeland.com/wp-content/uploads/2019/08/Zeppelin-2026_Web-2.png
END:VEVENT
BEGIN:VEVENT
DTSTART;TZID=America/New_York:20260905T193000
DTEND;TZID=America/New_York:20260905T210000
DTSTAMP:20260424T153429
CREATED:20251028T191911Z
LAST-MODIFIED:20251028T191911Z
UID:10003701-1788636600-1788642000@athensdeland.com
SUMMARY:Abacab – The Music of Genesis\, Phil Collins\, and Peter Gabriel
DESCRIPTION:From Charlotte NC\, Abacab was formed when vocalist/drummer Pete Lents\, bassist/rhythm guitarist Cliff Stankiewicz\, keyboardist/guitarist Dan Vitco\, lead guitarist James Nelson\, and drummer Matthew Hedrick came together with a common goal to keep the music of Genesis alive. Abacab pays tribute to one of the most iconic bands of the 20th century\, including the solo hits of Phil Collins and Peter Gabriel. From progressive rock pioneers of the 70’s\, to pop icons of the 80’s\, this is Abacab The Music of Genesis\, Phil Collins\, and Peter Gabriel! \n\nRESERVED SEATING \nPreferred Reserved Seating $401st. 6 rows Orchestra & 2 Rows Center Balcony \nGeneral Reserved Seating $35 \nA $5.00 per ticket Processing charge is added to all purchases and we collect a 6.5% State and County Sales Tax \nDue to the fact that the Historic Athens Theatre does not have an elevator to the balcony. The balcony is not accessible to anyone with a wheelchair or walker. \nAll Patrons with special needs can contact the Box Office at 386-736-1500 for our wheelchair/walker accessible seating. \n\n\n\n\n\nSPECIAL BOX SEAT PACKAGE \nBOX SEATS AVAILABLE6 SEATS PER BOX SEAT AREA $300PLEASE CONTACT THE BOX OFFICE AT 386-736-1500
URL:https://athensdeland.com/event/abacab-the-music-of-genesis-phil-collins-and-peter-gabriel/
LOCATION:FL
ATTACH;FMTTYPE=image/png:https://athensdeland.com/wp-content/uploads/2025/10/ABACAB_Web_2026.png
END:VEVENT
END:VCALENDAR