BEGIN:VCALENDAR
VERSION:2.0
PRODID:-//Athens Theatre | Deland, Florida - ECPv6.15.17.1//NONSGML v1.0//EN
CALSCALE:GREGORIAN
METHOD:PUBLISH
X-ORIGINAL-URL:https://athensdeland.com
X-WR-CALDESC:Events for Athens Theatre | Deland, Florida
REFRESH-INTERVAL;VALUE=DURATION:PT1H
X-Robots-Tag:noindex
X-PUBLISHED-TTL:PT1H
BEGIN:VTIMEZONE
TZID:America/New_York
BEGIN:DAYLIGHT
TZOFFSETFROM:-0500
TZOFFSETTO:-0400
TZNAME:EDT
DTSTART:20250309T070000
END:DAYLIGHT
BEGIN:STANDARD
TZOFFSETFROM:-0400
TZOFFSETTO:-0500
TZNAME:EST
DTSTART:20251102T060000
END:STANDARD
BEGIN:DAYLIGHT
TZOFFSETFROM:-0500
TZOFFSETTO:-0400
TZNAME:EDT
DTSTART:20260308T070000
END:DAYLIGHT
BEGIN:STANDARD
TZOFFSETFROM:-0400
TZOFFSETTO:-0500
TZNAME:EST
DTSTART:20261101T060000
END:STANDARD
BEGIN:DAYLIGHT
TZOFFSETFROM:-0500
TZOFFSETTO:-0400
TZNAME:EDT
DTSTART:20270314T070000
END:DAYLIGHT
BEGIN:STANDARD
TZOFFSETFROM:-0400
TZOFFSETTO:-0500
TZNAME:EST
DTSTART:20271107T060000
END:STANDARD
END:VTIMEZONE
BEGIN:VEVENT
DTSTART;TZID=America/New_York:20260930T193000
DTEND;TZID=America/New_York:20260930T210000
DTSTAMP:20260424T215046
CREATED:20251204T170648Z
LAST-MODIFIED:20251204T172032Z
UID:10003905-1790796600-1790802000@athensdeland.com
SUMMARY:LOVESONG The Cure Tribute:
DESCRIPTION:LOVESONG The Cure Tribute: A Captivating Celebration of an Iconic Legacy \nLOVESONG The Cure Tribute isn’t just a band – it’s a time machine for fans of the legendary pioneers of post-punk and gothic rock. Capturing the essence of The Cure’s unmistakable sound and aesthetic\, LOVESONG delivers a fully immersive concert experience that celebrates the depth\, drama\, and emotional power of the original band’s music. \nLed by frontman Rusty Wilmot\, who channels the voice\, look\, and presence of Robert Smith with uncanny precision\, LOVESONG transports audiences through a setlist that spans decades. From chart-toppers like “Friday I’m In Love\,” “Lovesong\,” and “Just Like Heaven\,” to cult favorites and deep cuts cherished by longtime fans\, every performance is a heartfelt tribute to the music that defined a generation and continues to resonate today. \nWhat sets LOVESONG apart is their dedication to detail\, not only in sound but in visuals\, atmosphere\, and emotional authenticity. Concert-goers are treated to stunning recreations of The Cure’s most memorable performances\, complete with video projections and immersive lighting design that heightens the nostalgic experience. \nAs an internationally touring act\, LOVESONG has built a passionate following and continues to draw crowds from coast to coast. Whether you’re reliving your youth or discovering The Cure’s magic for the first time\, LOVESONG offers an unforgettable night of music\, emotion\, and timeless alternative energy. \nFor fans of The Cure\, LOVESONG isn’t just a concert – it’s a celebration of Robert Smith and his decades of timeless music. \n  \n\nRESERVE SEATING\nPreferred Reserved Seating $40\n1st. 6 rows Orchestra & 2 Rows Center Balcony \nGeneral Reserved Seating $35 \nA $5.00 per ticket Processing charge is added to all purchases and we collect a 6.5% State and County Sales Tax \nDue to the fact that the Historic Athens Theatre does not have an elevator to the balcony. The balcony is not accessible to anyone with a wheelchair or walker. \nAll Patrons with special needs can contact the Box Office at 386-736-1500 for our wheelchair/walker accessible seating. \n\nSPECIAL BOX SEAT PACKAGE\nBOX SEATS AVAILABLE\n6 SEATS PER BOX SEAT AREA $270\nPLEASE CONTACT THE BOX OFFICE AT 386-736-1500
URL:https://athensdeland.com/event/lovesong-the-cure-tribute/
LOCATION:FL
ATTACH;FMTTYPE=image/png:https://athensdeland.com/wp-content/uploads/2025/12/TheCure_2026_Web-1.png
END:VEVENT
BEGIN:VEVENT
DTSTART;TZID=America/New_York:20261001T193000
DTEND;TZID=America/New_York:20261001T213000
DTSTAMP:20260424T215046
CREATED:20260113T201418Z
LAST-MODIFIED:20260410T131348Z
UID:10003931-1790883000-1790890200@athensdeland.com
SUMMARY:The Addams Family
DESCRIPTION:Music and Lyrics by Andrew Lippa\nBook by Marshall Brickman & Rick Elice \nOrchestrations by Larry Hochman \nBased on Characters Created by Charles Addams \nOriginally produced on Broadway by Stuart Oken\, Roy Furman\, Michael Leavitt\, Five Cent Productions\, Stephen Schuler\, Decca Theatricals\, Scott M. Delman\, Stuart Ditsky\, Terry Allen Kramer\, Stephanie P. McClelland\, James L. Nederlander\, Eva Price\, Jam Theatricals/Mary LuRoffe\, Pittsburgh CLO/Gutterman-Swinsky\, Vivek Tiwary/Gary Kaplan\, The Weinstein Company/Clarence\, LLC\, Adam Zotovich/Tribe \nTheatricals; By Special Arrangement with Elephant Eye Theatrical \nLove is strange. Family is stranger. \nThe Addams Family dishes up a gloriously twisted family comedy built around every parent’s worst nightmare—especially Gomez Addams’. Wednesday\, the Addams family’s most delightfully unsettling member has grown up and fallen in love with a sweet\, smart young man from a painfully normal family her parents have never met. Worse still\, she confides in her father and demands absolute secrecy from Morticia\, leaving Gomez to attempt the impossible: keeping a secret from his beloved wife. When both families gather for one spectacularly awkward dinner\, secrets spill\, chaos erupts\, and the Addams clan is forced to confront love\, change\, and what it really means to be “normal.” \nPresented through special arrangement with Theatrical Rights Worldwide \nRating: PG-13 (dark humor and innuendo)\nRun time: Approximately 2 hours\, including a 15-minute intermission \nBUY TICKETS NOW \nSPECIAL ASL/ENGLISH INTERPRETED PERFORMANCE ON SATURDAY 10/3 at 7:30 PM \nSPECIAL AUDIO DESCRIBED PERFORMANCE ON SUNDAY 10/4 at 2:30 PM \nTO PURCHASE TICKETS IN THE SECTION WITH THE BEST SIGHT LINES TO THE INTERPRETERS\, PLEASE CONTACT THE BOX OFFICE EITHER AT 386-736-1500 OR EMAIL US AT BOXOFFICE@ATHENSDELAND.COM \n  \n\nReserved Seating\nPreferred $38 (Row A-F\, Orchestra & CC-DD Center Balcony) \nAdult $33 – Senior $29\nStudent/Child $12 – Groups of 8 or more $26\nA $5.00 per ticket Processing charge is added to all purchases. \nAs the historic Athens Theatre does not have an elevator\, the balcony is not accessible to anyone with a wheelchair or walker. \nAll Patrons with special needs can contact the Box Office at 386-736-1500 for our wheelchair/walker accessible seating. \nSpecial Box Seat Package \nCatered exclusively by Joe Hearn Events\, The Elusive Grape\, Pat & Toni’s Sweet Things\, and 3 Smart Cookies. \n$500 – Price includes: \n\nUp to 11 seats in the Box Seat and Balcony area\nChoice of Red/White Wine\nCheese Platter\nChocolate Covered Strawberries\nCookies\n\nPlease contact the Box Office at 386-736-1500\, for this Package.\n(a $5 per seat processing fee is added to the cost of these packages)
URL:https://athensdeland.com/event/the-adams-family/2026-10-01/
LOCATION:FL
CATEGORIES:Athens Theatre Company Productions
ATTACH;FMTTYPE=image/png:https://athensdeland.com/wp-content/uploads/2026/01/TheAddamsFamily_Web-3.png
END:VEVENT
BEGIN:VEVENT
DTSTART;TZID=America/New_York:20261002T193000
DTEND;TZID=America/New_York:20261002T213000
DTSTAMP:20260424T215046
CREATED:20260113T201418Z
LAST-MODIFIED:20260410T131348Z
UID:10003932-1790969400-1790976600@athensdeland.com
SUMMARY:The Addams Family
DESCRIPTION:Music and Lyrics by Andrew Lippa\nBook by Marshall Brickman & Rick Elice \nOrchestrations by Larry Hochman \nBased on Characters Created by Charles Addams \nOriginally produced on Broadway by Stuart Oken\, Roy Furman\, Michael Leavitt\, Five Cent Productions\, Stephen Schuler\, Decca Theatricals\, Scott M. Delman\, Stuart Ditsky\, Terry Allen Kramer\, Stephanie P. McClelland\, James L. Nederlander\, Eva Price\, Jam Theatricals/Mary LuRoffe\, Pittsburgh CLO/Gutterman-Swinsky\, Vivek Tiwary/Gary Kaplan\, The Weinstein Company/Clarence\, LLC\, Adam Zotovich/Tribe \nTheatricals; By Special Arrangement with Elephant Eye Theatrical \nLove is strange. Family is stranger. \nThe Addams Family dishes up a gloriously twisted family comedy built around every parent’s worst nightmare—especially Gomez Addams’. Wednesday\, the Addams family’s most delightfully unsettling member has grown up and fallen in love with a sweet\, smart young man from a painfully normal family her parents have never met. Worse still\, she confides in her father and demands absolute secrecy from Morticia\, leaving Gomez to attempt the impossible: keeping a secret from his beloved wife. When both families gather for one spectacularly awkward dinner\, secrets spill\, chaos erupts\, and the Addams clan is forced to confront love\, change\, and what it really means to be “normal.” \nPresented through special arrangement with Theatrical Rights Worldwide \nRating: PG-13 (dark humor and innuendo)\nRun time: Approximately 2 hours\, including a 15-minute intermission \nBUY TICKETS NOW \nSPECIAL ASL/ENGLISH INTERPRETED PERFORMANCE ON SATURDAY 10/3 at 7:30 PM \nSPECIAL AUDIO DESCRIBED PERFORMANCE ON SUNDAY 10/4 at 2:30 PM \nTO PURCHASE TICKETS IN THE SECTION WITH THE BEST SIGHT LINES TO THE INTERPRETERS\, PLEASE CONTACT THE BOX OFFICE EITHER AT 386-736-1500 OR EMAIL US AT BOXOFFICE@ATHENSDELAND.COM \n  \n\nReserved Seating\nPreferred $38 (Row A-F\, Orchestra & CC-DD Center Balcony) \nAdult $33 – Senior $29\nStudent/Child $12 – Groups of 8 or more $26\nA $5.00 per ticket Processing charge is added to all purchases. \nAs the historic Athens Theatre does not have an elevator\, the balcony is not accessible to anyone with a wheelchair or walker. \nAll Patrons with special needs can contact the Box Office at 386-736-1500 for our wheelchair/walker accessible seating. \nSpecial Box Seat Package \nCatered exclusively by Joe Hearn Events\, The Elusive Grape\, Pat & Toni’s Sweet Things\, and 3 Smart Cookies. \n$500 – Price includes: \n\nUp to 11 seats in the Box Seat and Balcony area\nChoice of Red/White Wine\nCheese Platter\nChocolate Covered Strawberries\nCookies\n\nPlease contact the Box Office at 386-736-1500\, for this Package.\n(a $5 per seat processing fee is added to the cost of these packages)
URL:https://athensdeland.com/event/the-adams-family/2026-10-02/
LOCATION:FL
CATEGORIES:Athens Theatre Company Productions
ATTACH;FMTTYPE=image/png:https://athensdeland.com/wp-content/uploads/2026/01/TheAddamsFamily_Web-3.png
END:VEVENT
BEGIN:VEVENT
DTSTART;TZID=America/New_York:20261003T193000
DTEND;TZID=America/New_York:20261003T213000
DTSTAMP:20260424T215046
CREATED:20260113T201418Z
LAST-MODIFIED:20260410T131348Z
UID:10003933-1791055800-1791063000@athensdeland.com
SUMMARY:The Addams Family
DESCRIPTION:Music and Lyrics by Andrew Lippa\nBook by Marshall Brickman & Rick Elice \nOrchestrations by Larry Hochman \nBased on Characters Created by Charles Addams \nOriginally produced on Broadway by Stuart Oken\, Roy Furman\, Michael Leavitt\, Five Cent Productions\, Stephen Schuler\, Decca Theatricals\, Scott M. Delman\, Stuart Ditsky\, Terry Allen Kramer\, Stephanie P. McClelland\, James L. Nederlander\, Eva Price\, Jam Theatricals/Mary LuRoffe\, Pittsburgh CLO/Gutterman-Swinsky\, Vivek Tiwary/Gary Kaplan\, The Weinstein Company/Clarence\, LLC\, Adam Zotovich/Tribe \nTheatricals; By Special Arrangement with Elephant Eye Theatrical \nLove is strange. Family is stranger. \nThe Addams Family dishes up a gloriously twisted family comedy built around every parent’s worst nightmare—especially Gomez Addams’. Wednesday\, the Addams family’s most delightfully unsettling member has grown up and fallen in love with a sweet\, smart young man from a painfully normal family her parents have never met. Worse still\, she confides in her father and demands absolute secrecy from Morticia\, leaving Gomez to attempt the impossible: keeping a secret from his beloved wife. When both families gather for one spectacularly awkward dinner\, secrets spill\, chaos erupts\, and the Addams clan is forced to confront love\, change\, and what it really means to be “normal.” \nPresented through special arrangement with Theatrical Rights Worldwide \nRating: PG-13 (dark humor and innuendo)\nRun time: Approximately 2 hours\, including a 15-minute intermission \nBUY TICKETS NOW \nSPECIAL ASL/ENGLISH INTERPRETED PERFORMANCE ON SATURDAY 10/3 at 7:30 PM \nSPECIAL AUDIO DESCRIBED PERFORMANCE ON SUNDAY 10/4 at 2:30 PM \nTO PURCHASE TICKETS IN THE SECTION WITH THE BEST SIGHT LINES TO THE INTERPRETERS\, PLEASE CONTACT THE BOX OFFICE EITHER AT 386-736-1500 OR EMAIL US AT BOXOFFICE@ATHENSDELAND.COM \n  \n\nReserved Seating\nPreferred $38 (Row A-F\, Orchestra & CC-DD Center Balcony) \nAdult $33 – Senior $29\nStudent/Child $12 – Groups of 8 or more $26\nA $5.00 per ticket Processing charge is added to all purchases. \nAs the historic Athens Theatre does not have an elevator\, the balcony is not accessible to anyone with a wheelchair or walker. \nAll Patrons with special needs can contact the Box Office at 386-736-1500 for our wheelchair/walker accessible seating. \nSpecial Box Seat Package \nCatered exclusively by Joe Hearn Events\, The Elusive Grape\, Pat & Toni’s Sweet Things\, and 3 Smart Cookies. \n$500 – Price includes: \n\nUp to 11 seats in the Box Seat and Balcony area\nChoice of Red/White Wine\nCheese Platter\nChocolate Covered Strawberries\nCookies\n\nPlease contact the Box Office at 386-736-1500\, for this Package.\n(a $5 per seat processing fee is added to the cost of these packages)
URL:https://athensdeland.com/event/the-adams-family/2026-10-03/
LOCATION:FL
CATEGORIES:Athens Theatre Company Productions
ATTACH;FMTTYPE=image/png:https://athensdeland.com/wp-content/uploads/2026/01/TheAddamsFamily_Web-3.png
END:VEVENT
BEGIN:VEVENT
DTSTART;TZID=America/New_York:20261004T143000
DTEND;TZID=America/New_York:20261004T163000
DTSTAMP:20260424T215046
CREATED:20260113T201418Z
LAST-MODIFIED:20260410T131348Z
UID:10003934-1791124200-1791131400@athensdeland.com
SUMMARY:The Addams Family
DESCRIPTION:Music and Lyrics by Andrew Lippa\nBook by Marshall Brickman & Rick Elice \nOrchestrations by Larry Hochman \nBased on Characters Created by Charles Addams \nOriginally produced on Broadway by Stuart Oken\, Roy Furman\, Michael Leavitt\, Five Cent Productions\, Stephen Schuler\, Decca Theatricals\, Scott M. Delman\, Stuart Ditsky\, Terry Allen Kramer\, Stephanie P. McClelland\, James L. Nederlander\, Eva Price\, Jam Theatricals/Mary LuRoffe\, Pittsburgh CLO/Gutterman-Swinsky\, Vivek Tiwary/Gary Kaplan\, The Weinstein Company/Clarence\, LLC\, Adam Zotovich/Tribe \nTheatricals; By Special Arrangement with Elephant Eye Theatrical \nLove is strange. Family is stranger. \nThe Addams Family dishes up a gloriously twisted family comedy built around every parent’s worst nightmare—especially Gomez Addams’. Wednesday\, the Addams family’s most delightfully unsettling member has grown up and fallen in love with a sweet\, smart young man from a painfully normal family her parents have never met. Worse still\, she confides in her father and demands absolute secrecy from Morticia\, leaving Gomez to attempt the impossible: keeping a secret from his beloved wife. When both families gather for one spectacularly awkward dinner\, secrets spill\, chaos erupts\, and the Addams clan is forced to confront love\, change\, and what it really means to be “normal.” \nPresented through special arrangement with Theatrical Rights Worldwide \nRating: PG-13 (dark humor and innuendo)\nRun time: Approximately 2 hours\, including a 15-minute intermission \nBUY TICKETS NOW \nSPECIAL ASL/ENGLISH INTERPRETED PERFORMANCE ON SATURDAY 10/3 at 7:30 PM \nSPECIAL AUDIO DESCRIBED PERFORMANCE ON SUNDAY 10/4 at 2:30 PM \nTO PURCHASE TICKETS IN THE SECTION WITH THE BEST SIGHT LINES TO THE INTERPRETERS\, PLEASE CONTACT THE BOX OFFICE EITHER AT 386-736-1500 OR EMAIL US AT BOXOFFICE@ATHENSDELAND.COM \n  \n\nReserved Seating\nPreferred $38 (Row A-F\, Orchestra & CC-DD Center Balcony) \nAdult $33 – Senior $29\nStudent/Child $12 – Groups of 8 or more $26\nA $5.00 per ticket Processing charge is added to all purchases. \nAs the historic Athens Theatre does not have an elevator\, the balcony is not accessible to anyone with a wheelchair or walker. \nAll Patrons with special needs can contact the Box Office at 386-736-1500 for our wheelchair/walker accessible seating. \nSpecial Box Seat Package \nCatered exclusively by Joe Hearn Events\, The Elusive Grape\, Pat & Toni’s Sweet Things\, and 3 Smart Cookies. \n$500 – Price includes: \n\nUp to 11 seats in the Box Seat and Balcony area\nChoice of Red/White Wine\nCheese Platter\nChocolate Covered Strawberries\nCookies\n\nPlease contact the Box Office at 386-736-1500\, for this Package.\n(a $5 per seat processing fee is added to the cost of these packages)
URL:https://athensdeland.com/event/the-adams-family/2026-10-04/
LOCATION:FL
CATEGORIES:Athens Theatre Company Productions
ATTACH;FMTTYPE=image/png:https://athensdeland.com/wp-content/uploads/2026/01/TheAddamsFamily_Web-3.png
END:VEVENT
END:VCALENDAR